Data-Validate-Email v0.06 Perl 5 v5.8.2 i686-linux-thread-multi
- Status
- Pass
- From
- Nigel Horne
- Dist
-
Data-Validate-Email v0.06
- Platform
- Perl 5 v5.8.2 i686-linux-thread-multi
- Date
- 2017-10-29 17:13:19
- ID
- 75d398d8-bccc-11e7-a2a8-d0c13ad602b4
This distribution has been tested as part of the CPAN Testers
project, supporting the Perl programming language. See
http://wiki.cpantesters.org/ for more information or email
questions to cpan-testers-discuss@perl.org
--
Dear Richard Sonnen,
This is a computer-generated report for Data-Validate-Email-0.06
on perl 5.8.2, created by CPAN-Reporter-1.2017.
Thank you for uploading your work to CPAN. Congratulations!
All tests were successful.
Sections of this report:
* Tester comments
* Program output
* Prerequisites
* Environment and other context
------------------------------
TESTER COMMENTS
------------------------------
Additional comments from tester:
this report is from an automated smoke testing program
and was not reviewed by a human for accuracy
------------------------------
PROGRAM OUTPUT
------------------------------
Output from '/usr/bin/make test':
PERL_DL_NONLAZY=1 "/home/njh/perl5/perlbrew/perls/perl-5.8.2/bin/perl" "-MExtUtils::Command::MM" "-MTest::Harness" "-e" "undef *Test::Harness::Switches; test_harness(0, 'blib/lib', 'blib/arch')" t/*.t
t/is_domain.t ........ ok
t/is_email.t ......... ok
t/is_email_rfc822.t .. ok
t/is_username.t ...... ok
All tests successful.
Files=4, Tests=51, 0 wallclock secs ( 0.04 usr 0.00 sys + 0.14 cusr 0.03 csys = 0.21 CPU)
Result: PASS
------------------------------
PREREQUISITES
------------------------------
Prerequisite modules loaded:
requires:
Module Need Have
---------------------- ---- -----
Data::Validate::Domain 0.04 0.14
Email::Address 0 1.908
build_requires:
Module Need Have
---------------------- ---- -----
ExtUtils::MakeMaker 0 7.18
------------------------------
ENVIRONMENT AND OTHER CONTEXT
------------------------------
Environment variables:
AUTOMATED_TESTING = 1
HARNESS_OPTIONS = j2
LANG = en_US.UTF-8
PATH = /home/njh/perl5/perlbrew/bin:/home/njh/perl5/perlbrew/perls/perl-5.8.2/bin:/home/njh/perl5/perlbrew/bin:/usr/bin:/bin
PERL5LIB = /home/njh/.cpan/build/Email-Address-1.908-1/blib/arch:/home/njh/.cpan/build/Email-Address-1.908-1/blib/lib:/home/njh/.cpan/build/Data-Validate-Domain-0.14-1/blib/arch:/home/njh/.cpan/build/Data-Validate-Domain-0.14-1/blib/lib:/home/njh/.cpan/build/Test2-Suite-0.000083-1/blib/arch:/home/njh/.cpan/build/Test2-Suite-0.000083-1/blib/lib:/home/njh/.cpan/build/Term-Table-0.012-1/blib/arch:/home/njh/.cpan/build/Term-Table-0.012-1/blib/lib:/home/njh/.cpan/build/Sub-Info-0.002-1/blib/arch:/home/njh/.cpan/build/Sub-Info-0.002-1/blib/lib:/home/njh/.cpan/build/Test-Simple-1.302106-1/blib/arch:/home/njh/.cpan/build/Test-Simple-1.302106-1/blib/lib:/home/njh/.cpan/build/Importer-0.024-1/blib/arch:/home/njh/.cpan/build/Importer-0.024-1/blib/lib:/home/njh/.cpan/build/Net-Domain-TLD-1.75-1/blib/arch:/home/njh/.cpan/build/Net-Domain-TLD-1.75-1/blib/lib
PERL5OPT =
PERL5_CPANPLUS_IS_RUNNING = 12092
PERL5_CPAN_IS_RUNNING = 12092
PERLBREW_BASHRC_VERSION = 0.73
PERLBREW_HOME = /home/njh/.perlbrew
PERLBREW_LIB =
PERLBREW_MANPATH = /home/njh/perl5/perlbrew/perls/perl-5.8.2/man
PERLBREW_PATH = /home/njh/perl5/perlbrew/bin:/home/njh/perl5/perlbrew/perls/perl-5.8.2/bin
PERLBREW_PERL = perl-5.8.2
PERLBREW_ROOT = /home/njh/perl5/perlbrew
PERLBREW_VERSION = 0.73
PERL_LOCAL_LIB_ROOT =
SHELL = /bin/sh
Perl special variables (and OS-specific diagnostics, for MSWin32):
$^X = /home/njh/perl5/perlbrew/perls/perl-5.8.2/bin/perl
$UID/$EUID = 1000 / 1000
$GID = 1000 1000 108 46 44 30 29 25 24 4
$EGID = 1000 1000 108 46 44 30 29 25 24 4
Perl module toolchain versions installed:
Module Have
------------------- --------
CPAN 2.16
CPAN::Meta 2.150005
Cwd 3.60
ExtUtils::CBuilder 0.280224
ExtUtils::Command 7.18
ExtUtils::Install 1.54
ExtUtils::MakeMaker 7.18
ExtUtils::Manifest 1.70
ExtUtils::ParseXS 3.30
File::Spec 3.60
JSON n/a
JSON::PP 2.27203
Module::Build 0.4216
Module::Signature n/a
Parse::CPAN::Meta 1.4417
Test::Harness 3.35
Test::More 1.302106
YAML 1.23
YAML::Syck 1.30
version 0.9912
--
Summary of my perl5 (revision 5.0 version 8 subversion 2) configuration:
Platform:
osname=linux, osvers=4.2.0-1-686-pae, archname=i686-linux-thread-multi
uname='linux zack 4.2.0-1-686-pae #1 smp debian 4.2.6-1 (2015-11-10) i686 gnulinux '
config_args='-de -Dprefix=/home/njh/perl5/perlbrew/perls/perl-5.8.2 -Duseithreads -Dusemultiplicity -Dusedevel -Accflags= -Aeval:scriptdir=/home/njh/perl5/perlbrew/perls/perl-5.8.2/bin'
hint=recommended, useposix=true, d_sigaction=define
usethreads=define use5005threads=undef useithreads=define usemultiplicity=define
useperlio=define d_sfio=undef uselargefiles=define usesocks=undef
use64bitint=undef use64bitall=undef uselongdouble=undef
usemymalloc=n, bincompat5005=undef
Compiler:
cc='cc', ccflags ='-D_REENTRANT -D_GNU_SOURCE -fno-strict-aliasing -I/usr/local/include -D_LARGEFILE_SOURCE -D_FILE_OFFSET_BITS=64',
optimize='-O2',
cppflags='-D_REENTRANT -D_GNU_SOURCE -fno-strict-aliasing -I/usr/local/include'
ccversion='', gccversion='5.2.1 20151121', gccosandvers=''
intsize=4, longsize=4, ptrsize=4, doublesize=8, byteorder=1234
d_longlong=define, longlongsize=8, d_longdbl=define, longdblsize=12
ivtype='long', ivsize=4, nvtype='double', nvsize=8, Off_t='off_t', lseeksize=8
alignbytes=4, prototype=define
Linker and Libraries:
ld='cc', ldflags =' -L/usr/local/lib'
libpth=/usr/local/lib /lib/i386-linux-gnu /lib/../lib /usr/lib/i386-linux-gnu /usr/lib/../lib /lib /usr/lib
libs=-lnsl -lgdbm -ldb -ldl -lm -lcrypt -lutil -lpthread -lc -lgdbm_compat
perllibs=-lnsl -ldl -lm -lcrypt -lutil -lpthread -lc -lgdbm_compat
libc=libc-2.19.so, so=so, useshrplib=false, libperl=libperl.a
gnulibc_version='2.19'
Dynamic Linking:
dlsrc=dl_dlopen.xs, dlext=so, d_dlsymun=undef, ccdlflags='-rdynamic'
cccdlflags='-fpic', lddlflags='-shared -L/usr/local/lib'
Characteristics of this binary (from libperl):
Compile-time options: MULTIPLICITY USE_ITHREADS USE_LARGE_FILES PERL_IMPLICIT_CONTEXT
Locally applied patches:
Devel::PatchPerl 1.38
Built under linux
Compiled at Nov 24 2015 03:48:15
%ENV:
PERL5LIB="/home/njh/.cpan/build/Email-Address-1.908-1/blib/arch:/home/njh/.cpan/build/Email-Address-1.908-1/blib/lib:/home/njh/.cpan/build/Data-Validate-Domain-0.14-1/blib/arch:/home/njh/.cpan/build/Data-Validate-Domain-0.14-1/blib/lib:/home/njh/.cpan/build/Test2-Suite-0.000083-1/blib/arch:/home/njh/.cpan/build/Test2-Suite-0.000083-1/blib/lib:/home/njh/.cpan/build/Term-Table-0.012-1/blib/arch:/home/njh/.cpan/build/Term-Table-0.012-1/blib/lib:/home/njh/.cpan/build/Sub-Info-0.002-1/blib/arch:/home/njh/.cpan/build/Sub-Info-0.002-1/blib/lib:/home/njh/.cpan/build/Test-Simple-1.302106-1/blib/arch:/home/njh/.cpan/build/Test-Simple-1.302106-1/blib/lib:/home/njh/.cpan/build/Importer-0.024-1/blib/arch:/home/njh/.cpan/build/Importer-0.024-1/blib/lib:/home/njh/.cpan/build/Net-Domain-TLD-1.75-1/blib/arch:/home/njh/.cpan/build/Net-Domain-TLD-1.75-1/blib/lib"
PERL5OPT=""
PERL5_CPANPLUS_IS_RUNNING="12092"
PERL5_CPAN_IS_RUNNING="12092"
PERLBREW_BASHRC_VERSION="0.73"
PERLBREW_HOME="/home/njh/.perlbrew"
PERLBREW_LIB=""
PERLBREW_MANPATH="/home/njh/perl5/perlbrew/perls/perl-5.8.2/man"
PERLBREW_PATH="/home/njh/perl5/perlbrew/bin:/home/njh/perl5/perlbrew/perls/perl-5.8.2/bin"
PERLBREW_PERL="perl-5.8.2"
PERLBREW_ROOT="/home/njh/perl5/perlbrew"
PERLBREW_VERSION="0.73"
PERL_LOCAL_LIB_ROOT=""
@INC:
/home/njh/.cpan/build/Email-Address-1.908-1/blib/arch
/home/njh/.cpan/build/Email-Address-1.908-1/blib/lib
/home/njh/.cpan/build/Data-Validate-Domain-0.14-1/blib/arch
/home/njh/.cpan/build/Data-Validate-Domain-0.14-1/blib/lib
/home/njh/.cpan/build/Test2-Suite-0.000083-1/blib/arch
/home/njh/.cpan/build/Test2-Suite-0.000083-1/blib/lib
/home/njh/.cpan/build/Term-Table-0.012-1/blib/arch
/home/njh/.cpan/build/Term-Table-0.012-1/blib/lib
/home/njh/.cpan/build/Sub-Info-0.002-1/blib/arch
/home/njh/.cpan/build/Sub-Info-0.002-1/blib/lib
/home/njh/.cpan/build/Test-Simple-1.302106-1/blib/arch
/home/njh/.cpan/build/Test-Simple-1.302106-1/blib/lib
/home/njh/.cpan/build/Importer-0.024-1/blib/arch
/home/njh/.cpan/build/Importer-0.024-1/blib/lib
/home/njh/.cpan/build/Net-Domain-TLD-1.75-1/blib/arch
/home/njh/.cpan/build/Net-Domain-TLD-1.75-1/blib/lib
/home/njh/perl5/perlbrew/perls/perl-5.8.2/lib/5.8.2/i686-linux-thread-multi
/home/njh/perl5/perlbrew/perls/perl-5.8.2/lib/5.8.2
/home/njh/perl5/perlbrew/perls/perl-5.8.2/lib/site_perl/5.8.2/i686-linux-thread-multi
/home/njh/perl5/perlbrew/perls/perl-5.8.2/lib/site_perl/5.8.2
/home/njh/perl5/perlbrew/perls/perl-5.8.2/lib/site_perl
.