Promise-XS v0.20 Perl 5 v5.41.5 i86pc-solaris-64
- Status
- Pass
- From
- Carlos Guevara
- Dist
-
Promise-XS v0.20
- Platform
- Perl 5 v5.41.5 i86pc-solaris-64
- Date
- 2024-09-27 09:32:49
- ID
- 75e1454c-7cb3-11ef-be63-81fe39e6fb82
This distribution has been tested as part of the CPAN Testers
project, supporting the Perl programming language. See
http://wiki.cpantesters.org/ for more information or email
questions to cpan-testers-discuss@perl.org
--
Dear Felipe Gasper,
This is a computer-generated report for Promise-XS-0.20
on perl 5.41.5, created by CPAN-Reporter-1.2020.
Thank you for uploading your work to CPAN. Congratulations!
All tests were successful.
Sections of this report:
* Tester comments
* Program output
* Prerequisites
* Environment and other context
------------------------------
TESTER COMMENTS
------------------------------
Additional comments from tester:
this report is from an automated smoke testing program
and was not reviewed by a human for accuracy
------------------------------
PROGRAM OUTPUT
------------------------------
Output from '/usr/bin/make test':
"/export/home/cpan/bin/perl/bin/perl5.41.5" -MExtUtils::Command::MM -e 'cp_nonempty' -- XS.bs blib/arch/auto/Promise/XS/XS.bs 644
PERL_DL_NONLAZY=1 "/export/home/cpan/bin/perl/bin/perl5.41.5" "-MExtUtils::Command::MM" "-MTest::Harness" "-e" "undef *Test::Harness::Switches; test_harness(0, 'blib/lib', 'blib/arch')" t/*.t
t/alias.t ........................ ok
t/anyevent.t ..................... skipped: Can't locate AnyEvent.pm in @INC (you may need to install the AnyEvent module) (@INC entries checked: /export/home/cpan/.cpan/build/Promise-XS-0.20-0/blib/lib /export/home/cpan/.cpan/build/Promise-XS-0.20-0/blib/arch /export/home/cpan/bin/perl/lib/site_perl/5.41.5/i86pc-solaris-64 /export/home/cpan/bin/perl/lib/site_perl/5.41.5 /export/home/cpan/bin/perl/lib/5.41.5/i86pc-solaris-64 /export/home/cpan/bin/perl/lib/5.41.5 .) at t/anyevent.t line 7.
t/aplus.t ........................ skipped: Can't locate AnyEvent.pm in @INC (you may need to install the AnyEvent module) (@INC entries checked: /export/home/cpan/.cpan/build/Promise-XS-0.20-0/blib/lib /export/home/cpan/.cpan/build/Promise-XS-0.20-0/blib/arch /export/home/cpan/bin/perl/lib/site_perl/5.41.5/i86pc-solaris-64 /export/home/cpan/bin/perl/lib/site_perl/5.41.5 /export/home/cpan/bin/perl/lib/5.41.5/i86pc-solaris-64 /export/home/cpan/bin/perl/lib/5.41.5 .) at t/aplus.t line 6.
# Future::AsyncAwait 0.69
Promise::XS::Promise: Unhandled rejection: Late oopsie
Promise::XS::Promise: Unhandled rejection: Oopsie
t/async_await.t .................. ok
t/async_await__several_awaits.t .. ok
t/async_await__simple.t .......... ok
t/async_await_hold_ref.t ......... skipped: No Future::AsyncAwait
# Future::AsyncAwait 0.69
t/async_await_version.t .......... ok
t/await_wait__anyevent.t ......... skipped: CanâÂÂt run test: Can't locate AnyEvent.pm in @INC (you may need to install the AnyEvent module) (@INC entries checked: /export/home/cpan/.cpan/build/Promise-XS-0.20-0/t/lib /export/home/cpan/.cpan/build/Promise-XS-0.20-0/blib/lib /export/home/cpan/.cpan/build/Promise-XS-0.20-0/blib/arch /export/home/cpan/bin/perl/lib/site_perl/5.41.5/i86pc-solaris-64 /export/home/cpan/bin/perl/lib/site_perl/5.41.5 /export/home/cpan/bin/perl/lib/5.41.5/i86pc-solaris-64 /export/home/cpan/bin/perl/lib/5.41.5 .) at (eval 8) line 1.
t/await_wait__ioasync.t .......... ok
t/await_wait__mojo.t ............. ok
t/detect_memory_leaks.t .......... ok
t/finally.t ...................... ok
t/infinite_recursion.t ........... ok
# IO::Async::Loop 0.803
t/ioasync.t ...................... ok
# Mojolicious 9.38
t/mojo.t ......................... ok
t/multi_return.t ................. ok
t/no_leak_stashed_ref.t .......... ok
t/oserror.t ...................... ok
t/promise_all_race.t ............. ok
t/reject_undef.t ................. ok
t/subclass.t ..................... ok
t/sync.t ......................... ok
t/unhandled_rejection.t .......... ok
t/XSPromises.t ................... skipped: Can't locate AnyEvent.pm in @INC (you may need to install the AnyEvent module) (@INC entries checked: /export/home/cpan/.cpan/build/Promise-XS-0.20-0/blib/lib /export/home/cpan/.cpan/build/Promise-XS-0.20-0/blib/arch /export/home/cpan/bin/perl/lib/site_perl/5.41.5/i86pc-solaris-64 /export/home/cpan/bin/perl/lib/site_perl/5.41.5 /export/home/cpan/bin/perl/lib/5.41.5/i86pc-solaris-64 /export/home/cpan/bin/perl/lib/5.41.5 .) at t/XSPromises.t line 6.
All tests successful.
Files=25, Tests=81, 3 wallclock secs ( 0.08 usr 0.06 sys + 2.19 cusr 0.51 csys = 2.83 CPU)
Result: PASS
------------------------------
PREREQUISITES
------------------------------
Prerequisite modules loaded:
build_requires:
Module Need Have
----------------------------- ---- --------
ExtUtils::MakeMaker 0 7.70
File::Temp 0 0.2311
Test::Deep 0 1.204
Test::FailWarnings 0 0.008
Test::More 0 1.302204
configure_requires:
Module Need Have
----------------------------- ---- --------
ExtUtils::MakeMaker::CPANfile 0.09 0.09
------------------------------
ENVIRONMENT AND OTHER CONTEXT
------------------------------
Environment variables:
AUTOMATED_TESTING = 1
DATE_MANIP_TEST_DM5 = 1
LANG = en_US.UTF-8
LC_ALL = C
NONINTERACTIVE_TESTING = 1
NO_NETWORK_TESTING = 1
PATH = /export/home/cpan/bin/perl/bin:/usr/bin:/usr/sbin:/sbin:/opt/ooce/bin:/usr/gnu/bin
PERL5LIB =
PERL5OPT =
PERL5_CPANPLUS_IS_RUNNING = 2605
PERL5_CPAN_IS_RUNNING = 2605
PERL_MM_USE_DEFAULT = 1
PERL_USE_UNSAFE_INC = 1
SHELL = /bin/bash
TERM = screen
Perl special variables (and OS-specific diagnostics, for MSWin32):
$^X = /export/home/cpan/bin/perl/bin/perl5.41.5
$UID/$EUID = 101 / 101
$GID = 1 1
$EGID = 1 1
Perl module toolchain versions installed:
Module Have
------------------- --------
CPAN 2.37
CPAN::Meta 2.150010
Cwd 3.92
ExtUtils::CBuilder 0.280240
ExtUtils::Command 7.70
ExtUtils::Install 2.22
ExtUtils::MakeMaker 7.70
ExtUtils::Manifest 1.75
ExtUtils::ParseXS 3.54
File::Spec 3.93
JSON 4.10
JSON::PP 4.16
Module::Build 0.4234
Module::Signature 0.89
Parse::CPAN::Meta 2.150010
Test2 1.302204
Test::Harness 3.50
Test::More 1.302204
YAML 1.31
YAML::Syck 1.34
version 0.9933
--
Summary of my perl5 (revision 5 version 41 subversion 5) configuration:
Commit id: 78005a324b36e6d063d59b1bf8962e8927462103
Platform:
osname=solaris
osvers=2.11
archname=i86pc-solaris-64
uname='sunos cjg-omniosce 5.11 omnios-r151050-49db1c0a0fe i86pc i386 i86pc '
config_args='-des -Dprefix=/export/home/cpan/bin/perl -Dscriptdir=/export/home/cpan/bin/perl/bin -Dusedevel -Duse64bitall -Dcc=gcc'
hint=recommended
useposix=true
d_sigaction=define
useithreads=undef
usemultiplicity=undef
use64bitint=define
use64bitall=define
uselongdouble=undef
usemymalloc=n
default_inc_excludes_dot=define
Compiler:
cc='gcc'
ccflags ='-m64 -fwrapv -fno-strict-aliasing -pipe -fstack-protector-strong -D_LARGEFILE_SOURCE -D_FILE_OFFSET_BITS=64 -D_FORTIFY_SOURCE=2'
optimize='-O'
cppflags='-m64 -fwrapv -fno-strict-aliasing -pipe -fstack-protector-strong'
ccversion=''
gccversion='13.2.0'
gccosandvers=''
intsize=4
longsize=8
ptrsize=8
doublesize=8
byteorder=12345678
doublekind=3
d_longlong=define
longlongsize=8
d_longdbl=define
longdblsize=16
longdblkind=3
ivtype='long'
ivsize=8
nvtype='double'
nvsize=8
Off_t='off_t'
lseeksize=8
alignbytes=8
prototype=define
Linker and Libraries:
ld='gcc'
ldflags =' -m64 -fstack-protector-strong -L/usr/gnu/lib '
libpth=/opt/gcc-13/lib /usr/lib /usr/gnu/lib /usr/ccs/lib
libs=-lpthread -lsocket -lnsl -ldl -lm -lc
perllibs=-lpthread -lsocket -lnsl -ldl -lm -lc
libc=/lib/libc.so
so=so
useshrplib=true
libperl=libperl.so
gnulibc_version=''
Dynamic Linking:
dlsrc=dl_dlopen.xs
dlext=so
d_dlsymun=undef
ccdlflags=' -R /export/home/cpan/bin/perl/lib/5.41.5/i86pc-solaris-64/CORE'
cccdlflags='-fPIC'
lddlflags=' -shared -m64 -L/usr/gnu/lib -fstack-protector-strong'
Characteristics of this binary (from libperl):
Compile-time options:
HAS_LONG_DOUBLE
HAS_STRTOLD
HAS_TIMES
PERLIO_LAYERS
PERL_COPY_ON_WRITE
PERL_DONT_CREATE_GVSV
PERL_HASH_FUNC_SIPHASH13
PERL_HASH_USE_SBOX32
PERL_MALLOC_WRAP
PERL_OP_PARENT
PERL_PRESERVE_IVUV
PERL_USE_DEVEL
PERL_USE_SAFE_PUTENV
USE_64_BIT_ALL
USE_64_BIT_INT
USE_LARGE_FILES
USE_LOCALE
USE_LOCALE_COLLATE
USE_LOCALE_CTYPE
USE_LOCALE_NUMERIC
USE_LOCALE_TIME
USE_PERLIO
USE_PERL_ATOF
Built under solaris
Compiled at Sep 26 2024 17:37:02
%ENV:
PERL5LIB=""
PERL5OPT=""
PERL5_CPANPLUS_IS_RUNNING="2605"
PERL5_CPAN_IS_RUNNING="2605"
PERL_MM_USE_DEFAULT="1"
PERL_USE_UNSAFE_INC="1"
@INC:
/export/home/cpan/bin/perl/lib/site_perl/5.41.5/i86pc-solaris-64
/export/home/cpan/bin/perl/lib/site_perl/5.41.5
/export/home/cpan/bin/perl/lib/5.41.5/i86pc-solaris-64
/export/home/cpan/bin/perl/lib/5.41.5
.