HTTP-AnyUA v0.904 Perl 5 v5.37.5 x86_64-linux-thread-multi

Status
Pass
From
Andreas J. König (ANDK)
Dist
HTTP-AnyUA v0.904
Platform
Perl 5 v5.37.5 x86_64-linux-thread-multi
Date
2022-10-30 21:04:36
ID
75eee85c-5896-11ed-8a55-fd34315bac92
This distribution has been tested as part of the CPAN Testers
project, supporting the Perl programming language.  See
http://wiki.cpantesters.org/ for more information or email
questions to cpan-testers-discuss@perl.org


--
Dear Charles McGarvey,

This is a computer-generated report for HTTP-AnyUA-0.904
on perl 5.37.5, created by CPAN-Reporter-1.2018.

Thank you for uploading your work to CPAN.  Congratulations!
All tests were successful.

Sections of this report:

    * Tester comments
    * Program output
    * Prerequisites
    * Environment and other context

------------------------------
TESTER COMMENTS
------------------------------

Additional comments from tester:

this report is from an automated smoke testing program
and was not reviewed by a human for accuracy

------------------------------
PROGRAM OUTPUT
------------------------------

Output from '/usr/bin/make test':

PERL_DL_NONLAZY=1 "/tmp/basesmoker-reloperl-Xm5E/bin/perl" "-MExtUtils::Command::MM" "-MTest::Harness" "-e" "undef *Test::Harness::Switches; test_harness(0, 'blib/lib', 'blib/arch')" t/*.t
t/00-compile.t ..................... ok
# 
# Versions for all modules listed in MYMETA.json (including optional ones):
# 
# === Configure Requires ===
# 
#     Module              Want Have
#     ------------------- ---- ----
#     ExtUtils::MakeMaker  any 7.64
# 
# === Build Requires ===
# 
#     Module              Want Have
#     ------------------- ---- ----
#     ExtUtils::MakeMaker  any 7.64
# 
# === Test Requires ===
# 
#     Module              Want     Have
#     ------------------- ---- --------
#     ExtUtils::MakeMaker  any     7.64
#     File::Spec           any     3.87
#     IO::Handle           any     1.51
#     IPC::Open3           any     1.22
#     Test2::API           any 1.302191
#     Test::Exception      any     0.43
#     Test::More           any 1.302191
#     lib                  any     0.65
#     namespace::clean     any     0.27
# 
# === Test Recommends ===
# 
#     Module         Want     Have
#     ---------- -------- --------
#     CPAN::Meta 2.120900 2.150010
# 
# === Test Suggests ===
# 
#     Module          Want    Have
#     --------------- ---- -------
#     AnyEvent::HTTP   any    2.25
#     Furl             any    3.14
#     HTTP::Tiny       any   0.082
#     JSON             any    4.10
#     LWP::UserAgent   any    6.67
#     Mojo::UserAgent  any   undef
#     Net::Curl::Easy  any missing
#     Plack::Runner    any   undef
#     Starman          any  0.4016
# 
# === Runtime Requires ===
# 
#     Module         Want   Have
#     -------------- ---- ------
#     Carp            any   1.54
#     Exporter        any   5.77
#     Fcntl           any   1.15
#     Future          any   0.49
#     MIME::Base64    any   3.16
#     Module::Loader  any   0.04
#     Scalar::Util    any   1.63
#     Time::HiRes     any 1.9771
#     Time::Local     any   1.30
#     bytes           any   1.08
#     parent          any  0.238
#     strict          any   1.12
#     warnings        any   1.59
# 
# === Runtime Recommends ===
# 
#     Module     Want  Have
#     ---------- ---- -----
#     HTTP::Tiny  any 0.082
# 
t/00-report-prereqs.t .............. ok
t/01-new.t ......................... ok
t/02-shortcuts.t ................... ok
t/03-post_form.t ................... ok
    # Can't locate Net/Curl/Easy.pm in @INC (you may need to install the Net::Curl::Easy module) (@INC contains: t/lib /tmp/loop_over_bdir-988756-fAHp0m/HTTP-AnyUA-0.904-0/blib/lib /tmp/loop_over_bdir-988756-fAHp0m/HTTP-AnyUA-0.904-0/blib/arch /tmp/loop_over_bdir-988756-fAHp0m/LCFG-Build-Skeleton-0.5.0-0/blib/arch /tmp/loop_over_bdir-988756-fAHp0m/LCFG-Build-Skeleton-0.5.0-0/blib/lib /home/sand/src/perl/repoperls/installed-perls/host/k93focal/v5.37.4-160-g0649414847/d119/lib/site_perl/5.37.5/x86_64-linux-thread-multi /home/sand/src/perl/repoperls/installed-perls/host/k93focal/v5.37.4-160-g0649414847/d119/lib/site_perl/5.37.5 /home/sand/src/perl/repoperls/installed-perls/host/k93focal/v5.37.4-160-g0649414847/d119/lib/5.37.5/x86_64-linux-thread-multi /home/sand/src/perl/repoperls/installed-perls/host/k93focal/v5.37.4-160-g0649414847/d119/lib/5.37.5 .) at (eval 177) line 1.
t/04-internal-exception.t .......... ok
    # Can't locate Net/Curl/Easy.pm in @INC (you may need to install the Net::Curl::Easy module) (@INC contains: t/lib /tmp/loop_over_bdir-988756-fAHp0m/HTTP-AnyUA-0.904-0/blib/lib /tmp/loop_over_bdir-988756-fAHp0m/HTTP-AnyUA-0.904-0/blib/arch /tmp/loop_over_bdir-988756-fAHp0m/LCFG-Build-Skeleton-0.5.0-0/blib/arch /tmp/loop_over_bdir-988756-fAHp0m/LCFG-Build-Skeleton-0.5.0-0/blib/lib /home/sand/src/perl/repoperls/installed-perls/host/k93focal/v5.37.4-160-g0649414847/d119/lib/site_perl/5.37.5/x86_64-linux-thread-multi /home/sand/src/perl/repoperls/installed-perls/host/k93focal/v5.37.4-160-g0649414847/d119/lib/site_perl/5.37.5 /home/sand/src/perl/repoperls/installed-perls/host/k93focal/v5.37.4-160-g0649414847/d119/lib/5.37.5/x86_64-linux-thread-multi /home/sand/src/perl/repoperls/installed-perls/host/k93focal/v5.37.4-160-g0649414847/d119/lib/5.37.5 .) at (eval 229) line 1, <$pipe> line 6.
t/10-get.t ......................... ok
    # Can't locate Net/Curl/Easy.pm in @INC (you may need to install the Net::Curl::Easy module) (@INC contains: t/lib /tmp/loop_over_bdir-988756-fAHp0m/HTTP-AnyUA-0.904-0/blib/lib /tmp/loop_over_bdir-988756-fAHp0m/HTTP-AnyUA-0.904-0/blib/arch /tmp/loop_over_bdir-988756-fAHp0m/LCFG-Build-Skeleton-0.5.0-0/blib/arch /tmp/loop_over_bdir-988756-fAHp0m/LCFG-Build-Skeleton-0.5.0-0/blib/lib /home/sand/src/perl/repoperls/installed-perls/host/k93focal/v5.37.4-160-g0649414847/d119/lib/site_perl/5.37.5/x86_64-linux-thread-multi /home/sand/src/perl/repoperls/installed-perls/host/k93focal/v5.37.4-160-g0649414847/d119/lib/site_perl/5.37.5 /home/sand/src/perl/repoperls/installed-perls/host/k93focal/v5.37.4-160-g0649414847/d119/lib/5.37.5/x86_64-linux-thread-multi /home/sand/src/perl/repoperls/installed-perls/host/k93focal/v5.37.4-160-g0649414847/d119/lib/5.37.5 .) at (eval 209) line 1, <$pipe> line 6.
t/11-post.t ........................ ok
    # Can't locate Net/Curl/Easy.pm in @INC (you may need to install the Net::Curl::Easy module) (@INC contains: t/lib /tmp/loop_over_bdir-988756-fAHp0m/HTTP-AnyUA-0.904-0/blib/lib /tmp/loop_over_bdir-988756-fAHp0m/HTTP-AnyUA-0.904-0/blib/arch /tmp/loop_over_bdir-988756-fAHp0m/LCFG-Build-Skeleton-0.5.0-0/blib/arch /tmp/loop_over_bdir-988756-fAHp0m/LCFG-Build-Skeleton-0.5.0-0/blib/lib /home/sand/src/perl/repoperls/installed-perls/host/k93focal/v5.37.4-160-g0649414847/d119/lib/site_perl/5.37.5/x86_64-linux-thread-multi /home/sand/src/perl/repoperls/installed-perls/host/k93focal/v5.37.4-160-g0649414847/d119/lib/site_perl/5.37.5 /home/sand/src/perl/repoperls/installed-perls/host/k93focal/v5.37.4-160-g0649414847/d119/lib/5.37.5/x86_64-linux-thread-multi /home/sand/src/perl/repoperls/installed-perls/host/k93focal/v5.37.4-160-g0649414847/d119/lib/5.37.5 .) at (eval 199) line 1, <$pipe> line 6.
t/12-put.t ......................... ok
    # Can't locate Net/Curl/Easy.pm in @INC (you may need to install the Net::Curl::Easy module) (@INC contains: t/lib /tmp/loop_over_bdir-988756-fAHp0m/HTTP-AnyUA-0.904-0/blib/lib /tmp/loop_over_bdir-988756-fAHp0m/HTTP-AnyUA-0.904-0/blib/arch /tmp/loop_over_bdir-988756-fAHp0m/LCFG-Build-Skeleton-0.5.0-0/blib/arch /tmp/loop_over_bdir-988756-fAHp0m/LCFG-Build-Skeleton-0.5.0-0/blib/lib /home/sand/src/perl/repoperls/installed-perls/host/k93focal/v5.37.4-160-g0649414847/d119/lib/site_perl/5.37.5/x86_64-linux-thread-multi /home/sand/src/perl/repoperls/installed-perls/host/k93focal/v5.37.4-160-g0649414847/d119/lib/site_perl/5.37.5 /home/sand/src/perl/repoperls/installed-perls/host/k93focal/v5.37.4-160-g0649414847/d119/lib/5.37.5/x86_64-linux-thread-multi /home/sand/src/perl/repoperls/installed-perls/host/k93focal/v5.37.4-160-g0649414847/d119/lib/5.37.5 .) at (eval 204) line 1, <$pipe> line 6.
t/13-head.t ........................ ok
    # Can't locate Net/Curl/Easy.pm in @INC (you may need to install the Net::Curl::Easy module) (@INC contains: t/lib /tmp/loop_over_bdir-988756-fAHp0m/HTTP-AnyUA-0.904-0/blib/lib /tmp/loop_over_bdir-988756-fAHp0m/HTTP-AnyUA-0.904-0/blib/arch /tmp/loop_over_bdir-988756-fAHp0m/LCFG-Build-Skeleton-0.5.0-0/blib/arch /tmp/loop_over_bdir-988756-fAHp0m/LCFG-Build-Skeleton-0.5.0-0/blib/lib /home/sand/src/perl/repoperls/installed-perls/host/k93focal/v5.37.4-160-g0649414847/d119/lib/site_perl/5.37.5/x86_64-linux-thread-multi /home/sand/src/perl/repoperls/installed-perls/host/k93focal/v5.37.4-160-g0649414847/d119/lib/site_perl/5.37.5 /home/sand/src/perl/repoperls/installed-perls/host/k93focal/v5.37.4-160-g0649414847/d119/lib/5.37.5/x86_64-linux-thread-multi /home/sand/src/perl/repoperls/installed-perls/host/k93focal/v5.37.4-160-g0649414847/d119/lib/5.37.5 .) at (eval 194) line 1, <$pipe> line 6.
t/14-delete.t ...................... ok
    # Can't locate Net/Curl/Easy.pm in @INC (you may need to install the Net::Curl::Easy module) (@INC contains: t/lib /tmp/loop_over_bdir-988756-fAHp0m/HTTP-AnyUA-0.904-0/blib/lib /tmp/loop_over_bdir-988756-fAHp0m/HTTP-AnyUA-0.904-0/blib/arch /tmp/loop_over_bdir-988756-fAHp0m/LCFG-Build-Skeleton-0.5.0-0/blib/arch /tmp/loop_over_bdir-988756-fAHp0m/LCFG-Build-Skeleton-0.5.0-0/blib/lib /home/sand/src/perl/repoperls/installed-perls/host/k93focal/v5.37.4-160-g0649414847/d119/lib/site_perl/5.37.5/x86_64-linux-thread-multi /home/sand/src/perl/repoperls/installed-perls/host/k93focal/v5.37.4-160-g0649414847/d119/lib/site_perl/5.37.5 /home/sand/src/perl/repoperls/installed-perls/host/k93focal/v5.37.4-160-g0649414847/d119/lib/5.37.5/x86_64-linux-thread-multi /home/sand/src/perl/repoperls/installed-perls/host/k93focal/v5.37.4-160-g0649414847/d119/lib/5.37.5 .) at (eval 224) line 1, <$pipe> line 6.
t/15-custom-method.t ............... ok
    # Can't locate Net/Curl/Easy.pm in @INC (you may need to install the Net::Curl::Easy module) (@INC contains: t/lib /tmp/loop_over_bdir-988756-fAHp0m/HTTP-AnyUA-0.904-0/blib/lib /tmp/loop_over_bdir-988756-fAHp0m/HTTP-AnyUA-0.904-0/blib/arch /tmp/loop_over_bdir-988756-fAHp0m/LCFG-Build-Skeleton-0.5.0-0/blib/arch /tmp/loop_over_bdir-988756-fAHp0m/LCFG-Build-Skeleton-0.5.0-0/blib/lib /home/sand/src/perl/repoperls/installed-perls/host/k93focal/v5.37.4-160-g0649414847/d119/lib/site_perl/5.37.5/x86_64-linux-thread-multi /home/sand/src/perl/repoperls/installed-perls/host/k93focal/v5.37.4-160-g0649414847/d119/lib/site_perl/5.37.5 /home/sand/src/perl/repoperls/installed-perls/host/k93focal/v5.37.4-160-g0649414847/d119/lib/5.37.5/x86_64-linux-thread-multi /home/sand/src/perl/repoperls/installed-perls/host/k93focal/v5.37.4-160-g0649414847/d119/lib/5.37.5 .) at (eval 219) line 1, <$pipe> line 6.
t/20-data_callback.t ............... ok
    # Can't locate Net/Curl/Easy.pm in @INC (you may need to install the Net::Curl::Easy module) (@INC contains: t/lib /tmp/loop_over_bdir-988756-fAHp0m/HTTP-AnyUA-0.904-0/blib/lib /tmp/loop_over_bdir-988756-fAHp0m/HTTP-AnyUA-0.904-0/blib/arch /tmp/loop_over_bdir-988756-fAHp0m/LCFG-Build-Skeleton-0.5.0-0/blib/arch /tmp/loop_over_bdir-988756-fAHp0m/LCFG-Build-Skeleton-0.5.0-0/blib/lib /home/sand/src/perl/repoperls/installed-perls/host/k93focal/v5.37.4-160-g0649414847/d119/lib/site_perl/5.37.5/x86_64-linux-thread-multi /home/sand/src/perl/repoperls/installed-perls/host/k93focal/v5.37.4-160-g0649414847/d119/lib/site_perl/5.37.5 /home/sand/src/perl/repoperls/installed-perls/host/k93focal/v5.37.4-160-g0649414847/d119/lib/5.37.5/x86_64-linux-thread-multi /home/sand/src/perl/repoperls/installed-perls/host/k93focal/v5.37.4-160-g0649414847/d119/lib/5.37.5 .) at (eval 219) line 1, <$pipe> line 6.
t/21-basic-auth.t .................. ok
    # Can't locate Net/Curl/Easy.pm in @INC (you may need to install the Net::Curl::Easy module) (@INC contains: t/lib /tmp/loop_over_bdir-988756-fAHp0m/HTTP-AnyUA-0.904-0/blib/lib /tmp/loop_over_bdir-988756-fAHp0m/HTTP-AnyUA-0.904-0/blib/arch /tmp/loop_over_bdir-988756-fAHp0m/LCFG-Build-Skeleton-0.5.0-0/blib/arch /tmp/loop_over_bdir-988756-fAHp0m/LCFG-Build-Skeleton-0.5.0-0/blib/lib /home/sand/src/perl/repoperls/installed-perls/host/k93focal/v5.37.4-160-g0649414847/d119/lib/site_perl/5.37.5/x86_64-linux-thread-multi /home/sand/src/perl/repoperls/installed-perls/host/k93focal/v5.37.4-160-g0649414847/d119/lib/site_perl/5.37.5 /home/sand/src/perl/repoperls/installed-perls/host/k93focal/v5.37.4-160-g0649414847/d119/lib/5.37.5/x86_64-linux-thread-multi /home/sand/src/perl/repoperls/installed-perls/host/k93focal/v5.37.4-160-g0649414847/d119/lib/5.37.5 .) at (eval 275) line 1, <$pipe> line 6.
t/22-redirects.t ................... ok
    # Can't locate Net/Curl/Easy.pm in @INC (you may need to install the Net::Curl::Easy module) (@INC contains: t/lib /tmp/loop_over_bdir-988756-fAHp0m/HTTP-AnyUA-0.904-0/blib/lib /tmp/loop_over_bdir-988756-fAHp0m/HTTP-AnyUA-0.904-0/blib/arch /tmp/loop_over_bdir-988756-fAHp0m/LCFG-Build-Skeleton-0.5.0-0/blib/arch /tmp/loop_over_bdir-988756-fAHp0m/LCFG-Build-Skeleton-0.5.0-0/blib/lib /home/sand/src/perl/repoperls/installed-perls/host/k93focal/v5.37.4-160-g0649414847/d119/lib/site_perl/5.37.5/x86_64-linux-thread-multi /home/sand/src/perl/repoperls/installed-perls/host/k93focal/v5.37.4-160-g0649414847/d119/lib/site_perl/5.37.5 /home/sand/src/perl/repoperls/installed-perls/host/k93focal/v5.37.4-160-g0649414847/d119/lib/5.37.5/x86_64-linux-thread-multi /home/sand/src/perl/repoperls/installed-perls/host/k93focal/v5.37.4-160-g0649414847/d119/lib/5.37.5 .) at (eval 209) line 1, <$pipe> line 6.
t/23-content-coderef.t ............. ok
t/40-middleware-content-length.t ... ok
t/40-middleware-request-headers.t .. ok
t/40-middleware-runtime.t .......... ok
t/50-future-subclass.t ............. ok
All tests successful.
Files=20, Tests=110, 18 wallclock secs ( 0.18 usr  0.04 sys +  7.68 cusr  1.01 csys =  8.91 CPU)
Result: PASS

------------------------------
PREREQUISITES
------------------------------

Prerequisite modules loaded:

requires:

    Module              Need  Have    
    ------------------- ----- --------
    bytes               0     1.08    
    Carp                0     1.54    
    Exporter            0     5.77    
    Fcntl               0     1.15    
    Future              0     0.49    
    MIME::Base64        0     3.16    
    Module::Loader      0     0.04    
    parent              0     0.238   
    perl                5.010 5.037005
    Scalar::Util        0     1.63    
    strict              0     1.12    
    Time::HiRes         0     1.9771  
    Time::Local         0     1.30    
    warnings            0     1.59    

build_requires:

    Module              Need  Have    
    ------------------- ----- --------
    ExtUtils::MakeMaker 0     7.64    
    File::Spec          0     3.87    
    IO::Handle          0     1.51    
    IPC::Open3          0     1.22    
    lib                 0     0.65    
    namespace::clean    0     0.27    
    Test2::API          0     1.302191
    Test::Exception     0     0.43    
    Test::More          0     1.302191

configure_requires:

    Module              Need  Have    
    ------------------- ----- --------
    ExtUtils::MakeMaker 0     7.64    

opt_requires:

    Module              Need  Have    
    ------------------- ----- --------
    HTTP::Tiny          0     0.082   


------------------------------
ENVIRONMENT AND OTHER CONTEXT
------------------------------

Environment variables:

    AUTOMATED_TESTING = 1
    LANG = en_US.UTF-8
    PATH = /home/sand/bin:/usr/local/bin:/usr/local/sbin:/usr/sbin:/usr/bin:/sbin:/bin:/usr/games:/usr/local/games:/snap/bin:/usr/local/perl/bin:/usr/X11/bin
    PERL = /tmp/basesmoker-reloperl-Xm5E/bin/perl
    PERL5LIB = /tmp/loop_over_bdir-988756-fAHp0m/LCFG-Build-Skeleton-0.5.0-0/blib/arch:/tmp/loop_over_bdir-988756-fAHp0m/LCFG-Build-Skeleton-0.5.0-0/blib/lib
    PERL5OPT = 
    PERL5_CPANPLUS_IS_RUNNING = 988765
    PERL5_CPAN_IS_RUNNING = 988765
    PERL_CANARY_STABILITY_NOPROMPT = 1
    PERL_MM_USE_DEFAULT = 1
    PERL_USE_UNSAFE_INC = 1
    SHELL = /usr/bin/zsh
    TERM = screen

Perl special variables (and OS-specific diagnostics, for MSWin32):

    $^X = /tmp/basesmoker-reloperl-Xm5E/bin/perl
    $UID/$EUID = 1005 / 1005
    $GID = 1005 1005
    $EGID = 1005 1005

Perl module toolchain versions installed:

    Module              Have    
    ------------------- --------
    CPAN                2.34    
    CPAN::Meta          2.150010
    Cwd                 3.86    
    ExtUtils::CBuilder  0.280237
    ExtUtils::Command   7.64    
    ExtUtils::Install   2.20    
    ExtUtils::MakeMaker 7.64    
    ExtUtils::Manifest  1.73    
    ExtUtils::ParseXS   3.46    
    File::Spec          3.87    
    JSON                4.10    
    JSON::PP            4.12    
    Module::Build       0.4231  
    Module::Signature   0.88    
    Parse::CPAN::Meta   2.150010
    Test::Harness       3.44    
    Test::More          1.302191
    YAML                1.30    
    YAML::Syck          1.34    
    version             0.9929  


--

Summary of my perl5 (revision 5 version 37 subversion 5) configuration:
  Commit id: 064941484781d9099db0bbe7d6ea22a826df1e15
  Platform:
    osname=linux
    osvers=5.4.0-125-generic
    archname=x86_64-linux-thread-multi
    uname='linux k93focal 5.4.0-125-generic #141-ubuntu smp wed aug 10 13:42:03 utc 2022 x86_64 x86_64 x86_64 gnulinux '
    config_args='-Dprefix=/home/sand/src/perl/repoperls/installed-perls/host/k93focal/v5.37.4-160-g0649414847/d119 -Dmyhostname=k93focal -Dinstallusrbinperl=n -Uversiononly -Dusedevel -des -Ui_db -Dlibswanted=cl pthread socket inet nsl gdbm dbm malloc dl ld sun m crypt sec util c cposix posix ucb BSD gdbm_compat -Duseithreads -Uuselongdouble -DEBUGGING=both'
    hint=recommended
    useposix=true
    d_sigaction=define
    useithreads=define
    usemultiplicity=define
    use64bitint=define
    use64bitall=define
    uselongdouble=undef
    usemymalloc=n
    default_inc_excludes_dot=define
  Compiler:
    cc='cc'
    ccflags ='-D_REENTRANT -D_GNU_SOURCE -fwrapv -DDEBUGGING -fno-strict-aliasing -pipe -fstack-protector-strong -I/usr/local/include -D_LARGEFILE_SOURCE -D_FILE_OFFSET_BITS=64'
    optimize='-O2 -g'
    cppflags='-D_REENTRANT -D_GNU_SOURCE -fwrapv -DDEBUGGING -fno-strict-aliasing -pipe -fstack-protector-strong -I/usr/local/include'
    ccversion=''
    gccversion='9.4.0'
    gccosandvers=''
    intsize=4
    longsize=8
    ptrsize=8
    doublesize=8
    byteorder=12345678
    doublekind=3
    d_longlong=define
    longlongsize=8
    d_longdbl=define
    longdblsize=16
    longdblkind=3
    ivtype='long'
    ivsize=8
    nvtype='double'
    nvsize=8
    Off_t='off_t'
    lseeksize=8
    alignbytes=8
    prototype=define
  Linker and Libraries:
    ld='cc'
    ldflags =' -fstack-protector-strong -L/usr/local/lib'
    libpth=/usr/local/lib /usr/lib/x86_64-linux-gnu /usr/lib /usr/lib64
    libs=-lpthread -lnsl -ldl -lm -lcrypt -lutil -lc
    perllibs=-lpthread -lnsl -ldl -lm -lcrypt -lutil -lc
    libc=libc-2.31.so
    so=so
    useshrplib=false
    libperl=libperl.a
    gnulibc_version='2.31'
  Dynamic Linking:
    dlsrc=dl_dlopen.xs
    dlext=so
    d_dlsymun=undef
    ccdlflags='-Wl,-E'
    cccdlflags='-fPIC'
    lddlflags='-shared -O2 -g -L/usr/local/lib -fstack-protector-strong'


Characteristics of this binary (from libperl): 
  Compile-time options:
    DEBUGGING
    HAS_TIMES
    MULTIPLICITY
    PERLIO_LAYERS
    PERL_COPY_ON_WRITE
    PERL_DONT_CREATE_GVSV
    PERL_HASH_FUNC_SIPHASH13
    PERL_HASH_USE_SBOX32
    PERL_MALLOC_WRAP
    PERL_OP_PARENT
    PERL_PRESERVE_IVUV
    PERL_TRACK_MEMPOOL
    PERL_USE_DEVEL
    PERL_USE_SAFE_PUTENV
    USE_64_BIT_ALL
    USE_64_BIT_INT
    USE_ITHREADS
    USE_LARGE_FILES
    USE_LOCALE
    USE_LOCALE_COLLATE
    USE_LOCALE_CTYPE
    USE_LOCALE_NUMERIC
    USE_LOCALE_TIME
    USE_PERLIO
    USE_PERL_ATOF
    USE_REENTRANT_API
    USE_THREAD_SAFE_LOCALE
  Built under linux
  Compiled at Oct 29 2022 16:55:13
  %ENV:
    PERL="/tmp/basesmoker-reloperl-Xm5E/bin/perl"
    PERL5LIB="/tmp/loop_over_bdir-988756-fAHp0m/LCFG-Build-Skeleton-0.5.0-0/blib/arch:/tmp/loop_over_bdir-988756-fAHp0m/LCFG-Build-Skeleton-0.5.0-0/blib/lib"
    PERL5OPT=""
    PERL5_CPANPLUS_IS_RUNNING="988765"
    PERL5_CPAN_IS_RUNNING="988765"
    PERL_CANARY_STABILITY_NOPROMPT="1"
    PERL_MM_USE_DEFAULT="1"
    PERL_USE_UNSAFE_INC="1"
  @INC:
    /tmp/loop_over_bdir-988756-fAHp0m/LCFG-Build-Skeleton-0.5.0-0/blib/arch
    /tmp/loop_over_bdir-988756-fAHp0m/LCFG-Build-Skeleton-0.5.0-0/blib/lib
    /home/sand/src/perl/repoperls/installed-perls/host/k93focal/v5.37.4-160-g0649414847/d119/lib/site_perl/5.37.5/x86_64-linux-thread-multi
    /home/sand/src/perl/repoperls/installed-perls/host/k93focal/v5.37.4-160-g0649414847/d119/lib/site_perl/5.37.5
    /home/sand/src/perl/repoperls/installed-perls/host/k93focal/v5.37.4-160-g0649414847/d119/lib/5.37.5/x86_64-linux-thread-multi
    /home/sand/src/perl/repoperls/installed-perls/host/k93focal/v5.37.4-160-g0649414847/d119/lib/5.37.5
    .