Time-Zone-Olson v0.46 Perl 5 v5.39.3 x86_64-linux-thread-multi
- Status
- Pass
- From
- Carlos Guevara
- Dist
-
Time-Zone-Olson v0.46
- Platform
- Perl 5 v5.39.3 x86_64-linux-thread-multi
- Date
- 2023-09-15 14:30:47
- ID
- 75f0ee06-53d4-11ee-b9c3-ee5b0079a157
This distribution has been tested as part of the CPAN Testers
project, supporting the Perl programming language. See
http://wiki.cpantesters.org/ for more information or email
questions to cpan-testers-discuss@perl.org
--
Dear David Dick,
This is a computer-generated report for Time-Zone-Olson-0.46
on perl 5.39.3, created by CPAN-Reporter-1.2019.
Thank you for uploading your work to CPAN. Congratulations!
All tests were successful.
Sections of this report:
* Tester comments
* Program output
* Prerequisites
* Environment and other context
------------------------------
TESTER COMMENTS
------------------------------
Additional comments from tester:
this report is from an automated smoke testing program
and was not reviewed by a human for accuracy
------------------------------
PROGRAM OUTPUT
------------------------------
Output from '/usr/bin/make test':
PERL_DL_NONLAZY=1 "/home/cpan/bin/perl/bin/perl5.39.3" "-MExtUtils::Command::MM" "-MTest::Harness" "-e" "undef *Test::Harness::Switches; test_harness(0, 'blib/lib', 'blib/arch')" t/*.t
# Testing Time::Zone::Olson 0.46, Perl 5.039003, /home/cpan/bin/perl/bin/perl5.39.3
t/00-load.t ........... ok
t/boilerplate.t ....... ok
t/manifest.t .......... skipped: Author tests not required for installation
t/pod-coverage.t ...... ok
t/pod.t ............... ok
# Checking https://raw.githubusercontent.com/unicode-org/cldr/master/common/supplemental/windowsZones.xml
t/windows_zones.t ..... ok
# Olson tz directory is /usr/share/zoneinfo for linux
# Local timezone has been determined to be America/New_York
# Output of busybox date command:Sat Feb 28 11:00:00 AEDT 2015
# Comment for 'Australia/Melbourne' is 'Victoria'
sh: zdump: not found
t/zoneinfo_all.t ...... ok
# Determined timezone is America/New_York
# TZDIR has not been set
# Output of gnu date command:date: invalid date '2015/02/28 11:00:00'
# Output of bsd date command:date: can't stat '1425081600': No such file or directory
# Output of busybox date command:Sat Feb 28 11:00:00 AEDT 2015
# Results of unpack:
# Local timezone has been determined to be America/New_York
t/zoneinfo_current.t .. ok
t/zoneinfo_taint.t .... ok
t/zoneinfo_tz_env.t ... ok
All tests successful.
Test Summary Report
-------------------
t/zoneinfo_all.t (Wstat: 0 Tests: 3074 Failed: 0)
TODO passed: 8-14, 16-3074
t/zoneinfo_current.t (Wstat: 0 Tests: 636 Failed: 0)
TODO passed: 9-630
Files=10, Tests=4183, 39 wallclock secs ( 0.54 usr 0.05 sys + 29.35 cusr 8.29 csys = 38.23 CPU)
Result: PASS
------------------------------
PREREQUISITES
------------------------------
Prerequisite modules loaded:
requires:
Module Need Have
-------------------- ----- --------
Carp 0 1.54
Config 0 5.039003
Digest::SHA 0 6.04
DirHandle 0 1.05
Encode 0 3.19
English 0 1.11
File::Find 0 1.43
File::Spec 0 3.90
FileHandle 0 2.05
perl 5.006 5.039003
POSIX 0 2.15
strict 0 1.13
warnings 0 1.67
build_requires:
Module Need Have
-------------------- ----- --------
ExtUtils::MakeMaker 0 7.70
Fcntl 0 1.15
File::Temp 0 0.2311
HTTP::Request 0 6.44
LWP::Protocol::https 6.06 6.11
LWP::UserAgent 0 6.72
Test::More 0 1.302195
Time::Local 0 1.35
XML::LibXML 0 2.0209
configure_requires:
Module Need Have
-------------------- ----- --------
ExtUtils::MakeMaker 0 7.70
------------------------------
ENVIRONMENT AND OTHER CONTEXT
------------------------------
Environment variables:
AUTOMATED_TESTING = 1
DATE_MANIP_TEST_DM5 = 1
LANG = C.UTF-8
LC_COLLATE = C
NONINTERACTIVE_TESTING = 1
NO_NETWORK_TESTING = 1
PATH = /home/cpan/bin/perl/bin:/usr/local/sbin:/usr/local/bin:/usr/sbin:/usr/bin:/sbin:/bin
PERL5LIB =
PERL5OPT =
PERL5_CPANPLUS_IS_RUNNING = 1521
PERL5_CPAN_IS_RUNNING = 1521
PERL_MM_USE_DEFAULT = 1
PERL_USE_UNSAFE_INC = 1
SHELL = /bin/bash
TERM = screen
Perl special variables (and OS-specific diagnostics, for MSWin32):
$^X = /home/cpan/bin/perl/bin/perl5.39.3
$UID/$EUID = 1001 / 1001
$GID = 1001 1001
$EGID = 1001 1001
Perl module toolchain versions installed:
Module Have
------------------- --------
CPAN 2.36
CPAN::Meta 2.150010
Cwd 3.90
ExtUtils::CBuilder 0.280240
ExtUtils::Command 7.70
ExtUtils::Install 2.22
ExtUtils::MakeMaker 7.70
ExtUtils::Manifest 1.75
ExtUtils::ParseXS 3.51
File::Spec 3.90
JSON 4.10
JSON::PP 4.16
Module::Build 0.4234
Module::Signature n/a
Parse::CPAN::Meta 2.150010
Test2 1.302195
Test::Harness 3.47
Test::More 1.302195
YAML 1.30
YAML::Syck 1.34
version 0.9929
--
Summary of my perl5 (revision 5 version 39 subversion 3) configuration:
Commit id: e178360011ceea4ed9cf55d21a3429855e5e99c8
Platform:
osname=linux
osvers=6.1.53-0-lts
archname=x86_64-linux-thread-multi
uname='linux cjg-alpine3 6.1.53-0-lts #1-alpine smp preempt_dynamic wed, 13 sep 2023 13:56:04 +0000 x86_64 linux '
config_args='-des -Dprefix=/home/cpan/bin/perl -Dscriptdir=/home/cpan/bin/perl/bin -Dusedevel -Duse64bitall -Duseithreads'
hint=recommended
useposix=true
d_sigaction=define
useithreads=define
usemultiplicity=define
use64bitint=define
use64bitall=define
uselongdouble=undef
usemymalloc=n
default_inc_excludes_dot=define
Compiler:
cc='cc'
ccflags ='-D_REENTRANT -D_GNU_SOURCE -D_GNU_SOURCE -fwrapv -fno-strict-aliasing -pipe -fstack-protector-strong -D_LARGEFILE_SOURCE -D_FILE_OFFSET_BITS=64'
optimize='-O2'
cppflags='-D_REENTRANT -D_GNU_SOURCE -D_GNU_SOURCE -fwrapv -fno-strict-aliasing -pipe -fstack-protector-strong'
ccversion=''
gccversion='12.2.1 20220924'
gccosandvers=''
intsize=4
longsize=8
ptrsize=8
doublesize=8
byteorder=12345678
doublekind=3
d_longlong=define
longlongsize=8
d_longdbl=define
longdblsize=16
longdblkind=3
ivtype='long'
ivsize=8
nvtype='double'
nvsize=8
Off_t='off_t'
lseeksize=8
alignbytes=8
prototype=define
Linker and Libraries:
ld='cc'
ldflags =' -fstack-protector-strong -L/usr/local/lib'
libpth=/usr/lib /usr/local/lib /lib
libs=-lpthread -ldb -ldl -lm -lcrypt -lutil -lc
perllibs=-lpthread -ldl -lm -lcrypt -lutil -lc
libc=/usr/lib/libc.a
so=so
useshrplib=false
libperl=libperl.a
gnulibc_version=''
Dynamic Linking:
dlsrc=dl_dlopen.xs
dlext=so
d_dlsymun=undef
ccdlflags='-Wl,-E'
cccdlflags='-fPIC'
lddlflags='-shared -O2 -L/usr/local/lib -fstack-protector-strong'
Characteristics of this binary (from libperl):
Compile-time options:
HAS_LONG_DOUBLE
HAS_STRTOLD
HAS_TIMES
MULTIPLICITY
PERLIO_LAYERS
PERL_COPY_ON_WRITE
PERL_DONT_CREATE_GVSV
PERL_HASH_FUNC_SIPHASH13
PERL_HASH_USE_SBOX32
PERL_MALLOC_WRAP
PERL_OP_PARENT
PERL_PRESERVE_IVUV
PERL_USE_DEVEL
PERL_USE_SAFE_PUTENV
USE_64_BIT_ALL
USE_64_BIT_INT
USE_ITHREADS
USE_LARGE_FILES
USE_LOCALE
USE_LOCALE_COLLATE
USE_LOCALE_CTYPE
USE_LOCALE_NUMERIC
USE_LOCALE_TIME
USE_PERLIO
USE_PERL_ATOF
USE_REENTRANT_API
USE_THREAD_SAFE_LOCALE
Built under linux
Compiled at Sep 15 2023 04:01:40
%ENV:
PERL5LIB=""
PERL5OPT=""
PERL5_CPANPLUS_IS_RUNNING="1521"
PERL5_CPAN_IS_RUNNING="1521"
PERL_MM_USE_DEFAULT="1"
PERL_USE_UNSAFE_INC="1"
@INC:
/home/cpan/bin/perl/lib/site_perl/5.39.3/x86_64-linux-thread-multi
/home/cpan/bin/perl/lib/site_perl/5.39.3
/home/cpan/bin/perl/lib/5.39.3/x86_64-linux-thread-multi
/home/cpan/bin/perl/lib/5.39.3
.