Back
From: metabase:user:30f4dfbe-2aae-11df-837a-5e0a49663a4f
Subject: PASS Unicode-Stringprep-1.105 v5.20.2 FreeBSD
Date: 2015-06-07T23:03:50Z
This distribution has been tested as part of the CPAN Testers
project, supporting the Perl programming language. See
http://wiki.cpantesters.org/ for more information or email
questions to cpan-testers-discuss@perl.org
--
Dear Claus Faerber,
This is a computer-generated report for Unicode-Stringprep-1.105
on perl 5.20.2, created by CPAN-Reporter-1.2014.
Thank you for uploading your work to CPAN. Congratulations!
All tests were successful.
Sections of this report:
* Tester comments
* Program output
* Prerequisites
* Environment and other context
------------------------------
TESTER COMMENTS
------------------------------
Additional comments from tester:
this report is from an automated smoke testing program
and was not reviewed by a human for accuracy
------------------------------
PROGRAM OUTPUT
------------------------------
Output from './Build test':
t/00_use.t .......................... ok
t/01_references.t ................... ok
t/10_pod_check.t .................... ok
t/11_pod_coverage.t ................. ok
t/30_mappings.t ..................... ok
t/31_prohibited_characters.t ........ ok
t/31_prohibited_characters_extra.t .. ok
t/32_nfkc_3_2.t ..................... ok
t/99_perl-5.11.3.t .................. ok
t/nameprep.t ........................ ok
t/nameprep_bytes.t .................. ok
t/nameprep_stored.t ................. ok
t/saslprep.t ........................ ok
t/saslprep_bytes.t .................. ok
All tests successful.
Files=14, Tests=200, 12 wallclock secs ( 0.59 usr 0.24 sys + 8.73 cusr 2.14 csys = 11.70 CPU)
Result: PASS
------------------------------
PREREQUISITES
------------------------------
Prerequisite modules loaded:
requires:
Module Need Have
------------------ -------- --------
perl 5.008003 5.020002
Unicode::Normalize 1 1.17
build_requires:
Module Need Have
------------------ -------- --------
Test::More 0 1.001014
Test::NoWarnings 0 1.04
configure_requires:
Module Need Have
------------------ -------- --------
Module::Build 0.42 0.4212
------------------------------
ENVIRONMENT AND OTHER CONTEXT
------------------------------
Environment variables:
AUTOMATED_TESTING = 1
PATH = /home/njh/perl5/perlbrew/bin:/home/njh/perl5/perlbrew/perls/perl-5.20.2/bin:/home/njh/perl5/perlbrew/bin:/sbin:/bin:/usr/sbin:/usr/bin:/usr/games:/usr/local/sbin:/usr/local/bin:/home/njh/bin
PERL5LIB = /home/njh/.cpan/build/autobox-Core-1.28-Yrnqk5/blib/arch:/home/njh/.cpan/build/autobox-Core-1.28-Yrnqk5/blib/lib:/home/njh/.cpan/build/Modern-Perl-1.20150127-HYBIYV/blib/arch:/home/njh/.cpan/build/Modern-Perl-1.20150127-HYBIYV/blib/lib:/home/njh/.cpan/build/Perl6-Export-Attrs-0.0.3-yc0Dfb/blib/arch:/home/njh/.cpan/build/Perl6-Export-Attrs-0.0.3-yc0Dfb/blib/lib:/home/njh/.cpan/build/autobox-2.83-kbQCjb/blib/arch:/home/njh/.cpan/build/autobox-2.83-kbQCjb/blib/lib:/home/njh/.cpan/build/Scope-Guard-0.20-8bXeAh/blib/arch:/home/njh/.cpan/build/Scope-Guard-0.20-8bXeAh/blib/lib
PERL5OPT =
PERL5_CPANPLUS_IS_RUNNING = 25582
PERL5_CPAN_IS_RUNNING = 25582
PERL5_MINISMOKEBOX = 0.58
PERLBREW_BASHRC_VERSION = 0.73
PERLBREW_HOME = /home/njh/.perlbrew
PERLBREW_LIB =
PERLBREW_MANPATH = /home/njh/perl5/perlbrew/perls/perl-5.20.2/man
PERLBREW_PATH = /home/njh/perl5/perlbrew/bin:/home/njh/perl5/perlbrew/perls/perl-5.20.2/bin
PERLBREW_PERL = perl-5.20.2
PERLBREW_ROOT = /home/njh/perl5/perlbrew
PERLBREW_VERSION = 0.73
PERL_EXTUTILS_AUTOINSTALL = --defaultdeps
PERL_LOCAL_LIB_ROOT =
PERL_MM_USE_DEFAULT = 1
SHELL = /bin/bash
TERM = xterm
Perl special variables (and OS-specific diagnostics, for MSWin32):
$^X = /usr/home/njh/perl5/perlbrew/perls/perl-5.20.2/bin/perl5.20.2
$UID/$EUID = 1000 / 1000
$GID = 1000 1000 0
$EGID = 1000 1000 0
Perl module toolchain versions installed:
Module Have
------------------- --------
CPAN 2.10
CPAN::Meta 2.150001
Cwd 3.48_01
ExtUtils::CBuilder 0.280220
ExtUtils::Command 1.18
ExtUtils::Install 1.67
ExtUtils::MakeMaker 7.04
ExtUtils::Manifest 1.65
ExtUtils::ParseXS 3.24
File::Spec 3.48_01
JSON 2.90
JSON::PP 2.27203
Module::Build 0.4212
Module::Signature 0.79
Parse::CPAN::Meta 1.4414
Test::Harness 3.35
Test::More 1.001014
YAML 1.15
YAML::Syck 1.29
version 0.9909
--
Summary of my perl5 (revision 5 version 20 subversion 2) configuration:
Platform:
osname=freebsd, osvers=9.1-release, archname=i386-freebsd-thread-multi
uname='freebsd amber 9.1-release freebsd 9.1-release #0 r243826: tue dec 4 06:55:39 utc 2012 root@obrian.cse.buffalo.edu:usrobjusrsrcsysgeneric i386 '
config_args='-de -Dprefix=/home/njh/perl5/perlbrew/perls/perl-5.20.2 -Duseithreads -Dusemultiplicity -Dusedevel -Accflags=-O2 -W -Wformat=2 -Wswitch -Wshadow -Wwrite-strings -Wuninitialized -Wall -pipe -mtune=native -march=native -fomit-frame-pointer -msse2 -msse -mmmx -mfpmath=sse -D_FORTIFY_SOURCE=2 -Wpointer-arith -Wstrict-prototypes -fstack-protector -Wstack-protector -Wextra -Wbad-function-cast -Wcast-align -Wcast-qual -Wdisabled-optimization -Wendif-labels -Wfloat-equal -Wformat-nonliteral -Winline -Wmissing-declarations -Wmissing-prototypes -Wnested-externs -Wpointer-arith -Wundef -Wformat-security -ftree-vectorize -Aeval:scriptdir=/home/njh/perl5/perlbrew/perls/perl-5.20.2/bin'
hint=recommended, useposix=true, d_sigaction=define
useithreads=define, usemultiplicity=define
use64bitint=undef, use64bitall=undef, uselongdouble=undef
usemymalloc=n, bincompat5005=undef
Compiler:
cc='cc', ccflags ='-DHAS_FPSETMASK -DHAS_FLOATINGPOINT_H -O2 -W -Wformat=2 -Wswitch -Wshadow -Wwrite-strings -Wuninitialized -Wall -pipe -mtune=native -march=native -fomit-frame-pointer -msse2 -msse -mmmx -mfpmath=sse -D_FORTIFY_SOURCE=2 -Wpointer-arith -Wstrict-prototypes -fstack-protector -Wstack-protector -Wextra -Wbad-function-cast -Wcast-align -Wcast-qual -Wdisabled-optimization -Wendif-labels -Wfloat-equal -Wformat-nonliteral -Winline -Wmissing-declarations -Wmissing-prototypes -Wnested-externs -Wpointer-arith -Wundef -Wformat-security -ftree-vectorize -fno-strict-aliasing -I/usr/local/include',
optimize='-O',
cppflags='-DHAS_FPSETMASK -DHAS_FLOATINGPOINT_H -O2 -W -Wformat=2 -Wswitch -Wshadow -Wwrite-strings -Wuninitialized -Wall -pipe -mtune=native -march=native -fomit-frame-pointer -msse2 -msse -mmmx -mfpmath=sse -D_FORTIFY_SOURCE=2 -Wpointer-arith -Wstrict-prototypes -fstack-protector -Wstack-protector -Wextra -Wbad-function-cast -Wcast-align -Wcast-qual -Wdisabled-optimization -Wendif-labels -Wfloat-equal -Wformat-nonliteral -Winline -Wmissing-declarations -Wmissing-prototypes -Wnested-externs -Wpointer-arith -Wundef -Wformat-security -ftree-vectorize -fno-strict-aliasing -I/usr/local/include'
ccversion='', gccversion='4.2.1 20070831 patched [FreeBSD]', gccosandvers=''
intsize=4, longsize=4, ptrsize=4, doublesize=8, byteorder=1234
d_longlong=define, longlongsize=8, d_longdbl=define, longdblsize=12
ivtype='long', ivsize=4, nvtype='double', nvsize=8, Off_t='off_t', lseeksize=8
alignbytes=4, prototype=define
Linker and Libraries:
ld='cc', ldflags ='-pthread -Wl,-E -fstack-protector -L/usr/local/lib'
libpth=/usr/lib /usr/local/lib /usr/include/gcc/4.2 /usr/lib
libs=-lm -lcrypt
perllibs=-lm -lcrypt
libc=, so=so, useshrplib=false, libperl=libperl.a
gnulibc_version=''
Dynamic Linking:
dlsrc=dl_dlopen.xs, dlext=so, d_dlsymun=undef, ccdlflags=' '
cccdlflags='-DPIC -fPIC', lddlflags='-shared -L/usr/local/lib -fstack-protector'
Characteristics of this binary (from libperl):
Compile-time options: HAS_TIMES MULTIPLICITY PERLIO_LAYERS
PERL_DONT_CREATE_GVSV
PERL_HASH_FUNC_ONE_AT_A_TIME_HARD
PERL_IMPLICIT_CONTEXT PERL_MALLOC_WRAP
PERL_NEW_COPY_ON_WRITE PERL_PRESERVE_IVUV
PERL_USE_DEVEL USE_ITHREADS USE_LARGE_FILES
USE_LOCALE USE_LOCALE_COLLATE USE_LOCALE_CTYPE
USE_LOCALE_NUMERIC USE_PERLIO USE_PERL_ATOF
USE_REENTRANT_API
Locally applied patches:
Devel::PatchPerl 1.30
Built under freebsd
Compiled at Mar 1 2015 12:47:49
%ENV:
PERL5LIB="/home/njh/.cpan/build/autobox-Core-1.28-Yrnqk5/blib/arch:/home/njh/.cpan/build/autobox-Core-1.28-Yrnqk5/blib/lib:/home/njh/.cpan/build/Modern-Perl-1.20150127-HYBIYV/blib/arch:/home/njh/.cpan/build/Modern-Perl-1.20150127-HYBIYV/blib/lib:/home/njh/.cpan/build/Perl6-Export-Attrs-0.0.3-yc0Dfb/blib/arch:/home/njh/.cpan/build/Perl6-Export-Attrs-0.0.3-yc0Dfb/blib/lib:/home/njh/.cpan/build/autobox-2.83-kbQCjb/blib/arch:/home/njh/.cpan/build/autobox-2.83-kbQCjb/blib/lib:/home/njh/.cpan/build/Scope-Guard-0.20-8bXeAh/blib/arch:/home/njh/.cpan/build/Scope-Guard-0.20-8bXeAh/blib/lib"
PERL5OPT=""
PERL5_CPANPLUS_IS_RUNNING="25582"
PERL5_CPAN_IS_RUNNING="25582"
PERL5_MINISMOKEBOX="0.58"
PERLBREW_BASHRC_VERSION="0.73"
PERLBREW_HOME="/home/njh/.perlbrew"
PERLBREW_LIB=""
PERLBREW_MANPATH="/home/njh/perl5/perlbrew/perls/perl-5.20.2/man"
PERLBREW_PATH="/home/njh/perl5/perlbrew/bin:/home/njh/perl5/perlbrew/perls/perl-5.20.2/bin"
PERLBREW_PERL="perl-5.20.2"
PERLBREW_ROOT="/home/njh/perl5/perlbrew"
PERLBREW_VERSION="0.73"
PERL_EXTUTILS_AUTOINSTALL="--defaultdeps"
PERL_LOCAL_LIB_ROOT=""
PERL_MM_USE_DEFAULT="1"
@INC:
/home/njh/.cpan/build/autobox-Core-1.28-Yrnqk5/blib/arch
/home/njh/.cpan/build/autobox-Core-1.28-Yrnqk5/blib/lib
/home/njh/.cpan/build/Modern-Perl-1.20150127-HYBIYV/blib/arch
/home/njh/.cpan/build/Modern-Perl-1.20150127-HYBIYV/blib/lib
/home/njh/.cpan/build/Perl6-Export-Attrs-0.0.3-yc0Dfb/blib/arch
/home/njh/.cpan/build/Perl6-Export-Attrs-0.0.3-yc0Dfb/blib/lib
/home/njh/.cpan/build/autobox-2.83-kbQCjb/blib/arch
/home/njh/.cpan/build/autobox-2.83-kbQCjb/blib/lib
/home/njh/.cpan/build/Scope-Guard-0.20-8bXeAh/blib/arch
/home/njh/.cpan/build/Scope-Guard-0.20-8bXeAh/blib/lib
/home/njh/perl5/perlbrew/perls/perl-5.20.2/lib/site_perl/5.20.2/i386-freebsd-thread-multi
/home/njh/perl5/perlbrew/perls/perl-5.20.2/lib/site_perl/5.20.2
/home/njh/perl5/perlbrew/perls/perl-5.20.2/lib/5.20.2/i386-freebsd-thread-multi
/home/njh/perl5/perlbrew/perls/perl-5.20.2/lib/5.20.2
.