Report for Net-Statsd-Server-0.18

Back
From: metabase:user:314402c4-2aae-11df-837a-5e0a49663a4f
Subject: PASS Net-Statsd-Server-0.18 v5.8.9 FreeBSD
Date: 2015-02-26T12:24:50Z

This distribution has been tested as part of the CPAN Testers
project, supporting the Perl programming language.  See
http://wiki.cpantesters.org/ for more information or email
questions to cpan-testers-discuss@perl.org


--
Dear Cosimo Streppone,

This is a computer-generated report for Net-Statsd-Server-0.18
on perl 5.8.9, created by CPAN-Reporter-1.2011.

Thank you for uploading your work to CPAN.  Congratulations!
All tests were successful.

Sections of this report:

    * Tester comments
    * Program output
    * Prerequisites
    * Environment and other context

------------------------------
TESTER COMMENTS
------------------------------

Additional comments from tester:

none provided

------------------------------
PROGRAM OUTPUT
------------------------------

Output from '/usr/bin/make test':

PERL_DL_NONLAZY=1 "/usr/perl5.8.9/bin/perl" "-MExtUtils::Command::MM" "-MTest::Harness" "-e" "undef *Test::Harness::Switches; test_harness(0, 'blib/lib', 'blib/arch')" t/*.t t/integration-tests/*.t
t/000-sanity.t ............................. ok
t/config.t ................................. ok
t/graphite.t ............................... ok
2015-02-26 13:24:19.000000 +0100 note  Net::Statsd::Server: Initializing Net::Statsd::Server::Backend::Console backend
2015-02-26 13:24:19.000000 +0100 note  Net::Statsd::Server: Initializing Net::Statsd::Server::Backend::Graphite backend
2015-02-26 13:24:19.000000 +0100 info  AnyEvent: Autoloaded model 'AnyEvent::Impl::EV', using it.
Couldn't set SO_RCVBUF: Keine Buffer verfügbar at /usr/home/eserte/.cpan/build/Net-Statsd-Server-0.18-Xw8DOM/bin/../lib/Net/Statsd/Server.pm line 708.
2015-02-26 13:24:19.319648 +0100 note  Net::Statsd::Server: statsd server started on 0.0.0.0:40001 (v0.17)
2015-02-26 13:24:19.319793 +0100 note  Net::Statsd::Server: manager interface started on 0.0.0.0:40002
2015-02-26 13:24:19.319927 +0100 note  Net::Statsd::Server: metrics flush will happen every 1s
2015-02-26 13:24:19.682791 +0100 warn  Net::Statsd::Server: Bad line: 1 in msg "a_bad_test_value|z"
2015-02-26 13:24:20.330461 +0100 note  Net::Statsd::Server: flushing metrics
Flushing stats at Thu Feb 26 13:24:20 2015
{"pctThreshold":[90],"sets":null,"counter_rates":{"statsd.bad_lines_seen":1,"statsd.packets_received":1},"timer_data":{},"gauges":{},"timers":{},"counters":{"statsd.bad_lines_seen":1,"statsd.packets_received":1}}
t/integration-tests/bad-message.t .......... ok
2015-02-26 13:24:20.000000 +0100 note  Net::Statsd::Server: Initializing Net::Statsd::Server::Backend::Console backend
2015-02-26 13:24:20.000000 +0100 note  Net::Statsd::Server: Initializing Net::Statsd::Server::Backend::Graphite backend
2015-02-26 13:24:20.000000 +0100 info  AnyEvent: Autoloaded model 'AnyEvent::Impl::EV', using it.
Couldn't set SO_RCVBUF: Keine Buffer verfügbar at /usr/home/eserte/.cpan/build/Net-Statsd-Server-0.18-Xw8DOM/bin/../lib/Net/Statsd/Server.pm line 708.
2015-02-26 13:24:20.723772 +0100 note  Net::Statsd::Server: statsd server started on 0.0.0.0:40001 (v0.17)
2015-02-26 13:24:20.723999 +0100 note  Net::Statsd::Server: manager interface started on 0.0.0.0:40002
2015-02-26 13:24:20.724230 +0100 note  Net::Statsd::Server: metrics flush will happen every 1s
2015-02-26 13:24:21.730509 +0100 note  Net::Statsd::Server: flushing metrics
Flushing stats at Thu Feb 26 13:24:21 2015
{"pctThreshold":[90],"sets":null,"counter_rates":{"a_test_value":100,"statsd.bad_lines_seen":0,"statsd.packets_received":1},"timer_data":{},"gauges":{},"timers":{},"counters":{"a_test_value":100,"statsd.bad_lines_seen":0,"statsd.packets_received":1}}
# stats.counters.a_test_value.rate 100.000000 1424953461
# stats.counters.a_test_value.count 100 1424953461
# stats.counters.statsd.bad_lines_seen.rate 0.000000 1424953461
# stats.counters.statsd.bad_lines_seen.count 0 1424953461
# stats.counters.statsd.packets_received.rate 1.000000 1424953461
# stats.counters.statsd.packets_received.count 1 1424953461
# stats.statsd.numStats 3 1424953461
# stats.statsd.graphiteStats.calculationtime 0.096000 1424953461
# stats.statsd.processing_time 0.127 1424953461
# stats.statsd.graphiteStats.last_exception 1126450864 1424953461
# stats.statsd.graphiteStats.last_flush 1126450864 1424953461
t/integration-tests/counts-are-valid.t ..... ok
2015-02-26 13:24:22.000000 +0100 note  Net::Statsd::Server: Initializing Net::Statsd::Server::Backend::Graphite backend
2015-02-26 13:24:22.000000 +0100 info  AnyEvent: Autoloaded model 'AnyEvent::Impl::EV', using it.
Couldn't set SO_RCVBUF: Keine Buffer verfügbar at /usr/home/eserte/.cpan/build/Net-Statsd-Server-0.18-Xw8DOM/bin/../lib/Net/Statsd/Server.pm line 708.
2015-02-26 13:24:22.114259 +0100 note  Net::Statsd::Server: statsd server started on 0.0.0.0:40001 (v0.17)
2015-02-26 13:24:22.114723 +0100 note  Net::Statsd::Server: manager interface started on 0.0.0.0:40002
2015-02-26 13:24:22.115123 +0100 note  Net::Statsd::Server: metrics flush will happen every 1s
2015-02-26 13:24:23.120419 +0100 note  Net::Statsd::Server: flushing metrics
# First flush. Test gauge should be there.
2015-02-26 13:24:24.120348 +0100 note  Net::Statsd::Server: flushing metrics
# Second flush. deleteGauges=false should keep the test gauge.
t/integration-tests/delete-gauges-false.t .. ok
2015-02-26 13:24:24.000000 +0100 note  Net::Statsd::Server: Initializing Net::Statsd::Server::Backend::Graphite backend
2015-02-26 13:24:24.000000 +0100 info  AnyEvent: Autoloaded model 'AnyEvent::Impl::EV', using it.
Couldn't set SO_RCVBUF: Keine Buffer verfügbar at /usr/home/eserte/.cpan/build/Net-Statsd-Server-0.18-Xw8DOM/bin/../lib/Net/Statsd/Server.pm line 708.
2015-02-26 13:24:24.357971 +0100 note  Net::Statsd::Server: statsd server started on 0.0.0.0:40001 (v0.17)
2015-02-26 13:24:24.358350 +0100 note  Net::Statsd::Server: manager interface started on 0.0.0.0:40002
2015-02-26 13:24:24.358877 +0100 note  Net::Statsd::Server: metrics flush will happen every 1s
2015-02-26 13:24:25.370424 +0100 note  Net::Statsd::Server: flushing metrics
# First flush. Test gauge should be there.
2015-02-26 13:24:26.360359 +0100 note  Net::Statsd::Server: flushing metrics
# Second flush. deleteIdleStats should have cleared the test gauge.
t/integration-tests/delete-idle-stats.t .... ok
2015-02-26 13:24:26.000000 +0100 note  Net::Statsd::Server: Initializing Net::Statsd::Server::Backend::Graphite backend
2015-02-26 13:24:26.000000 +0100 info  AnyEvent: Autoloaded model 'AnyEvent::Impl::EV', using it.
Couldn't set SO_RCVBUF: Keine Buffer verfügbar at /usr/home/eserte/.cpan/build/Net-Statsd-Server-0.18-Xw8DOM/bin/../lib/Net/Statsd/Server.pm line 708.
2015-02-26 13:24:26.589525 +0100 note  Net::Statsd::Server: statsd server started on 0.0.0.0:40001 (v0.17)
2015-02-26 13:24:26.589823 +0100 note  Net::Statsd::Server: manager interface started on 0.0.0.0:40002
2015-02-26 13:24:26.590156 +0100 note  Net::Statsd::Server: metrics flush will happen every 1s
# Expected mean value is 2049.74
2015-02-26 13:24:27.590420 +0100 note  Net::Statsd::Server: flushing metrics
# stats.counters.statsd.bad_lines_seen.rate 0.000000 1424953467
# stats.counters.statsd.bad_lines_seen.count 0 1424953467
# stats.counters.statsd.packets_received.rate 100.000000 1424953467
# stats.counters.statsd.packets_received.count 100 1424953467
# stats.timers.read_latency.sum_98 199054.000000 1424953467
# stats.timers.read_latency.upper_95 2904.000000 1424953467
# stats.timers.read_latency.mean_95 2002.894737 1424953467
# stats.timers.read_latency.sum_95 190275.000000 1424953467
# stats.timers.read_latency.upper_98 2935.000000 1424953467
# stats.timers.read_latency.median 2064.500000 1424953467
# stats.timers.read_latency.count_95 95.000000 1424953467
# stats.timers.read_latency.upper_99 2949.000000 1424953467
# stats.timers.read_latency.sum_squares_95 410911867.000000 1424953467
# stats.timers.read_latency.sum 204974.000000 1424953467
# stats.timers.read_latency.mean_99 2040.434343 1424953467
# stats.timers.read_latency.count 100.000000 1424953467
# stats.timers.read_latency.upper 2971.000000 1424953467
# stats.timers.read_latency.mean_98 2031.163265 1424953467
# stats.timers.read_latency.sum_squares_98 436602268.000000 1424953467
# stats.timers.read_latency.count_99 99.000000 1424953467
# stats.timers.read_latency.std 582.943421 1424953467
# stats.timers.read_latency.mean 2049.740000 1424953467
# stats.timers.read_latency.count_98 98.000000 1424953467
# stats.timers.read_latency.count_ps 100.000000 1424953467
# stats.timers.read_latency.lower 1028.000000 1424953467
# stats.timers.read_latency.sum_squares 454125710.000000 1424953467
# stats.timers.read_latency.sum_squares_99 445298869.000000 1424953467
# stats.timers.read_latency.sum_99 202003.000000 1424953467
# stats.statsd.numStats 3 1424953467
# stats.statsd.graphiteStats.calculationtime 0.188000 1424953467
# stats.statsd.processing_time 0.36 1424953467
# stats.statsd.graphiteStats.last_exception 1126450864 1424953467
# stats.statsd.graphiteStats.last_flush 1126450864 1424953467
t/integration-tests/percent-threshold.t .... ok
2015-02-26 13:24:27.000000 +0100 note  Net::Statsd::Server: Initializing Net::Statsd::Server::Backend::Console backend
2015-02-26 13:24:27.000000 +0100 note  Net::Statsd::Server: Initializing Net::Statsd::Server::Backend::Graphite backend
2015-02-26 13:24:27.000000 +0100 info  AnyEvent: Autoloaded model 'AnyEvent::Impl::EV', using it.
Couldn't set SO_RCVBUF: Keine Buffer verfügbar at /usr/home/eserte/.cpan/build/Net-Statsd-Server-0.18-Xw8DOM/bin/../lib/Net/Statsd/Server.pm line 708.
2015-02-26 13:24:27.797905 +0100 note  Net::Statsd::Server: statsd server started on 0.0.0.0:40001 (v0.17)
2015-02-26 13:24:27.798252 +0100 note  Net::Statsd::Server: manager interface started on 0.0.0.0:40002
2015-02-26 13:24:27.798544 +0100 note  Net::Statsd::Server: metrics flush will happen every 1s
2015-02-26 13:24:28.810408 +0100 note  Net::Statsd::Server: flushing metrics
Flushing stats at Thu Feb 26 13:24:28 2015
{"pctThreshold":["90"],"sets":null,"counter_rates":{"statsd.bad_lines_seen":0,"statsd.packets_received":1},"timer_data":{"a_test_value":{"count":1,"upper":"100","std":0,"count_90":1,"median":"100","mean":100,"sum_squares_90":10000,"mean_90":"100","count_ps":1,"upper_90":"100","sum_90":"100","lower":"100","sum_squares":10000,"sum":"100"}},"gauges":{},"timers":{"a_test_value":["100"]},"counters":{"statsd.bad_lines_seen":0,"statsd.packets_received":1}}
# stats.counters.statsd.bad_lines_seen.rate 0.000000 1424953468
# stats.counters.statsd.bad_lines_seen.count 0 1424953468
# stats.counters.statsd.packets_received.rate 1.000000 1424953468
# stats.counters.statsd.packets_received.count 1 1424953468
# stats.timers.a_test_value.count 1.000000 1424953468
# stats.timers.a_test_value.upper 100.000000 1424953468
# stats.timers.a_test_value.std 0.000000 1424953468
# stats.timers.a_test_value.count_90 1.000000 1424953468
# stats.timers.a_test_value.median 100.000000 1424953468
# stats.timers.a_test_value.mean 100.000000 1424953468
# stats.timers.a_test_value.sum_squares_90 10000.000000 1424953468
# stats.timers.a_test_value.mean_90 100.000000 1424953468
# stats.timers.a_test_value.count_ps 1.000000 1424953468
# stats.timers.a_test_value.upper_90 100.000000 1424953468
# stats.timers.a_test_value.sum_90 100.000000 1424953468
# stats.timers.a_test_value.lower 100.000000 1424953468
# stats.timers.a_test_value.sum_squares 10000.000000 1424953468
# stats.timers.a_test_value.sum 100.000000 1424953468
# stats.statsd.numStats 3 1424953468
# stats.statsd.graphiteStats.calculationtime 0.141000 1424953468
# stats.statsd.processing_time 0.076 1424953468
# stats.statsd.graphiteStats.last_exception 1126450864 1424953468
# stats.statsd.graphiteStats.last_flush 1126450864 1424953468
t/integration-tests/timers-are-valid.t ..... ok
t/process-metrics.t ........................ ok
t/trim.t ................................... ok
All tests successful.
Files=11, Tests=90, 10 wallclock secs ( 0.06 usr  0.03 sys +  1.07 cusr  0.20 csys =  1.36 CPU)
Result: PASS

------------------------------
PREREQUISITES
------------------------------

Prerequisite modules loaded:

requires:

    Module                Need Have    
    --------------------- ---- --------
    AnyEvent::Handle::UDP 0    0.043   
    IO::Socket::INET      0    1.31    
    JSON::XS              0    3.01    

build_requires:

    Module                Need Have    
    --------------------- ---- --------
    Test::More            0    1.001014

configure_requires:

    Module                Need Have    
    --------------------- ---- --------
    ExtUtils::MakeMaker   6.30 7.04    


------------------------------
ENVIRONMENT AND OTHER CONTEXT
------------------------------

Environment variables:

    DBIC_NO_WARN_BAD_PERL = 1
    LC_ALL = de_DE.ISO8859-1
    PATH = /usr/local/bin:/usr/bin:/bin:/usr/local/sbin:/usr/sbin:/sbin:/home/cpansand/bin/freebsd9.1:/home/cpansand/bin/sh:/home/cpansand/bin:/usr/games:/home/cpansand/devel:/usr/home/eserte/src/srezic-misc/scripts
    PERL5LIB = 
    PERL5OPT = 
    PERL5_CPANPLUS_IS_RUNNING = 73389
    PERL5_CPAN_IS_RUNNING = 73389
    PERL5_CPAN_IS_RUNNING_IN_RECURSION = 73331,73389
    PERLDOC = -MPod::Perldoc::ToTextOverstrike
    PERL_BATCH = yes
    PERL_CPAN_REPORTER_CONFIG = /var/tmp/cpansmoker-1023/xgT3UN_yLO_config.ini
    PERL_EXTUTILS_AUTOINSTALL = --defaultdeps
    PERL_HTML_DISPLAY_CLASS = HTML::Display::Mozilla
    SHELL = /usr/local/bin/zsh
    TERM = screen
    TMPDIR = /var/tmp/cpansmoker-1023

Perl special variables (and OS-specific diagnostics, for MSWin32):

    $^X = /usr/perl5.8.9/bin/perl
    $UID/$EUID = 1023 / 1023
    $GID = 1023 1023
    $EGID = 1023 1023

Perl module toolchain versions installed:

    Module              Have    
    ------------------- --------
    CPAN                2.08    
    CPAN::Meta          2.143240
    Cwd                 3.47    
    ExtUtils::CBuilder  0.280220
    ExtUtils::Command   1.20    
    ExtUtils::Install   2.04    
    ExtUtils::MakeMaker 7.04    
    ExtUtils::Manifest  1.69    
    ExtUtils::ParseXS   3.24    
    File::Spec          3.47    
    JSON                2.90    
    JSON::PP            2.27203 
    Module::Build       0.4211  
    Module::Signature   0.73    
    Parse::CPAN::Meta   1.4414  
    Test::Harness       3.35    
    Test::More          1.001014
    YAML                1.14    
    YAML::Syck          1.29    
    version             0.9912  


--

Summary of my perl5 (revision 5 version 8 subversion 9) configuration:
  Platform:
    osname=freebsd, osvers=9.2-release-p4, archname=amd64-freebsd
    uname='freebsd cvrsnica-freebsd-92 9.2-release-p4 freebsd 9.2-release-p4 #0: tue apr 8 18:08:22 utc 2014 root@amd64-builder.daemonology.net:usrobjusrsrcsysgeneric amd64 '
    config_args='-ds -e -Dprefix=/usr/perl5.8.9'
    hint=recommended, useposix=true, d_sigaction=define
    usethreads=undef use5005threads=undef useithreads=undef usemultiplicity=undef
    useperlio=define d_sfio=undef uselargefiles=define usesocks=undef
    use64bitint=define use64bitall=define uselongdouble=undef
    usemymalloc=n, bincompat5005=undef
  Compiler:
    cc='cc', ccflags ='-DHAS_FPSETMASK -DHAS_FLOATINGPOINT_H -fno-strict-aliasing -pipe -I/usr/local/include',
    optimize='-O',
    cppflags='-DHAS_FPSETMASK -DHAS_FLOATINGPOINT_H -fno-strict-aliasing -pipe -I/usr/local/include'
    ccversion='', gccversion='4.2.1 20070831 patched [FreeBSD]', gccosandvers=''
    intsize=4, longsize=8, ptrsize=8, doublesize=8, byteorder=12345678
    d_longlong=define, longlongsize=8, d_longdbl=define, longdblsize=16
    ivtype='long', ivsize=8, nvtype='double', nvsize=8, Off_t='off_t', lseeksize=8
    alignbytes=8, prototype=define
  Linker and Libraries:
    ld='cc', ldflags ='-Wl,-E  -L/usr/local/lib'
    libpth=/usr/lib /usr/local/lib
    libs=-lgdbm -lm -lcrypt -lutil -lc
    perllibs=-lm -lcrypt -lutil -lc
    libc=, so=so, useshrplib=false, libperl=libperl.a
    gnulibc_version=''
  Dynamic Linking:
    dlsrc=dl_dlopen.xs, dlext=so, d_dlsymun=undef, ccdlflags=' '
    cccdlflags='-DPIC -fPIC', lddlflags='-shared  -L/usr/local/lib'


Characteristics of this binary (from libperl): 
  Compile-time options: PERL_MALLOC_WRAP USE_64_BIT_ALL USE_64_BIT_INT
                        USE_FAST_STDIO USE_LARGE_FILES USE_PERLIO
  Built under freebsd
  Compiled at May 15 2014 22:27:57
  %ENV:
    PERL5LIB=""
    PERL5OPT=""
    PERL5_CPANPLUS_IS_RUNNING="73389"
    PERL5_CPAN_IS_RUNNING="73389"
    PERL5_CPAN_IS_RUNNING_IN_RECURSION="73331,73389"
    PERLDOC="-MPod::Perldoc::ToTextOverstrike"
    PERL_BATCH="yes"
    PERL_CPAN_REPORTER_CONFIG="/var/tmp/cpansmoker-1023/xgT3UN_yLO_config.ini"
    PERL_EXTUTILS_AUTOINSTALL="--defaultdeps"
    PERL_HTML_DISPLAY_CLASS="HTML::Display::Mozilla"
  @INC:
    /usr/perl5.8.9/lib/5.8.9/amd64-freebsd
    /usr/perl5.8.9/lib/5.8.9
    /usr/perl5.8.9/lib/site_perl/5.8.9/amd64-freebsd
    /usr/perl5.8.9/lib/site_perl/5.8.9
    .