Report for MooseX-Types-Structured-0.30

Back
From: metabase:user:63446088-db54-11e3-8a3d-23630cdc1af3
Subject: PASS MooseX-Types-Structured-0.30 v5.18.2 GNU/Linux
Date: 2014-05-14T15:28:55Z

This distribution has been tested as part of the CPAN Testers
project, supporting the Perl programming language.  See
http://wiki.cpantesters.org/ for more information or email
questions to cpan-testers-discuss@perl.org


--
Dear Karen Etheridge,

This is a computer-generated report for MooseX-Types-Structured-0.30
on perl 5.18.2, created by CPAN-Reporter-1.2011.

Thank you for uploading your work to CPAN.  Congratulations!
All tests were successful.

Sections of this report:

    * Tester comments
    * Program output
    * Prerequisites
    * Environment and other context

------------------------------
TESTER COMMENTS
------------------------------

Additional comments from tester:

none provided

------------------------------
PROGRAM OUTPUT
------------------------------

Output from './Build test':

t/00-load.t .................... ok
# 
# Versions for all modules listed in MYMETA.json (including optional ones):
#    Version Module                                      
#   -------- --------------------------------------------
#   2.141170 CPAN::Meta                                  
#      2.122 CPAN::Meta::Requirements                    
#      2.145 Data::Dumper                                
#       1.08 DateTime                                    
#       0.17 Devel::PartialDump                          
#       6.98 ExtUtils::MakeMaker                         
#       3.40 File::Spec::Functions                       
#       1.38 List::Util                                  
#      0.036 Module::Build::Tiny                         
#     2.1204 Moose                                       
#     2.1204 Moose::Meta::TypeCoercion                   
#     2.1204 Moose::Meta::TypeConstraint                 
#     2.1204 Moose::Meta::TypeConstraint::Parameterizable
#     2.1204 Moose::Util::TypeConstraints                
#       0.44 MooseX::Types                               
#       0.10 MooseX::Types::DateTime                     
#       0.44 MooseX::Types::Moose                        
#       1.38 Scalar::Util                                
#      0.987 Sub::Exporter                               
#      0.013 Test::Fatal                                 
#   1.001003 Test::More                                  
#       1.22 overload                                    
#       1.07 strict                                      
#       1.18 warnings                                    
t/00-report-prereqs.t .......... ok
t/01-basic.t ................... ok
t/02-tuple.t ................... ok
t/03-dict.t .................... ok
t/04-combined.t ................ ok
t/04-map.t ..................... ok
t/05-advanced.t ................ ok
t/06-api.t ..................... ok
t/07-coerce.t .................. ok
t/08-examples.t ................ ok
t/09-optional.t ................ ok
t/10-recursion.t ............... ok
t/11-overflow.t ................ ok
t/12-error.t ................... ok
t/13-deeper_error.t ............ ok
t/bug-incorrect-message.t ...... ok
t/bug-is-subtype.t ............. ok
t/bug-mixed-stringy.t .......... ok
t/bug-optional.t ............... ok
t/regressions/01-is_type_of.t .. ok
All tests successful.
Files=21, Tests=357,  6 wallclock secs ( 0.08 usr  0.02 sys +  5.78 cusr  0.35 csys =  6.23 CPU)
Result: PASS

------------------------------
PREREQUISITES
------------------------------

Prerequisite modules loaded:

requires:

    Module                                       Need  Have    
    -------------------------------------------- ----- --------
    Devel::PartialDump                           0.13  0.17    
    Moose                                        1.08  2.1204  
    Moose::Meta::TypeCoercion                    0     2.1204  
    Moose::Meta::TypeConstraint                  0     2.1204  
    Moose::Meta::TypeConstraint::Parameterizable 0     2.1204  
    Moose::Util::TypeConstraints                 1.06  2.1204  
    MooseX::Types                                0.22  0.44    
    overload                                     0     1.22    
    perl                                         5.008 5.018002
    Scalar::Util                                 0     1.38    
    Sub::Exporter                                0.982 0.987   

build_requires:

    Module                                       Need  Have    
    -------------------------------------------- ----- --------
    Data::Dumper                                 0     2.145   
    DateTime                                     0     1.08    
    ExtUtils::MakeMaker                          0     6.98    
    File::Spec::Functions                        0     3.40    
    List::Util                                   0     1.38    
    MooseX::Types::DateTime                      0     0.10    
    MooseX::Types::Moose                         0     0.44    
    strict                                       0     1.07    
    Test::Fatal                                  0     0.013   
    Test::More                                   0.94  1.001003
    warnings                                     0     1.18    

configure_requires:

    Module                                       Need  Have    
    -------------------------------------------- ----- --------
    ExtUtils::MakeMaker                          6.30  6.98    
    Module::Build::Tiny                          0.030 0.036   


------------------------------
ENVIRONMENT AND OTHER CONTEXT
------------------------------

Environment variables:

    LANG = en_GB.UTF-8
    LC_ALL = en_GB.UTF-8
    PATH = /usr/local/perlbrew/perl5/bin:/usr/local/perlbrew/perl5/perls/perl-5.18.2/bin:/sbin:/bin:/usr/sbin:/usr/bin
    PERL5LIB = 
    PERL5OPT = 
    PERL5_CPANPLUS_IS_RUNNING = 22987
    PERL5_CPAN_IS_RUNNING = 22987
    PERLBREW_BASHRC_VERSION = 0.67
    PERLBREW_HOME = /root/.perlbrew
    PERLBREW_MANPATH = /usr/local/perlbrew/perl5/perls/perl-5.18.2/man
    PERLBREW_PATH = /usr/local/perlbrew/perl5/bin:/usr/local/perlbrew/perl5/perls/perl-5.18.2/bin
    PERLBREW_PERL = perl-5.18.2
    PERLBREW_ROOT = /usr/local/perlbrew/perl5
    PERLBREW_VERSION = 0.67
    SHELL = /bin/bash
    TERM = xterm

Perl special variables (and OS-specific diagnostics, for MSWin32):

    $^X = /usr/local/perlbrew/perl5/perls/perl-5.18.2/bin/perl
    $UID/$EUID = 0 / 0
    $GID = 0 0 1 2 3 4 6 10 11 20 26 27
    $EGID = 0 0 1 2 3 4 6 10 11 20 26 27

Perl module toolchain versions installed:

    Module              Have    
    ------------------- --------
    CPAN                2.00    
    CPAN::Meta          2.141170
    Cwd                 3.40    
    ExtUtils::CBuilder  0.280210
    ExtUtils::Command   1.17    
    ExtUtils::Install   1.59    
    ExtUtils::MakeMaker 6.98    
    ExtUtils::Manifest  1.63    
    ExtUtils::ParseXS   3.18    
    File::Spec          3.40    
    JSON                2.90    
    JSON::PP            2.27203 
    Module::Build       0.4003  
    Module::Signature   n/a     
    Parse::CPAN::Meta   1.4414  
    Test::Harness       3.30    
    Test::More          1.001003
    YAML                0.90    
    YAML::Syck          n/a     
    version             0.9902  


--

Summary of my perl5 (revision 5 version 18 subversion 2) configuration:
   
  Platform:
    osname=linux, osvers=3.10.17-gentoo, archname=x86_64-linux
    uname='linux nowhere 3.10.17-gentoo #2 smp preempt sat dec 7 16:15:52 cet 2013 x86_64 amd phenom(tm) ii x4 965 processor authenticamd gnulinux '
    config_args='-de -Dprefix=/usr/local/perlbrew/perl5/perls/perl-5.18.2 -Aeval:scriptdir=/usr/local/perlbrew/perl5/perls/perl-5.18.2/bin'
    hint=recommended, useposix=true, d_sigaction=define
    useithreads=undef, usemultiplicity=undef
    useperlio=define, d_sfio=undef, uselargefiles=define, usesocks=undef
    use64bitint=define, use64bitall=define, uselongdouble=undef
    usemymalloc=n, bincompat5005=undef
  Compiler:
    cc='cc', ccflags ='-fno-strict-aliasing -pipe -fstack-protector -D_LARGEFILE_SOURCE -D_FILE_OFFSET_BITS=64',
    optimize='-O2',
    cppflags='-fno-strict-aliasing -pipe -fstack-protector'
    ccversion='', gccversion='4.7.3', gccosandvers=''
    intsize=4, longsize=8, ptrsize=8, doublesize=8, byteorder=12345678
    d_longlong=define, longlongsize=8, d_longdbl=define, longdblsize=16
    ivtype='long', ivsize=8, nvtype='double', nvsize=8, Off_t='off_t', lseeksize=8
    alignbytes=8, prototype=define
  Linker and Libraries:
    ld='cc', ldflags =' -fstack-protector -L/usr/local/lib'
    libpth=/usr/local/lib /lib/../lib64 /usr/lib/../lib64 /lib /usr/lib /lib64 /usr/lib64 /usr/local/lib64
    libs=-lnsl -lgdbm -ldb -ldl -lm -lcrypt -lutil -lc -lgdbm_compat
    perllibs=-lnsl -ldl -lm -lcrypt -lutil -lc
    libc=/lib/libc-2.17.so, so=so, useshrplib=false, libperl=libperl.a
    gnulibc_version='2.17'
  Dynamic Linking:
    dlsrc=dl_dlopen.xs, dlext=so, d_dlsymun=undef, ccdlflags='-Wl,-E'
    cccdlflags='-fPIC', lddlflags='-shared -O2 -L/usr/local/lib -fstack-protector'


Characteristics of this binary (from libperl): 
  Compile-time options: HAS_TIMES PERLIO_LAYERS PERL_DONT_CREATE_GVSV
                        PERL_HASH_FUNC_ONE_AT_A_TIME_HARD PERL_MALLOC_WRAP
                        PERL_PRESERVE_IVUV PERL_SAWAMPERSAND USE_64_BIT_ALL
                        USE_64_BIT_INT USE_LARGE_FILES USE_LOCALE
                        USE_LOCALE_COLLATE USE_LOCALE_CTYPE
                        USE_LOCALE_NUMERIC USE_PERLIO USE_PERL_ATOF
  Built under linux
  Compiled at Mar 17 2014 15:26:05
  %ENV:
    PERL5LIB=""
    PERL5OPT=""
    PERL5_CPANPLUS_IS_RUNNING="22987"
    PERL5_CPAN_IS_RUNNING="22987"
    PERLBREW_BASHRC_VERSION="0.67"
    PERLBREW_HOME="/root/.perlbrew"
    PERLBREW_MANPATH="/usr/local/perlbrew/perl5/perls/perl-5.18.2/man"
    PERLBREW_PATH="/usr/local/perlbrew/perl5/bin:/usr/local/perlbrew/perl5/perls/perl-5.18.2/bin"
    PERLBREW_PERL="perl-5.18.2"
    PERLBREW_ROOT="/usr/local/perlbrew/perl5"
    PERLBREW_VERSION="0.67"
  @INC:
    /usr/local/perlbrew/perl5/perls/perl-5.18.2/lib/site_perl/5.18.2/x86_64-linux
    /usr/local/perlbrew/perl5/perls/perl-5.18.2/lib/site_perl/5.18.2
    /usr/local/perlbrew/perl5/perls/perl-5.18.2/lib/5.18.2/x86_64-linux
    /usr/local/perlbrew/perl5/perls/perl-5.18.2/lib/5.18.2
    .