Report for Term-ReadLine-1.14

Back
From: metabase:user:322078bc-2aae-11df-837a-5e0a49663a4f
Subject: PASS Term-ReadLine-1.14 v5.18.2 RC1 FreeBSD
Date: 2013-12-03T10:41:26Z

This distribution has been tested as part of the CPAN Testers
project, supporting the Perl programming language.  See
http://wiki.cpantesters.org/ for more information or email
questions to cpan-testers-discuss@perl.org


--

Dear Florian Ragwitz,

This is a computer-generated error report created automatically by
CPANPLUS, version 0.9142. Testers personal comments may appear
at the end of this report.


Thank you for uploading your work to CPAN.  Congratulations!
All tests were successful.

TEST RESULTS:

Below is the error stack from stage 'make test':

PERL_DL_NONLAZY=1 /opt/perl-5.18.2/bin/perl5.18.2 "-MExtUtils::Command::MM" "-MTest::Harness" "-e" "undef *Test::Harness::Switches; test_harness(0, 'blib/lib', 'blib/arch')" t/*.t
t/AE.t .................. skipped: AnyEvent is not installed.
t/AETk.t ................ skipped: AnyEvent and/or Tk is not installed.
t/ReadLine.t ............ ok
t/release-pod-syntax.t .. skipped: these tests are for release candidate testing
t/Tk.t .................. skipped: Tk is not installed.
All tests successful.
Files=5, Tests=15,  1 wallclock secs ( 0.16 usr  0.07 sys +  0.52 cusr  0.20 csys =  0.95 CPU)
Result: PASS



Perl module toolchain versions installed:
	Module Name                        Have
	CPANPLUS                         0.9142
	CPANPLUS::Dist::Build              0.74
	Cwd                                3.40
	ExtUtils::CBuilder             0.280212
	ExtUtils::Command                  1.18
	ExtUtils::Install                  1.59
	ExtUtils::MakeMaker                6.84
	ExtUtils::Manifest                 1.63
	ExtUtils::ParseXS                  3.22
	File::Spec                         3.40
	Module::Build                    0.4005
	Pod::Parser                        1.61
	Pod::Simple                        3.28
	Test::Harness                      3.28
	Test::More                         0.98
	version                          0.9902

******************************** NOTE ********************************
The comments above are created mechanically, possibly without manual
checking by the sender.  As there are many people performing automatic
tests on each upload to CPAN, it is likely that you will receive
identical messages about the same problem.

If you believe that the message is mistaken, please reply to the first
one with correction and/or additional informations, and do not take
it personally.  We appreciate your patience. :)
**********************************************************************

Additional comments:


This report was machine-generated by CPANPLUS::Dist::YACSmoke 0.90.

------------------------------
ENVIRONMENT AND OTHER CONTEXT
------------------------------

Environment variables:

    AUTOMATED_TESTING = 1
    PATH = /sbin:/bin:/usr/sbin:/usr/bin:/usr/games:/usr/local/sbin:/usr/local/bin:/root/bin
    PERL5LIB = :/opt/perl-5.18.2/.cpanplus/5.18.2/build/Term-ReadLine-1.14/blib/lib:/opt/perl-5.18.2/.cpanplus/5.18.2/build/Term-ReadLine-1.14/blib/arch
    PERL5_CPANIDX_URL = http://cpan.mirror.local/cpanidx/
    PERL5_CPANPLUS_IS_RUNNING = 46098
    PERL5_CPANPLUS_IS_VERSION = 0.9142
    PERL_EXTUTILS_AUTOINSTALL = --defaultdeps
    PERL_MM_USE_DEFAULT = 1
    SHELL = /bin/csh
    TERM = screen

Perl special variables (and OS-specific diagnostics, for MSWin32):

    Perl: $^X = /opt/perl-5.18.2/bin/perl
    UID:  $<  = 0
    EUID: $>  = 0
    GID:  $(  = 0 0 5
    EGID: $)  = 0 0 5


-------------------------------


--

Summary of my perl5 (revision 5 version 18 subversion 2) configuration:
   
  Platform:
    osname=freebsd, osvers=9.2-release, archname=i386-freebsd
    uname='freebsd canker 9.2-release freebsd 9.2-release #0 r255898: fri sep 27 03:52:52 utc 2013 root@bake.isc.freebsd.org:usrobjusrsrcsysgeneric i386 '
    config_args='-des -Dprefix=/opt/perl-5.18.2 -Dcc=clang'
    hint=recommended, useposix=true, d_sigaction=define
    useithreads=undef, usemultiplicity=undef
    useperlio=define, d_sfio=undef, uselargefiles=define, usesocks=undef
    use64bitint=undef, use64bitall=undef, uselongdouble=undef
    usemymalloc=n, bincompat5005=undef
  Compiler:
    cc='clang', ccflags ='-DHAS_FPSETMASK -DHAS_FLOATINGPOINT_H -fno-strict-aliasing -pipe -fstack-protector -I/usr/local/include',
    optimize='-O',
    cppflags='-DHAS_FPSETMASK -DHAS_FLOATINGPOINT_H -fno-strict-aliasing -pipe -fstack-protector -I/usr/local/include'
    ccversion='', gccversion='4.2.1 Compatible FreeBSD Clang 3.3 (tags/RELEASE_33/final 183502)', gccosandvers=''
    intsize=4, longsize=4, ptrsize=4, doublesize=8, byteorder=1234
    d_longlong=define, longlongsize=8, d_longdbl=define, longdblsize=12
    ivtype='long', ivsize=4, nvtype='double', nvsize=8, Off_t='off_t', lseeksize=8
    alignbytes=4, prototype=define
  Linker and Libraries:
    ld='clang', ldflags ='-Wl,-E  -fstack-protector -L/usr/local/lib'
    libpth=/usr/lib /usr/local/lib
    libs=-lgdbm -lm -lcrypt -lutil -lc
    perllibs=-lm -lcrypt -lutil -lc
    libc=, so=so, useshrplib=false, libperl=libperl.a
    gnulibc_version=''
  Dynamic Linking:
    dlsrc=dl_dlopen.xs, dlext=so, d_dlsymun=undef, ccdlflags=' '
    cccdlflags='-DPIC -fPIC', lddlflags='-shared  -L/usr/local/lib -fstack-protector'


Characteristics of this binary (from libperl): 
  Compile-time options: HAS_TIMES PERLIO_LAYERS PERL_DONT_CREATE_GVSV
                        PERL_HASH_FUNC_ONE_AT_A_TIME_HARD PERL_MALLOC_WRAP
                        PERL_PRESERVE_IVUV PERL_SAWAMPERSAND USE_LARGE_FILES
                        USE_LOCALE USE_LOCALE_COLLATE USE_LOCALE_CTYPE
                        USE_LOCALE_NUMERIC USE_PERLIO USE_PERL_ATOF
  Locally applied patches:
	RC1
  Built under freebsd
  Compiled at Dec  2 2013 23:51:17
  %ENV:
    PERL5LIB=":/opt/perl-5.18.2/.cpanplus/5.18.2/build/Term-ReadLine-1.14/blib/lib:/opt/perl-5.18.2/.cpanplus/5.18.2/build/Term-ReadLine-1.14/blib/arch"
    PERL5_CPANIDX_URL="http://cpan.mirror.local/cpanidx/"
    PERL5_CPANPLUS_IS_RUNNING="46098"
    PERL5_CPANPLUS_IS_VERSION="0.9142"
    PERL_EXTUTILS_AUTOINSTALL="--defaultdeps"
    PERL_MM_USE_DEFAULT="1"
  @INC:
    /opt/perl-5.18.2/.cpanplus/5.18.2/build/Term-ReadLine-1.14/blib/lib
    /opt/perl-5.18.2/.cpanplus/5.18.2/build/Term-ReadLine-1.14/blib/arch
    /opt/perl-5.18.2/lib/site_perl/5.18.2/i386-freebsd
    /opt/perl-5.18.2/lib/site_perl/5.18.2
    /opt/perl-5.18.2/lib/5.18.2/i386-freebsd
    /opt/perl-5.18.2/lib/5.18.2
    .