Report for Alien-Chipmunk-0.001002

Back
From: metabase:user:30f4dfbe-2aae-11df-837a-5e0a49663a4f
Subject: PASS Alien-Chipmunk-0.001002 v5.18.4 GNU/Linux
Date: 2016-04-18T02:37:15Z

This distribution has been tested as part of the CPAN Testers
project, supporting the Perl programming language.  See
http://wiki.cpantesters.org/ for more information or email
questions to cpan-testers-discuss@perl.org


--
Dear Jeffrey T. Palmer,

This is a computer-generated report for Alien-Chipmunk-0.001002
on perl 5.18.4, created by CPAN-Reporter-1.2017.

Thank you for uploading your work to CPAN.  Congratulations!
All tests were successful.

Sections of this report:

    * Tester comments
    * Program output
    * Prerequisites
    * Environment and other context

------------------------------
TESTER COMMENTS
------------------------------

Additional comments from tester:

this report is from an automated smoke testing program
and was not reviewed by a human for accuracy

------------------------------
PROGRAM OUTPUT
------------------------------

Output from './Build test':

Isolating dynamic libraries ... Done
# Testing Alien::Chipmunk 0.001002, Perl 5.018004, /home/njh/perl5/perlbrew/perls/perl-5.18.4/bin/perl5.18.4
t/00-load.t ............... ok
# NAME=chipmunk
# VERSION=6.2.2
# CFLAGS=-I/home/njh/.cpan/build/Alien-Chipmunk-0.001002-PasiiZ/blib/lib/auto/share/dist/Alien-Chipmunk/include/chipmunk -I/home/njh/.cpan/build/Alien-Chipmunk-0.001002-PasiiZ/blib/lib/auto/share/dist/Alien-Chipmunk/include/chipmunk/constraints
# LIBS=-L/home/njh/.cpan/build/Alien-Chipmunk-0.001002-PasiiZ/blib/lib/auto/share/dist/Alien-Chipmunk/lib -lchipmunk -lm
t/01-config.t ............. ok
In file included from /home/njh/.cpan/build/Alien-Chipmunk-0.001002-PasiiZ/blib/lib/auto/share/dist/Alien-Chipmunk/include/chipmunk/chipmunk.h:63:0,
                 from t/src/test.c:1:
/home/njh/.cpan/build/Alien-Chipmunk-0.001002-PasiiZ/blib/lib/auto/share/dist/Alien-Chipmunk/include/chipmunk/chipmunk_types.h:8:7: warning: "TARGET_OS_IPHONE" is not defined [-Wundef]
 #if ((TARGET_OS_IPHONE == 1) || (TARGET_OS_MAC == 1)) && (!defined CP_USE_CGPOINTS)
       ^
/home/njh/.cpan/build/Alien-Chipmunk-0.001002-PasiiZ/blib/lib/auto/share/dist/Alien-Chipmunk/include/chipmunk/chipmunk_types.h:8:34: warning: "TARGET_OS_MAC" is not defined [-Wundef]
 #if ((TARGET_OS_IPHONE == 1) || (TARGET_OS_MAC == 1)) && (!defined CP_USE_CGPOINTS)
                                  ^
/home/njh/.cpan/build/Alien-Chipmunk-0.001002-PasiiZ/blib/lib/auto/share/dist/Alien-Chipmunk/include/chipmunk/chipmunk_types.h:12:5: warning: "CP_USE_CGPOINTS" is not defined [-Wundef]
 #if CP_USE_CGPOINTS == 1
     ^
/home/njh/.cpan/build/Alien-Chipmunk-0.001002-PasiiZ/blib/lib/auto/share/dist/Alien-Chipmunk/include/chipmunk/chipmunk_types.h:211:5: warning: "CP_USE_CGPOINTS" is not defined [-Wundef]
 #if CP_USE_CGPOINTS
     ^
In file included from /home/njh/.cpan/build/Alien-Chipmunk-0.001002-PasiiZ/blib/lib/auto/share/dist/Alien-Chipmunk/include/chipmunk/chipmunk.h:100:0,
                 from t/src/test.c:1:
/home/njh/.cpan/build/Alien-Chipmunk-0.001002-PasiiZ/blib/lib/auto/share/dist/Alien-Chipmunk/include/chipmunk/cpVect.h: In function ‘cpveql’:
/home/njh/.cpan/build/Alien-Chipmunk-0.001002-PasiiZ/blib/lib/auto/share/dist/Alien-Chipmunk/include/chipmunk/cpVect.h:50:15: warning: comparing floating point with == or != is unsafe [-Wfloat-equal]
  return (v1.x == v2.x && v1.y == v2.y);
               ^
/home/njh/.cpan/build/Alien-Chipmunk-0.001002-PasiiZ/blib/lib/auto/share/dist/Alien-Chipmunk/include/chipmunk/cpVect.h:50:31: warning: comparing floating point with == or != is unsafe [-Wfloat-equal]
  return (v1.x == v2.x && v1.y == v2.y);
                               ^
In file included from /home/njh/.cpan/build/Alien-Chipmunk-0.001002-PasiiZ/blib/lib/auto/share/dist/Alien-Chipmunk/include/chipmunk/chipmunk.h:101:0,
                 from t/src/test.c:1:
/home/njh/.cpan/build/Alien-Chipmunk-0.001002-PasiiZ/blib/lib/auto/share/dist/Alien-Chipmunk/include/chipmunk/cpBB.h: In function ‘cpBBSegmentQuery’:
/home/njh/.cpan/build/Alien-Chipmunk-0.001002-PasiiZ/blib/lib/auto/share/dist/Alien-Chipmunk/include/chipmunk/cpBB.h:105:22: warning: comparing floating point with == or != is unsafe [-Wfloat-equal]
  cpFloat tx1 = (bb.l == a.x ? -INFINITY : (bb.l - a.x)*idx);
                      ^
/home/njh/.cpan/build/Alien-Chipmunk-0.001002-PasiiZ/blib/lib/auto/share/dist/Alien-Chipmunk/include/chipmunk/cpBB.h:106:22: warning: comparing floating point with == or != is unsafe [-Wfloat-equal]
  cpFloat tx2 = (bb.r == a.x ?  INFINITY : (bb.r - a.x)*idx);
                      ^
/home/njh/.cpan/build/Alien-Chipmunk-0.001002-PasiiZ/blib/lib/auto/share/dist/Alien-Chipmunk/include/chipmunk/cpBB.h:111:22: warning: comparing floating point with == or != is unsafe [-Wfloat-equal]
  cpFloat ty1 = (bb.b == a.y ? -INFINITY : (bb.b - a.y)*idy);
                      ^
/home/njh/.cpan/build/Alien-Chipmunk-0.001002-PasiiZ/blib/lib/auto/share/dist/Alien-Chipmunk/include/chipmunk/cpBB.h:112:22: warning: comparing floating point with == or != is unsafe [-Wfloat-equal]
  cpFloat ty2 = (bb.t == a.y ?  INFINITY : (bb.t - a.y)*idy);
                      ^
/home/njh/.cpan/build/Alien-Chipmunk-0.001002-PasiiZ/blib/lib/auto/share/dist/Alien-Chipmunk/include/chipmunk/cpBB.h: In function ‘cpBBIntersectsSegment’:
/home/njh/.cpan/build/Alien-Chipmunk-0.001002-PasiiZ/blib/lib/auto/share/dist/Alien-Chipmunk/include/chipmunk/cpBB.h:129:37: warning: comparing floating point with == or != is unsafe [-Wfloat-equal]
  return (cpBBSegmentQuery(bb, a, b) != INFINITY);
                                     ^
In file included from /home/njh/.cpan/build/Alien-Chipmunk-0.001002-PasiiZ/blib/lib/auto/share/dist/Alien-Chipmunk/include/chipmunk/chipmunk.h:104:0,
                 from t/src/test.c:1:
/home/njh/.cpan/build/Alien-Chipmunk-0.001002-PasiiZ/blib/lib/auto/share/dist/Alien-Chipmunk/include/chipmunk/cpBody.h: In function ‘cpBodyIsStatic’:
/home/njh/.cpan/build/Alien-Chipmunk-0.001002-PasiiZ/blib/lib/auto/share/dist/Alien-Chipmunk/include/chipmunk/cpBody.h:147:41: warning: comparing floating point with == or != is unsafe [-Wfloat-equal]
  return CP_PRIVATE(body->node).idleTime == INFINITY;
                                         ^
In file included from /home/njh/.cpan/build/Alien-Chipmunk-0.001002-PasiiZ/blib/lib/auto/share/dist/Alien-Chipmunk/include/chipmunk/chipmunk.h:104:0,
                 from t/src/test.c:1:
/home/njh/.cpan/build/Alien-Chipmunk-0.001002-PasiiZ/blib/lib/auto/share/dist/Alien-Chipmunk/include/chipmunk/cpBody.h: In function ‘cpBodyKineticEnergy’:
/home/njh/.cpan/build/Alien-Chipmunk-0.001002-PasiiZ/blib/lib/auto/share/dist/Alien-Chipmunk/include/chipmunk/cpBody.h:233:14: warning: comparing floating point with == or != is unsafe [-Wfloat-equal]
  return (vsq ? vsq*body->m : 0.0f) + (wsq ? wsq*body->i : 0.0f);
              ^
/home/njh/.cpan/build/Alien-Chipmunk-0.001002-PasiiZ/blib/lib/auto/share/dist/Alien-Chipmunk/include/chipmunk/cpBody.h:233:43: warning: comparing floating point with == or != is unsafe [-Wfloat-equal]
  return (vsq ? vsq*body->m : 0.0f) + (wsq ? wsq*body->i : 0.0f);
                                           ^
In file included from /home/njh/.cpan/build/Alien-Chipmunk-0.001002-PasiiZ/blib/lib/auto/share/dist/Alien-Chipmunk/include/chipmunk/chipmunk.h:109:0,
                 from t/src/test.c:1:
/home/njh/.cpan/build/Alien-Chipmunk-0.001002-PasiiZ/blib/lib/auto/share/dist/Alien-Chipmunk/include/chipmunk/constraints/cpPinJoint.h: In function ‘cpPinJointGetAnchr1’:
/home/njh/.cpan/build/Alien-Chipmunk-0.001002-PasiiZ/blib/lib/auto/share/dist/Alien-Chipmunk/include/chipmunk/constraints/cpConstraint.h:138:10: warning: cast discards ‘const’ qualifier from pointer target type [-Wcast-qual]
  return ((struct *)constraint)->member; \
          ^
/home/njh/.cpan/build/Alien-Chipmunk-0.001002-PasiiZ/blib/lib/auto/share/dist/Alien-Chipmunk/include/chipmunk/constraints/cpConstraint.h:149:1: note: in expansion of macro ‘CP_DefineConstraintGetter’
 CP_DefineConstraintGetter(struct, type, member, name) \
 ^
/home/njh/.cpan/build/Alien-Chipmunk-0.001002-PasiiZ/blib/lib/auto/share/dist/Alien-Chipmunk/include/chipmunk/constraints/cpPinJoint.h:48:1: note: in expansion of macro ‘CP_DefineConstraintProperty’
 CP_DefineConstraintProperty(cpPinJoint, cpVect, anchr1, Anchr1)
 ^
/home/njh/.cpan/build/Alien-Chipmunk-0.001002-PasiiZ/blib/lib/auto/share/dist/Alien-Chipmunk/include/chipmunk/constraints/cpPinJoint.h: In function ‘cpPinJointGetAnchr2’:
/home/njh/.cpan/build/Alien-Chipmunk-0.001002-PasiiZ/blib/lib/auto/share/dist/Alien-Chipmunk/include/chipmunk/constraints/cpConstraint.h:138:10: warning: cast discards ‘const’ qualifier from pointer target type [-Wcast-qual]
  return ((struct *)constraint)->member; \
          ^
/home/njh/.cpan/build/Alien-Chipmunk-0.001002-PasiiZ/blib/lib/auto/share/dist/Alien-Chipmunk/include/chipmunk/constraints/cpConstraint.h:149:1: note: in expansion of macro ‘CP_DefineConstraintGetter’
 CP_DefineConstraintGetter(struct, type, member, name) \
 ^
/home/njh/.cpan/build/Alien-Chipmunk-0.001002-PasiiZ/blib/lib/auto/share/dist/Alien-Chipmunk/include/chipmunk/constraints/cpPinJoint.h:49:1: note: in expansion of macro ‘CP_DefineConstraintProperty’
 CP_DefineConstraintProperty(cpPinJoint, cpVect, anchr2, Anchr2)
 ^
/home/njh/.cpan/build/Alien-Chipmunk-0.001002-PasiiZ/blib/lib/auto/share/dist/Alien-Chipmunk/include/chipmunk/constraints/cpPinJoint.h: In function ‘cpPinJointGetDist’:
/home/njh/.cpan/build/Alien-Chipmunk-0.001002-PasiiZ/blib/lib/auto/share/dist/Alien-Chipmunk/include/chipmunk/constraints/cpConstraint.h:138:10: warning: cast discards ‘const’ qualifier from pointer target type [-Wcast-qual]
  return ((struct *)constraint)->member; \
          ^
/home/njh/.cpan/build/Alien-Chipmunk-0.001002-PasiiZ/blib/lib/auto/share/dist/Alien-Chipmunk/include/chipmunk/constraints/cpConstraint.h:149:1: note: in expansion of macro ‘CP_DefineConstraintGetter’
 CP_DefineConstraintGetter(struct, type, member, name) \
 ^
/home/njh/.cpan/build/Alien-Chipmunk-0.001002-PasiiZ/blib/lib/auto/share/dist/Alien-Chipmunk/include/chipmunk/constraints/cpPinJoint.h:50:1: note: in expansion of macro ‘CP_DefineConstraintProperty’
 CP_DefineConstraintProperty(cpPinJoint, cpFloat, dist, Dist)
 ^
/home/njh/.cpan/build/Alien-Chipmunk-0.001002-PasiiZ/blib/lib/auto/share/dist/Alien-Chipmunk/include/chipmunk/constraints/cpSlideJoint.h: In function ‘cpSlideJointGetAnchr1’:
/home/njh/.cpan/build/Alien-Chipmunk-0.001002-PasiiZ/blib/lib/auto/share/dist/Alien-Chipmunk/include/chipmunk/constraints/cpConstraint.h:138:10: warning: cast discards ‘const’ qualifier from pointer target type [-Wcast-qual]
  return ((struct *)constraint)->member; \
          ^
/home/njh/.cpan/build/Alien-Chipmunk-0.001002-PasiiZ/blib/lib/auto/share/dist/Alien-Chipmunk/include/chipmunk/constraints/cpConstraint.h:149:1: note: in expansion of macro ‘CP_DefineConstraintGetter’
 CP_DefineConstraintGetter(struct, type, member, name) \
 ^
/home/njh/.cpan/build/Alien-Chipmunk-0.001002-PasiiZ/blib/lib/auto/share/dist/Alien-Chipmunk/include/chipmunk/constraints/cpSlideJoint.h:48:1: note: in expansion of macro ‘CP_DefineConstraintProperty’
 CP_DefineConstraintProperty(cpSlideJoint, cpVect, anchr1, Anchr1)
 ^
/home/njh/.cpan/build/Alien-Chipmunk-0.001002-PasiiZ/blib/lib/auto/share/dist/Alien-Chipmunk/include/chipmunk/constraints/cpSlideJoint.h: In function ‘cpSlideJointGetAnchr2’:
/home/njh/.cpan/build/Alien-Chipmunk-0.001002-PasiiZ/blib/lib/auto/share/dist/Alien-Chipmunk/include/chipmunk/constraints/cpConstraint.h:138:10: warning: cast discards ‘const’ qualifier from pointer target type [-Wcast-qual]
  return ((struct *)constraint)->member; \
          ^
/home/njh/.cpan/build/Alien-Chipmunk-0.001002-PasiiZ/blib/lib/auto/share/dist/Alien-Chipmunk/include/chipmunk/constraints/cpConstraint.h:149:1: note: in expansion of macro ‘CP_DefineConstraintGetter’
 CP_DefineConstraintGetter(struct, type, member, name) \
 ^
/home/njh/.cpan/build/Alien-Chipmunk-0.001002-PasiiZ/blib/lib/auto/share/dist/Alien-Chipmunk/include/chipmunk/constraints/cpSlideJoint.h:49:1: note: in expansion of macro ‘CP_DefineConstraintProperty’
 CP_DefineConstraintProperty(cpSlideJoint, cpVect, anchr2, Anchr2)
 ^
/home/njh/.cpan/build/Alien-Chipmunk-0.001002-PasiiZ/blib/lib/auto/share/dist/Alien-Chipmunk/include/chipmunk/constraints/cpSlideJoint.h: In function ‘cpSlideJointGetMin’:
/home/njh/.cpan/build/Alien-Chipmunk-0.001002-PasiiZ/blib/lib/auto/share/dist/Alien-Chipmunk/include/chipmunk/constraints/cpConstraint.h:138:10: warning: cast discards ‘const’ qualifier from pointer target type [-Wcast-qual]
  return ((struct *)constraint)->member; \
          ^
/home/njh/.cpan/build/Alien-Chipmunk-0.001002-PasiiZ/blib/lib/auto/share/dist/Alien-Chipmunk/include/chipmunk/constraints/cpConstraint.h:149:1: note: in expansion of macro ‘CP_DefineConstraintGetter’
 CP_DefineConstraintGetter(struct, type, member, name) \
 ^
/home/njh/.cpan/build/Alien-Chipmunk-0.001002-PasiiZ/blib/lib/auto/share/dist/Alien-Chipmunk/include/chipmunk/constraints/cpSlideJoint.h:50:1: note: in expansion of macro ‘CP_DefineConstraintProperty’
 CP_DefineConstraintProperty(cpSlideJoint, cpFloat, min, Min)
 ^
/home/njh/.cpan/build/Alien-Chipmunk-0.001002-PasiiZ/blib/lib/auto/share/dist/Alien-Chipmunk/include/chipmunk/constraints/cpSlideJoint.h: In function ‘cpSlideJointGetMax’:
/home/njh/.cpan/build/Alien-Chipmunk-0.001002-PasiiZ/blib/lib/auto/share/dist/Alien-Chipmunk/include/chipmunk/constraints/cpConstraint.h:138:10: warning: cast discards ‘const’ qualifier from pointer target type [-Wcast-qual]
  return ((struct *)constraint)->member; \
          ^
/home/njh/.cpan/build/Alien-Chipmunk-0.001002-PasiiZ/blib/lib/auto/share/dist/Alien-Chipmunk/include/chipmunk/constraints/cpConstraint.h:149:1: note: in expansion of macro ‘CP_DefineConstraintGetter’
 CP_DefineConstraintGetter(struct, type, member, name) \
 ^
/home/njh/.cpan/build/Alien-Chipmunk-0.001002-PasiiZ/blib/lib/auto/share/dist/Alien-Chipmunk/include/chipmunk/constraints/cpSlideJoint.h:51:1: note: in expansion of macro ‘CP_DefineConstraintProperty’
 CP_DefineConstraintProperty(cpSlideJoint, cpFloat, max, Max)
 ^
/home/njh/.cpan/build/Alien-Chipmunk-0.001002-PasiiZ/blib/lib/auto/share/dist/Alien-Chipmunk/include/chipmunk/constraints/cpPivotJoint.h: In function ‘cpPivotJointGetAnchr1’:
/home/njh/.cpan/build/Alien-Chipmunk-0.001002-PasiiZ/blib/lib/auto/share/dist/Alien-Chipmunk/include/chipmunk/constraints/cpConstraint.h:138:10: warning: cast discards ‘const’ qualifier from pointer target type [-Wcast-qual]
  return ((struct *)constraint)->member; \
          ^
/home/njh/.cpan/build/Alien-Chipmunk-0.001002-PasiiZ/blib/lib/auto/share/dist/Alien-Chipmunk/include/chipmunk/constraints/cpConstraint.h:149:1: note: in expansion of macro ‘CP_DefineConstraintGetter’
 CP_DefineConstraintGetter(struct, type, member, name) \
 ^
/home/njh/.cpan/build/Alien-Chipmunk-0.001002-PasiiZ/blib/lib/auto/share/dist/Alien-Chipmunk/include/chipmunk/constraints/cpPivotJoint.h:48:1: note: in expansion of macro ‘CP_DefineConstraintProperty’
 CP_DefineConstraintProperty(cpPivotJoint, cpVect, anchr1, Anchr1)
 ^
/home/njh/.cpan/build/Alien-Chipmunk-0.001002-PasiiZ/blib/lib/auto/share/dist/Alien-Chipmunk/include/chipmunk/constraints/cpPivotJoint.h: In function ‘cpPivotJointGetAnchr2’:
/home/njh/.cpan/build/Alien-Chipmunk-0.001002-PasiiZ/blib/lib/auto/share/dist/Alien-Chipmunk/include/chipmunk/constraints/cpConstraint.h:138:10: warning: cast discards ‘const’ qualifier from pointer target type [-Wcast-qual]
  return ((struct *)constraint)->member; \
          ^
/home/njh/.cpan/build/Alien-Chipmunk-0.001002-PasiiZ/blib/lib/auto/share/dist/Alien-Chipmunk/include/chipmunk/constraints/cpConstraint.h:149:1: note: in expansion of macro ‘CP_DefineConstraintGetter’
 CP_DefineConstraintGetter(struct, type, member, name) \
 ^
/home/njh/.cpan/build/Alien-Chipmunk-0.001002-PasiiZ/blib/lib/auto/share/dist/Alien-Chipmunk/include/chipmunk/constraints/cpPivotJoint.h:49:1: note: in expansion of macro ‘CP_DefineConstraintProperty’
 CP_DefineConstraintProperty(cpPivotJoint, cpVect, anchr2, Anchr2)
 ^
/home/njh/.cpan/build/Alien-Chipmunk-0.001002-PasiiZ/blib/lib/auto/share/dist/Alien-Chipmunk/include/chipmunk/constraints/cpGrooveJoint.h: In function ‘cpGrooveJointGetGrooveA’:
/home/njh/.cpan/build/Alien-Chipmunk-0.001002-PasiiZ/blib/lib/auto/share/dist/Alien-Chipmunk/include/chipmunk/constraints/cpConstraint.h:138:10: warning: cast discards ‘const’ qualifier from pointer target type [-Wcast-qual]
  return ((struct *)constraint)->member; \
          ^
/home/njh/.cpan/build/Alien-Chipmunk-0.001002-PasiiZ/blib/lib/auto/share/dist/Alien-Chipmunk/include/chipmunk/constraints/cpGrooveJoint.h:49:1: note: in expansion of macro ‘CP_DefineConstraintGetter’
 CP_DefineConstraintGetter(cpGrooveJoint, cpVect, grv_a, GrooveA)
 ^
/home/njh/.cpan/build/Alien-Chipmunk-0.001002-PasiiZ/blib/lib/auto/share/dist/Alien-Chipmunk/include/chipmunk/constraints/cpGrooveJoint.h: In function ‘cpGrooveJointGetGrooveB’:
/home/njh/.cpan/build/Alien-Chipmunk-0.001002-PasiiZ/blib/lib/auto/share/dist/Alien-Chipmunk/include/chipmunk/constraints/cpConstraint.h:138:10: warning: cast discards ‘const’ qualifier from pointer target type [-Wcast-qual]
  return ((struct *)constraint)->member; \
          ^
/home/njh/.cpan/build/Alien-Chipmunk-0.001002-PasiiZ/blib/lib/auto/share/dist/Alien-Chipmunk/include/chipmunk/constraints/cpGrooveJoint.h:52:1: note: in expansion of macro ‘CP_DefineConstraintGetter’
 CP_DefineConstraintGetter(cpGrooveJoint, cpVect, grv_b, GrooveB)
 ^
/home/njh/.cpan/build/Alien-Chipmunk-0.001002-PasiiZ/blib/lib/auto/share/dist/Alien-Chipmunk/include/chipmunk/constraints/cpGrooveJoint.h: In function ‘cpGrooveJointGetAnchr2’:
/home/njh/.cpan/build/Alien-Chipmunk-0.001002-PasiiZ/blib/lib/auto/share/dist/Alien-Chipmunk/include/chipmunk/constraints/cpConstraint.h:138:10: warning: cast discards ‘const’ qualifier from pointer target type [-Wcast-qual]
  return ((struct *)constraint)->member; \
          ^
/home/njh/.cpan/build/Alien-Chipmunk-0.001002-PasiiZ/blib/lib/auto/share/dist/Alien-Chipmunk/include/chipmunk/constraints/cpConstraint.h:149:1: note: in expansion of macro ‘CP_DefineConstraintGetter’
 CP_DefineConstraintGetter(struct, type, member, name) \
 ^
/home/njh/.cpan/build/Alien-Chipmunk-0.001002-PasiiZ/blib/lib/auto/share/dist/Alien-Chipmunk/include/chipmunk/constraints/cpGrooveJoint.h:55:1: note: in expansion of macro ‘CP_DefineConstraintProperty’
 CP_DefineConstraintProperty(cpGrooveJoint, cpVect, anchr2, Anchr2)
 ^
/home/njh/.cpan/build/Alien-Chipmunk-0.001002-PasiiZ/blib/lib/auto/share/dist/Alien-Chipmunk/include/chipmunk/constraints/cpDampedSpring.h: In function ‘cpDampedSpringGetAnchr1’:
/home/njh/.cpan/build/Alien-Chipmunk-0.001002-PasiiZ/blib/lib/auto/share/dist/Alien-Chipmunk/include/chipmunk/constraints/cpConstraint.h:138:10: warning: cast discards ‘const’ qualifier from pointer target type [-Wcast-qual]
  return ((struct *)constraint)->member; \
          ^
/home/njh/.cpan/build/Alien-Chipmunk-0.001002-PasiiZ/blib/lib/auto/share/dist/Alien-Chipmunk/include/chipmunk/constraints/cpConstraint.h:149:1: note: in expansion of macro ‘CP_DefineConstraintGetter’
 CP_DefineConstraintGetter(struct, type, member, name) \
 ^
/home/njh/.cpan/build/Alien-Chipmunk-0.001002-PasiiZ/blib/lib/auto/share/dist/Alien-Chipmunk/include/chipmunk/constraints/cpDampedSpring.h:57:1: note: in expansion of macro ‘CP_DefineConstraintProperty’
 CP_DefineConstraintProperty(cpDampedSpring, cpVect, anchr1, Anchr1)
 ^
/home/njh/.cpan/build/Alien-Chipmunk-0.001002-PasiiZ/blib/lib/auto/share/dist/Alien-Chipmunk/include/chipmunk/constraints/cpDampedSpring.h: In function ‘cpDampedSpringGetAnchr2’:
/home/njh/.cpan/build/Alien-Chipmunk-0.001002-PasiiZ/blib/lib/auto/share/dist/Alien-Chipmunk/include/chipmunk/constraints/cpConstraint.h:138:10: warning: cast discards ‘const’ qualifier from pointer target type [-Wcast-qual]
  return ((struct *)constraint)->member; \
          ^
/home/njh/.cpan/build/Alien-Chipmunk-0.001002-PasiiZ/blib/lib/auto/share/dist/Alien-Chipmunk/include/chipmunk/constraints/cpConstraint.h:149:1: note: in expansion of macro ‘CP_DefineConstraintGetter’
 CP_DefineConstraintGetter(struct, type, member, name) \
 ^
/home/njh/.cpan/build/Alien-Chipmunk-0.001002-PasiiZ/blib/lib/auto/share/dist/Alien-Chipmunk/include/chipmunk/constraints/cpDampedSpring.h:58:1: note: in expansion of macro ‘CP_DefineConstraintProperty’
 CP_DefineConstraintProperty(cpDampedSpring, cpVect, anchr2, Anchr2)
 ^
/home/njh/.cpan/build/Alien-Chipmunk-0.001002-PasiiZ/blib/lib/auto/share/dist/Alien-Chipmunk/include/chipmunk/constraints/cpDampedSpring.h: In function ‘cpDampedSpringGetRestLength’:
/home/njh/.cpan/build/Alien-Chipmunk-0.001002-PasiiZ/blib/lib/auto/share/dist/Alien-Chipmunk/include/chipmunk/constraints/cpConstraint.h:138:10: warning: cast discards ‘const’ qualifier from pointer target type [-Wcast-qual]
  return ((struct *)constraint)->member; \
          ^
/home/njh/.cpan/build/Alien-Chipmunk-0.001002-PasiiZ/blib/lib/auto/share/dist/Alien-Chipmunk/include/chipmunk/constraints/cpConstraint.h:149:1: note: in expansion of macro ‘CP_DefineConstraintGetter’
 CP_DefineConstraintGetter(struct, type, member, name) \
 ^
/home/njh/.cpan/build/Alien-Chipmunk-0.001002-PasiiZ/blib/lib/auto/share/dist/Alien-Chipmunk/include/chipmunk/constraints/cpDampedSpring.h:59:1: note: in expansion of macro ‘CP_DefineConstraintProperty’
 CP_DefineConstraintProperty(cpDampedSpring, cpFloat, restLength, RestLength)
 ^
/home/njh/.cpan/build/Alien-Chipmunk-0.001002-PasiiZ/blib/lib/auto/share/dist/Alien-Chipmunk/include/chipmunk/constraints/cpDampedSpring.h: In function ‘cpDampedSpringGetStiffness’:
/home/njh/.cpan/build/Alien-Chipmunk-0.001002-PasiiZ/blib/lib/auto/share/dist/Alien-Chipmunk/include/chipmunk/constraints/cpConstraint.h:138:10: warning: cast discards ‘const’ qualifier from pointer target type [-Wcast-qual]
  return ((struct *)constraint)->member; \
          ^
/home/njh/.cpan/build/Alien-Chipmunk-0.001002-PasiiZ/blib/lib/auto/share/dist/Alien-Chipmunk/include/chipmunk/constraints/cpConstraint.h:149:1: note: in expansion of macro ‘CP_DefineConstraintGetter’
 CP_DefineConstraintGetter(struct, type, member, name) \
 ^
/home/njh/.cpan/build/Alien-Chipmunk-0.001002-PasiiZ/blib/lib/auto/share/dist/Alien-Chipmunk/include/chipmunk/constraints/cpDampedSpring.h:60:1: note: in expansion of macro ‘CP_DefineConstraintProperty’
 CP_DefineConstraintProperty(cpDampedSpring, cpFloat, stiffness, Stiffness)
 ^
/home/njh/.cpan/build/Alien-Chipmunk-0.001002-PasiiZ/blib/lib/auto/share/dist/Alien-Chipmunk/include/chipmunk/constraints/cpDampedSpring.h: In function ‘cpDampedSpringGetDamping’:
/home/njh/.cpan/build/Alien-Chipmunk-0.001002-PasiiZ/blib/lib/auto/share/dist/Alien-Chipmunk/include/chipmunk/constraints/cpConstraint.h:138:10: warning: cast discards ‘const’ qualifier from pointer target type [-Wcast-qual]
  return ((struct *)constraint)->member; \
          ^
/home/njh/.cpan/build/Alien-Chipmunk-0.001002-PasiiZ/blib/lib/auto/share/dist/Alien-Chipmunk/include/chipmunk/constraints/cpConstraint.h:149:1: note: in expansion of macro ‘CP_DefineConstraintGetter’
 CP_DefineConstraintGetter(struct, type, member, name) \
 ^
/home/njh/.cpan/build/Alien-Chipmunk-0.001002-PasiiZ/blib/lib/auto/share/dist/Alien-Chipmunk/include/chipmunk/constraints/cpDampedSpring.h:61:1: note: in expansion of macro ‘CP_DefineConstraintProperty’
 CP_DefineConstraintProperty(cpDampedSpring, cpFloat, damping, Damping)
 ^
/home/njh/.cpan/build/Alien-Chipmunk-0.001002-PasiiZ/blib/lib/auto/share/dist/Alien-Chipmunk/include/chipmunk/constraints/cpDampedSpring.h: In function ‘cpDampedSpringGetSpringForceFunc’:
/home/njh/.cpan/build/Alien-Chipmunk-0.001002-PasiiZ/blib/lib/auto/share/dist/Alien-Chipmunk/include/chipmunk/constraints/cpConstraint.h:138:10: warning: cast discards ‘const’ qualifier from pointer target type [-Wcast-qual]
  return ((struct *)constraint)->member; \
          ^
/home/njh/.cpan/build/Alien-Chipmunk-0.001002-PasiiZ/blib/lib/auto/share/dist/Alien-Chipmunk/include/chipmunk/constraints/cpConstraint.h:149:1: note: in expansion of macro ‘CP_DefineConstraintGetter’
 CP_DefineConstraintGetter(struct, type, member, name) \
 ^
/home/njh/.cpan/build/Alien-Chipmunk-0.001002-PasiiZ/blib/lib/auto/share/dist/Alien-Chipmunk/include/chipmunk/constraints/cpDampedSpring.h:62:1: note: in expansion of macro ‘CP_DefineConstraintProperty’
 CP_DefineConstraintProperty(cpDampedSpring, cpDampedSpringForceFunc, springForceFunc, SpringForceFunc)
 ^
/home/njh/.cpan/build/Alien-Chipmunk-0.001002-PasiiZ/blib/lib/auto/share/dist/Alien-Chipmunk/include/chipmunk/constraints/cpDampedRotarySpring.h: In function ‘cpDampedRotarySpringGetRestAngle’:
/home/njh/.cpan/build/Alien-Chipmunk-0.001002-PasiiZ/blib/lib/auto/share/dist/Alien-Chipmunk/include/chipmunk/constraints/cpConstraint.h:138:10: warning: cast discards ‘const’ qualifier from pointer target type [-Wcast-qual]
  return ((struct *)constraint)->member; \
          ^
/home/njh/.cpan/build/Alien-Chipmunk-0.001002-PasiiZ/blib/lib/auto/share/dist/Alien-Chipmunk/include/chipmunk/constraints/cpConstraint.h:149:1: note: in expansion of macro ‘CP_DefineConstraintGetter’
 CP_DefineConstraintGetter(struct, type, member, name) \
 ^
/home/njh/.cpan/build/Alien-Chipmunk-0.001002-PasiiZ/blib/lib/auto/share/dist/Alien-Chipmunk/include/chipmunk/constraints/cpDampedRotarySpring.h:51:1: note: in expansion of macro ‘CP_DefineConstraintProperty’
 CP_DefineConstraintProperty(cpDampedRotarySpring, cpFloat, restAngle, RestAngle)
 ^
/home/njh/.cpan/build/Alien-Chipmunk-0.001002-PasiiZ/blib/lib/auto/share/dist/Alien-Chipmunk/include/chipmunk/constraints/cpDampedRotarySpring.h: In function ‘cpDampedRotarySpringGetStiffness’:
/home/njh/.cpan/build/Alien-Chipmunk-0.001002-PasiiZ/blib/lib/auto/share/dist/Alien-Chipmunk/include/chipmunk/constraints/cpConstraint.h:138:10: warning: cast discards ‘const’ qualifier from pointer target type [-Wcast-qual]
  return ((struct *)constraint)->member; \
          ^
/home/njh/.cpan/build/Alien-Chipmunk-0.001002-PasiiZ/blib/lib/auto/share/dist/Alien-Chipmunk/include/chipmunk/constraints/cpConstraint.h:149:1: note: in expansion of macro ‘CP_DefineConstraintGetter’
 CP_DefineConstraintGetter(struct, type, member, name) \
 ^
/home/njh/.cpan/build/Alien-Chipmunk-0.001002-PasiiZ/blib/lib/auto/share/dist/Alien-Chipmunk/include/chipmunk/constraints/cpDampedRotarySpring.h:52:1: note: in expansion of macro ‘CP_DefineConstraintProperty’
 CP_DefineConstraintProperty(cpDampedRotarySpring, cpFloat, stiffness, Stiffness)
 ^
/home/njh/.cpan/build/Alien-Chipmunk-0.001002-PasiiZ/blib/lib/auto/share/dist/Alien-Chipmunk/include/chipmunk/constraints/cpDampedRotarySpring.h: In function ‘cpDampedRotarySpringGetDamping’:
/home/njh/.cpan/build/Alien-Chipmunk-0.001002-PasiiZ/blib/lib/auto/share/dist/Alien-Chipmunk/include/chipmunk/constraints/cpConstraint.h:138:10: warning: cast discards ‘const’ qualifier from pointer target type [-Wcast-qual]
  return ((struct *)constraint)->member; \
          ^
/home/njh/.cpan/build/Alien-Chipmunk-0.001002-PasiiZ/blib/lib/auto/share/dist/Alien-Chipmunk/include/chipmunk/constraints/cpConstraint.h:149:1: note: in expansion of macro ‘CP_DefineConstraintGetter’
 CP_DefineConstraintGetter(struct, type, member, name) \
 ^
/home/njh/.cpan/build/Alien-Chipmunk-0.001002-PasiiZ/blib/lib/auto/share/dist/Alien-Chipmunk/include/chipmunk/constraints/cpDampedRotarySpring.h:53:1: note: in expansion of macro ‘CP_DefineConstraintProperty’
 CP_DefineConstraintProperty(cpDampedRotarySpring, cpFloat, damping, Damping)
 ^
/home/njh/.cpan/build/Alien-Chipmunk-0.001002-PasiiZ/blib/lib/auto/share/dist/Alien-Chipmunk/include/chipmunk/constraints/cpDampedRotarySpring.h: In function ‘cpDampedRotarySpringGetSpringTorqueFunc’:
/home/njh/.cpan/build/Alien-Chipmunk-0.001002-PasiiZ/blib/lib/auto/share/dist/Alien-Chipmunk/include/chipmunk/constraints/cpConstraint.h:138:10: warning: cast discards ‘const’ qualifier from pointer target type [-Wcast-qual]
  return ((struct *)constraint)->member; \
          ^
/home/njh/.cpan/build/Alien-Chipmunk-0.001002-PasiiZ/blib/lib/auto/share/dist/Alien-Chipmunk/include/chipmunk/constraints/cpConstraint.h:149:1: note: in expansion of macro ‘CP_DefineConstraintGetter’
 CP_DefineConstraintGetter(struct, type, member, name) \
 ^
/home/njh/.cpan/build/Alien-Chipmunk-0.001002-PasiiZ/blib/lib/auto/share/dist/Alien-Chipmunk/include/chipmunk/constraints/cpDampedRotarySpring.h:54:1: note: in expansion of macro ‘CP_DefineConstraintProperty’
 CP_DefineConstraintProperty(cpDampedRotarySpring, cpDampedRotarySpringTorqueFunc, springTorqueFunc, SpringTorqueFunc)
 ^
/home/njh/.cpan/build/Alien-Chipmunk-0.001002-PasiiZ/blib/lib/auto/share/dist/Alien-Chipmunk/include/chipmunk/constraints/cpRotaryLimitJoint.h: In function ‘cpRotaryLimitJointGetMin’:
/home/njh/.cpan/build/Alien-Chipmunk-0.001002-PasiiZ/blib/lib/auto/share/dist/Alien-Chipmunk/include/chipmunk/constraints/cpConstraint.h:138:10: warning: cast discards ‘const’ qualifier from pointer target type [-Wcast-qual]
  return ((struct *)constraint)->member; \
          ^
/home/njh/.cpan/build/Alien-Chipmunk-0.001002-PasiiZ/blib/lib/auto/share/dist/Alien-Chipmunk/include/chipmunk/constraints/cpConstraint.h:149:1: note: in expansion of macro ‘CP_DefineConstraintGetter’
 CP_DefineConstraintGetter(struct, type, member, name) \
 ^
/home/njh/.cpan/build/Alien-Chipmunk-0.001002-PasiiZ/blib/lib/auto/share/dist/Alien-Chipmunk/include/chipmunk/constraints/cpRotaryLimitJoint.h:45:1: note: in expansion of macro ‘CP_DefineConstraintProperty’
 CP_DefineConstraintProperty(cpRotaryLimitJoint, cpFloat, min, Min)
 ^
/home/njh/.cpan/build/Alien-Chipmunk-0.001002-PasiiZ/blib/lib/auto/share/dist/Alien-Chipmunk/include/chipmunk/constraints/cpRotaryLimitJoint.h: In function ‘cpRotaryLimitJointGetMax’:
/home/njh/.cpan/build/Alien-Chipmunk-0.001002-PasiiZ/blib/lib/auto/share/dist/Alien-Chipmunk/include/chipmunk/constraints/cpConstraint.h:138:10: warning: cast discards ‘const’ qualifier from pointer target type [-Wcast-qual]
  return ((struct *)constraint)->member; \
          ^
/home/njh/.cpan/build/Alien-Chipmunk-0.001002-PasiiZ/blib/lib/auto/share/dist/Alien-Chipmunk/include/chipmunk/constraints/cpConstraint.h:149:1: note: in expansion of macro ‘CP_DefineConstraintGetter’
 CP_DefineConstraintGetter(struct, type, member, name) \
 ^
/home/njh/.cpan/build/Alien-Chipmunk-0.001002-PasiiZ/blib/lib/auto/share/dist/Alien-Chipmunk/include/chipmunk/constraints/cpRotaryLimitJoint.h:46:1: note: in expansion of macro ‘CP_DefineConstraintProperty’
 CP_DefineConstraintProperty(cpRotaryLimitJoint, cpFloat, max, Max)
 ^
/home/njh/.cpan/build/Alien-Chipmunk-0.001002-PasiiZ/blib/lib/auto/share/dist/Alien-Chipmunk/include/chipmunk/constraints/cpRatchetJoint.h: In function ‘cpRatchetJointGetAngle’:
/home/njh/.cpan/build/Alien-Chipmunk-0.001002-PasiiZ/blib/lib/auto/share/dist/Alien-Chipmunk/include/chipmunk/constraints/cpConstraint.h:138:10: warning: cast discards ‘const’ qualifier from pointer target type [-Wcast-qual]
  return ((struct *)constraint)->member; \
          ^
/home/njh/.cpan/build/Alien-Chipmunk-0.001002-PasiiZ/blib/lib/auto/share/dist/Alien-Chipmunk/include/chipmunk/constraints/cpConstraint.h:149:1: note: in expansion of macro ‘CP_DefineConstraintGetter’
 CP_DefineConstraintGetter(struct, type, member, name) \
 ^
/home/njh/.cpan/build/Alien-Chipmunk-0.001002-PasiiZ/blib/lib/auto/share/dist/Alien-Chipmunk/include/chipmunk/constraints/cpRatchetJoint.h:45:1: note: in expansion of macro ‘CP_DefineConstraintProperty’
 CP_DefineConstraintProperty(cpRatchetJoint, cpFloat, angle, Angle)
 ^
/home/njh/.cpan/build/Alien-Chipmunk-0.001002-PasiiZ/blib/lib/auto/share/dist/Alien-Chipmunk/include/chipmunk/constraints/cpRatchetJoint.h: In function ‘cpRatchetJointGetPhase’:
/home/njh/.cpan/build/Alien-Chipmunk-0.001002-PasiiZ/blib/lib/auto/share/dist/Alien-Chipmunk/include/chipmunk/constraints/cpConstraint.h:138:10: warning: cast discards ‘const’ qualifier from pointer target type [-Wcast-qual]
  return ((struct *)constraint)->member; \
          ^
/home/njh/.cpan/build/Alien-Chipmunk-0.001002-PasiiZ/blib/lib/auto/share/dist/Alien-Chipmunk/include/chipmunk/constraints/cpConstraint.h:149:1: note: in expansion of macro ‘CP_DefineConstraintGetter’
 CP_DefineConstraintGetter(struct, type, member, name) \
 ^
/home/njh/.cpan/build/Alien-Chipmunk-0.001002-PasiiZ/blib/lib/auto/share/dist/Alien-Chipmunk/include/chipmunk/constraints/cpRatchetJoint.h:46:1: note: in expansion of macro ‘CP_DefineConstraintProperty’
 CP_DefineConstraintProperty(cpRatchetJoint, cpFloat, phase, Phase)
 ^
/home/njh/.cpan/build/Alien-Chipmunk-0.001002-PasiiZ/blib/lib/auto/share/dist/Alien-Chipmunk/include/chipmunk/constraints/cpRatchetJoint.h: In function ‘cpRatchetJointGetRatchet’:
/home/njh/.cpan/build/Alien-Chipmunk-0.001002-PasiiZ/blib/lib/auto/share/dist/Alien-Chipmunk/include/chipmunk/constraints/cpConstraint.h:138:10: warning: cast discards ‘const’ qualifier from pointer target type [-Wcast-qual]
  return ((struct *)constraint)->member; \
          ^
/home/njh/.cpan/build/Alien-Chipmunk-0.001002-PasiiZ/blib/lib/auto/share/dist/Alien-Chipmunk/include/chipmunk/constraints/cpConstraint.h:149:1: note: in expansion of macro ‘CP_DefineConstraintGetter’
 CP_DefineConstraintGetter(struct, type, member, name) \
 ^
/home/njh/.cpan/build/Alien-Chipmunk-0.001002-PasiiZ/blib/lib/auto/share/dist/Alien-Chipmunk/include/chipmunk/constraints/cpRatchetJoint.h:47:1: note: in expansion of macro ‘CP_DefineConstraintProperty’
 CP_DefineConstraintProperty(cpRatchetJoint, cpFloat, ratchet, Ratchet)
 ^
/home/njh/.cpan/build/Alien-Chipmunk-0.001002-PasiiZ/blib/lib/auto/share/dist/Alien-Chipmunk/include/chipmunk/constraints/cpGearJoint.h: In function ‘cpGearJointGetPhase’:
/home/njh/.cpan/build/Alien-Chipmunk-0.001002-PasiiZ/blib/lib/auto/share/dist/Alien-Chipmunk/include/chipmunk/constraints/cpConstraint.h:138:10: warning: cast discards ‘const’ qualifier from pointer target type [-Wcast-qual]
  return ((struct *)constraint)->member; \
          ^
/home/njh/.cpan/build/Alien-Chipmunk-0.001002-PasiiZ/blib/lib/auto/share/dist/Alien-Chipmunk/include/chipmunk/constraints/cpConstraint.h:149:1: note: in expansion of macro ‘CP_DefineConstraintGetter’
 CP_DefineConstraintGetter(struct, type, member, name) \
 ^
/home/njh/.cpan/build/Alien-Chipmunk-0.001002-PasiiZ/blib/lib/auto/share/dist/Alien-Chipmunk/include/chipmunk/constraints/cpGearJoint.h:46:1: note: in expansion of macro ‘CP_DefineConstraintProperty’
 CP_DefineConstraintProperty(cpGearJoint, cpFloat, phase, Phase)
 ^
/home/njh/.cpan/build/Alien-Chipmunk-0.001002-PasiiZ/blib/lib/auto/share/dist/Alien-Chipmunk/include/chipmunk/constraints/cpGearJoint.h: In function ‘cpGearJointGetRatio’:
/home/njh/.cpan/build/Alien-Chipmunk-0.001002-PasiiZ/blib/lib/auto/share/dist/Alien-Chipmunk/include/chipmunk/constraints/cpConstraint.h:138:10: warning: cast discards ‘const’ qualifier from pointer target type [-Wcast-qual]
  return ((struct *)constraint)->member; \
          ^
/home/njh/.cpan/build/Alien-Chipmunk-0.001002-PasiiZ/blib/lib/auto/share/dist/Alien-Chipmunk/include/chipmunk/constraints/cpGearJoint.h:47:1: note: in expansion of macro ‘CP_DefineConstraintGetter’
 CP_DefineConstraintGetter(cpGearJoint, cpFloat, ratio, Ratio)
 ^
/home/njh/.cpan/build/Alien-Chipmunk-0.001002-PasiiZ/blib/lib/auto/share/dist/Alien-Chipmunk/include/chipmunk/constraints/cpSimpleMotor.h: In function ‘cpSimpleMotorGetRate’:
/home/njh/.cpan/build/Alien-Chipmunk-0.001002-PasiiZ/blib/lib/auto/share/dist/Alien-Chipmunk/include/chipmunk/constraints/cpConstraint.h:138:10: warning: cast discards ‘const’ qualifier from pointer target type [-Wcast-qual]
  return ((struct *)constraint)->member; \
          ^
/home/njh/.cpan/build/Alien-Chipmunk-0.001002-PasiiZ/blib/lib/auto/share/dist/Alien-Chipmunk/include/chipmunk/constraints/cpConstraint.h:149:1: note: in expansion of macro ‘CP_DefineConstraintGetter’
 CP_DefineConstraintGetter(struct, type, member, name) \
 ^
/home/njh/.cpan/build/Alien-Chipmunk-0.001002-PasiiZ/blib/lib/auto/share/dist/Alien-Chipmunk/include/chipmunk/constraints/cpSimpleMotor.h:44:1: note: in expansion of macro ‘CP_DefineConstraintProperty’
 CP_DefineConstraintProperty(cpSimpleMotor, cpFloat, rate, Rate)
 ^
t/src/test.c: In function ‘main’:
t/src/test.c:4:14: warning: unused parameter ‘argc’ [-Wunused-parameter]
 int main(int argc, const char *argv[])
              ^
t/src/test.c:4:32: warning: unused parameter ‘argv’ [-Wunused-parameter]
 int main(int argc, const char *argv[])
                                ^
t/02-compile.t ............ ok
t/release-pod-coverage.t .. skipped: these tests are for release candidate testing
t/release-pod-syntax.t .... skipped: these tests are for release candidate testing
All tests successful.
Files=5, Tests=6,  0 wallclock secs ( 0.02 usr  0.00 sys +  0.28 cusr  0.04 csys =  0.34 CPU)
Result: PASS
Testing library (if applicable) ... 
+ cd /home/njh/.cpan/build/Alien-Chipmunk-0.001002-PasiiZ/_alien/Chipmunk-6.2.2
Done

------------------------------
PREREQUISITES
------------------------------

Prerequisite modules loaded:

requires:

    Module                   Need   Have    
    ------------------------ ------ --------
    Alien::Base              0.020  0.028   
    File::ShareDir           1.00   1.102   
    perl                     v5.8.1 5.018004

build_requires:

    Module                   Need   Have    
    ------------------------ ------ --------
    Alien::CMake             0.07   0.07    
    Test::More               0      1.001009

configure_requires:

    Module                   Need   Have    
    ------------------------ ------ --------
    Alien::Base::ModuleBuild 0      0.028   
    Module::Build            0      0.4210  


------------------------------
ENVIRONMENT AND OTHER CONTEXT
------------------------------

Environment variables:

    AUTOMATED_TESTING = 1
    LANG = en_GB.UTF-8
    LANGUAGE = en_GB:en
    LD_LIBRARY_PATH = /usr/local/lib::
    PATH = /home/njh/perl5/perlbrew/bin:/home/njh/perl5/perlbrew/perls/perl-5.18.4/bin:/home/njh/perl5/perlbrew/bin:/usr/local/bin:/usr/bin:/bin:/usr/local/games:/usr/games:/home/njh/bin:/sbin
    PERL5LIB = /home/njh/.cpan/build/Alien-CMake-0.07-yE3wtp/blib/arch:/home/njh/.cpan/build/Alien-CMake-0.07-yE3wtp/blib/lib:/home/njh/.cpan/build/Alien-Base-0.028-4czYUx/blib/arch:/home/njh/.cpan/build/Alien-Base-0.028-4czYUx/blib/lib:/home/njh/.cpan/build/File-chdir-0.1010-ocTQq2/blib/arch:/home/njh/.cpan/build/File-chdir-0.1010-ocTQq2/blib/lib:/home/njh/.cpan/build/HTTP-Tiny-0.056-Fkahdd/blib/arch:/home/njh/.cpan/build/HTTP-Tiny-0.056-Fkahdd/blib/lib:/home/njh/.cpan/build/Archive-Extract-0.76-l9CW3X/blib/arch:/home/njh/.cpan/build/Archive-Extract-0.76-l9CW3X/blib/lib:/home/njh/.cpan/build/File-ShareDir-1.102-rpA5Mw/blib/arch:/home/njh/.cpan/build/File-ShareDir-1.102-rpA5Mw/blib/lib:/home/njh/.cpan/build/Class-Inspector-1.28-RG2RF5/blib/arch:/home/njh/.cpan/build/Class-Inspector-1.28-RG2RF5/blib/lib:/home/njh/.cpan/build/File-ShareDir-Install-0.10-0lSHiz/blib/arch:/home/njh/.cpan/build/File-ShareDir-Install-0.10-0lSHiz/blib/lib:/home/njh/.cpan/build/FFI-CheckLib-0.14-RmDWLV/blib/arch:/home/njh/.cpan/build/FFI-CheckLib-0.14-RmDWLV/blib/lib:/home/njh/.cpan/build/Shell-Config-Generate-0.24-4S0yiy/blib/arch:/home/njh/.cpan/build/Shell-Config-Generate-0.24-4S0yiy/blib/lib:/home/njh/.cpan/build/Shell-Guess-0.06-bgnOsF/blib/arch:/home/njh/.cpan/build/Shell-Guess-0.06-bgnOsF/blib/lib
    PERL5OPT = 
    PERL5_CPANPLUS_IS_RUNNING = 16336
    PERL5_CPAN_IS_RUNNING = 16336
    PERL5_MINISMOKEBOX = 0.58
    PERLBREW_BASHRC_VERSION = 0.73
    PERLBREW_HOME = /home/njh/.perlbrew
    PERLBREW_LIB = 
    PERLBREW_MANPATH = /home/njh/perl5/perlbrew/perls/perl-5.18.4/man
    PERLBREW_PATH = /home/njh/perl5/perlbrew/bin:/home/njh/perl5/perlbrew/perls/perl-5.18.4/bin
    PERLBREW_PERL = perl-5.18.4
    PERLBREW_ROOT = /home/njh/perl5/perlbrew
    PERLBREW_VERSION = 0.73
    PERL_EXTUTILS_AUTOINSTALL = --defaultdeps
    PERL_LOCAL_LIB_ROOT = 
    PERL_MM_USE_DEFAULT = 1
    SHELL = /bin/bash
    TMPDIR = /home/njh/tmp

Perl special variables (and OS-specific diagnostics, for MSWin32):

    $^X = /home/njh/perl5/perlbrew/perls/perl-5.18.4/bin/perl5.18.4
    $UID/$EUID = 1000 / 1000
    $GID = 1000 4 24 25 29 30 44 46 108 112 1000
    $EGID = 1000 4 24 25 29 30 44 46 108 112 1000

Perl module toolchain versions installed:

    Module              Have    
    ------------------- --------
    CPAN                1.9800  
    CPAN::Meta          2.143240
    Cwd                 3.40    
    ExtUtils::CBuilder  0.280210
    ExtUtils::Command   7.10    
    ExtUtils::Install   1.59    
    ExtUtils::MakeMaker 7.10    
    ExtUtils::Manifest  1.70    
    ExtUtils::ParseXS   3.18    
    File::Spec          3.40    
    JSON                2.90    
    JSON::PP            2.27300 
    Module::Build       0.4210  
    Module::Signature   n/a     
    Parse::CPAN::Meta   1.4414  
    Test::Harness       3.26    
    Test::More          1.001009
    YAML                1.15    
    YAML::Syck          1.29    
    version             0.9902  


--

Summary of my perl5 (revision 5 version 18 subversion 4) configuration:
   
  Platform:
    osname=linux, osvers=3.16-3-amd64, archname=x86_64-linux-thread-multi
    uname='linux nigelhorne.force9.co.uk 3.16-3-amd64 #1 smp debian 3.16.5-1 (2014-10-10) x86_64 gnulinux '
    config_args='-de -Dprefix=/home/njh/perl5/perlbrew/perls/perl-5.18.4 -Duseithreads -Dusemultiplicity -Dusedevel -Accflags=-O2 -W -Wformat=2 -Wswitch -Wshadow -Wwrite-strings -Wuninitialized -Wall -pipe -mtune=native -march=native -fomit-frame-pointer -msse2 -msse -mmmx -mfpmath=sse -pedantic -D_FORTIFY_SOURCE=2 -Wpointer-arith -Wstrict-prototypes -fstack-protector -Wstack-protector -Wextra -Wbad-function-cast -Wcast-align -Wcast-qual -Wdisabled-optimization -Wendif-labels -Wfloat-equal -Wformat-nonliteral -Winline -Wmissing-declarations -Wmissing-prototypes -Wnested-externs -Wpointer-arith -Wundef -Wformat-security -ftree-vectorize -fdiagnostics-color=auto -Aeval:scriptdir=/home/njh/perl5/perlbrew/perls/perl-5.18.4/bin'
    hint=recommended, useposix=true, d_sigaction=define
    useithreads=define, usemultiplicity=define
    useperlio=define, d_sfio=undef, uselargefiles=define, usesocks=undef
    use64bitint=define, use64bitall=define, uselongdouble=undef
    usemymalloc=n, bincompat5005=undef
  Compiler:
    cc='cc', ccflags ='-D_REENTRANT -D_GNU_SOURCE -O2 -W -Wformat=2 -Wswitch -Wshadow -Wwrite-strings -Wuninitialized -Wall -pipe -mtune=native -march=native -fomit-frame-pointer -msse2 -msse -mmmx -mfpmath=sse -pedantic -D_FORTIFY_SOURCE=2 -Wpointer-arith -Wstrict-prototypes -fstack-protector -Wstack-protector -Wextra -Wbad-function-cast -Wcast-align -Wcast-qual -Wdisabled-optimization -Wendif-labels -Wfloat-equal -Wformat-nonliteral -Winline -Wmissing-declarations -Wmissing-prototypes -Wnested-externs -Wpointer-arith -Wundef -Wformat-security -ftree-vectorize -fdiagnostics-color=auto -fno-strict-aliasing -I/usr/local/include -D_LARGEFILE_SOURCE -D_FILE_OFFSET_BITS=64',
    optimize='-O2',
    cppflags='-D_REENTRANT -D_GNU_SOURCE -O2 -W -Wformat=2 -Wswitch -Wshadow -Wwrite-strings -Wuninitialized -Wall -pipe -mtune=native -march=native -fomit-frame-pointer -msse2 -msse -mmmx -mfpmath=sse -pedantic -D_FORTIFY_SOURCE=2 -Wpointer-arith -Wstrict-prototypes -fstack-protector -Wstack-protector -Wextra -Wbad-function-cast -Wcast-align -Wcast-qual -Wdisabled-optimization -Wendif-labels -Wfloat-equal -Wformat-nonliteral -Winline -Wmissing-declarations -Wmissing-prototypes -Wnested-externs -Wpointer-arith -Wundef -Wformat-security -ftree-vectorize -fdiagnostics-color=auto -fno-strict-aliasing -I/usr/local/include'
    ccversion='', gccversion='4.9.2', gccosandvers=''
    intsize=4, longsize=8, ptrsize=8, doublesize=8, byteorder=12345678
    d_longlong=define, longlongsize=8, d_longdbl=define, longdblsize=16
    ivtype='long', ivsize=8, nvtype='double', nvsize=8, Off_t='off_t', lseeksize=8
    alignbytes=8, prototype=define
  Linker and Libraries:
    ld='cc', ldflags =' -fstack-protector -L/usr/local/lib'
    libpth=/usr/local/lib /lib/x86_64-linux-gnu /lib/../lib /usr/lib/x86_64-linux-gnu /usr/lib/../lib /lib /usr/lib
    libs=-lnsl -lgdbm -ldb -ldl -lm -lcrypt -lutil -lpthread -lc -lgdbm_compat
    perllibs=-lnsl -ldl -lm -lcrypt -lutil -lpthread -lc
    libc=libc-2.19.so, so=so, useshrplib=false, libperl=libperl.a
    gnulibc_version='2.19'
  Dynamic Linking:
    dlsrc=dl_dlopen.xs, dlext=so, d_dlsymun=undef, ccdlflags='-Wl,-E'
    cccdlflags='-fPIC', lddlflags='-shared -O2 -L/usr/local/lib -fstack-protector'


Characteristics of this binary (from libperl): 
  Compile-time options: HAS_TIMES MULTIPLICITY PERLIO_LAYERS
                        PERL_DONT_CREATE_GVSV
                        PERL_HASH_FUNC_ONE_AT_A_TIME_HARD
                        PERL_IMPLICIT_CONTEXT PERL_MALLOC_WRAP
                        PERL_PRESERVE_IVUV PERL_SAWAMPERSAND PERL_USE_DEVEL
                        USE_64_BIT_ALL USE_64_BIT_INT USE_ITHREADS
                        USE_LARGE_FILES USE_LOCALE USE_LOCALE_COLLATE
                        USE_LOCALE_CTYPE USE_LOCALE_NUMERIC USE_PERLIO
                        USE_PERL_ATOF USE_REENTRANT_API
  Built under linux
  Compiled at Nov 12 2014 14:20:50
  %ENV:
    PERL5LIB="/home/njh/.cpan/build/Alien-CMake-0.07-yE3wtp/blib/arch:/home/njh/.cpan/build/Alien-CMake-0.07-yE3wtp/blib/lib:/home/njh/.cpan/build/Alien-Base-0.028-4czYUx/blib/arch:/home/njh/.cpan/build/Alien-Base-0.028-4czYUx/blib/lib:/home/njh/.cpan/build/File-chdir-0.1010-ocTQq2/blib/arch:/home/njh/.cpan/build/File-chdir-0.1010-ocTQq2/blib/lib:/home/njh/.cpan/build/HTTP-Tiny-0.056-Fkahdd/blib/arch:/home/njh/.cpan/build/HTTP-Tiny-0.056-Fkahdd/blib/lib:/home/njh/.cpan/build/Archive-Extract-0.76-l9CW3X/blib/arch:/home/njh/.cpan/build/Archive-Extract-0.76-l9CW3X/blib/lib:/home/njh/.cpan/build/File-ShareDir-1.102-rpA5Mw/blib/arch:/home/njh/.cpan/build/File-ShareDir-1.102-rpA5Mw/blib/lib:/home/njh/.cpan/build/Class-Inspector-1.28-RG2RF5/blib/arch:/home/njh/.cpan/build/Class-Inspector-1.28-RG2RF5/blib/lib:/home/njh/.cpan/build/File-ShareDir-Install-0.10-0lSHiz/blib/arch:/home/njh/.cpan/build/File-ShareDir-Install-0.10-0lSHiz/blib/lib:/home/njh/.cpan/build/FFI-CheckLib-0.14-RmDWLV/blib/arch:/home/njh/.cpan/build/FFI-CheckLib-0.14-RmDWLV/blib/lib:/home/njh/.cpan/build/Shell-Config-Generate-0.24-4S0yiy/blib/arch:/home/njh/.cpan/build/Shell-Config-Generate-0.24-4S0yiy/blib/lib:/home/njh/.cpan/build/Shell-Guess-0.06-bgnOsF/blib/arch:/home/njh/.cpan/build/Shell-Guess-0.06-bgnOsF/blib/lib"
    PERL5OPT=""
    PERL5_CPANPLUS_IS_RUNNING="16336"
    PERL5_CPAN_IS_RUNNING="16336"
    PERL5_MINISMOKEBOX="0.58"
    PERLBREW_BASHRC_VERSION="0.73"
    PERLBREW_HOME="/home/njh/.perlbrew"
    PERLBREW_LIB=""
    PERLBREW_MANPATH="/home/njh/perl5/perlbrew/perls/perl-5.18.4/man"
    PERLBREW_PATH="/home/njh/perl5/perlbrew/bin:/home/njh/perl5/perlbrew/perls/perl-5.18.4/bin"
    PERLBREW_PERL="perl-5.18.4"
    PERLBREW_ROOT="/home/njh/perl5/perlbrew"
    PERLBREW_VERSION="0.73"
    PERL_EXTUTILS_AUTOINSTALL="--defaultdeps"
    PERL_LOCAL_LIB_ROOT=""
    PERL_MM_USE_DEFAULT="1"
  @INC:
    /home/njh/.cpan/build/Alien-CMake-0.07-yE3wtp/blib/arch
    /home/njh/.cpan/build/Alien-CMake-0.07-yE3wtp/blib/lib
    /home/njh/.cpan/build/Alien-Base-0.028-4czYUx/blib/arch
    /home/njh/.cpan/build/Alien-Base-0.028-4czYUx/blib/lib
    /home/njh/.cpan/build/File-chdir-0.1010-ocTQq2/blib/arch
    /home/njh/.cpan/build/File-chdir-0.1010-ocTQq2/blib/lib
    /home/njh/.cpan/build/HTTP-Tiny-0.056-Fkahdd/blib/arch
    /home/njh/.cpan/build/HTTP-Tiny-0.056-Fkahdd/blib/lib
    /home/njh/.cpan/build/Archive-Extract-0.76-l9CW3X/blib/arch
    /home/njh/.cpan/build/Archive-Extract-0.76-l9CW3X/blib/lib
    /home/njh/.cpan/build/File-ShareDir-1.102-rpA5Mw/blib/arch
    /home/njh/.cpan/build/File-ShareDir-1.102-rpA5Mw/blib/lib
    /home/njh/.cpan/build/Class-Inspector-1.28-RG2RF5/blib/arch
    /home/njh/.cpan/build/Class-Inspector-1.28-RG2RF5/blib/lib
    /home/njh/.cpan/build/File-ShareDir-Install-0.10-0lSHiz/blib/arch
    /home/njh/.cpan/build/File-ShareDir-Install-0.10-0lSHiz/blib/lib
    /home/njh/.cpan/build/FFI-CheckLib-0.14-RmDWLV/blib/arch
    /home/njh/.cpan/build/FFI-CheckLib-0.14-RmDWLV/blib/lib
    /home/njh/.cpan/build/Shell-Config-Generate-0.24-4S0yiy/blib/arch
    /home/njh/.cpan/build/Shell-Config-Generate-0.24-4S0yiy/blib/lib
    /home/njh/.cpan/build/Shell-Guess-0.06-bgnOsF/blib/arch
    /home/njh/.cpan/build/Shell-Guess-0.06-bgnOsF/blib/lib
    /home/njh/perl5/perlbrew/perls/perl-5.18.4/lib/site_perl/5.18.4/x86_64-linux-thread-multi
    /home/njh/perl5/perlbrew/perls/perl-5.18.4/lib/site_perl/5.18.4
    /home/njh/perl5/perlbrew/perls/perl-5.18.4/lib/5.18.4/x86_64-linux-thread-multi
    /home/njh/perl5/perlbrew/perls/perl-5.18.4/lib/5.18.4
    .