HTML-FormFu-MultiForm v1.03 Perl 5 v5.34.0 x86_64-linux

Status
Pass
From
Slaven Rezić
Dist
HTML-FormFu-MultiForm v1.03
Platform
Perl 5 v5.34.0 x86_64-linux
Date
2022-02-26 18:03:55
ID
767f96ec-972e-11ec-b72f-91421f24ea8f
This distribution has been tested as part of the CPAN Testers
project, supporting the Perl programming language.  See
http://wiki.cpantesters.org/ for more information or email
questions to cpan-testers-discuss@perl.org


--
Dear Nigel Metheringham,

This is a computer-generated report for HTML-FormFu-MultiForm-1.03
on perl 5.34.0, created by CPAN-Reporter-1.2018.

Thank you for uploading your work to CPAN.  Congratulations!
All tests were successful.

Sections of this report:

    * Tester comments
    * Program output
    * Prerequisites
    * Environment and other context

------------------------------
TESTER COMMENTS
------------------------------

Additional comments from tester:

none provided

------------------------------
PROGRAM OUTPUT
------------------------------

Output from '/usr/bin/make test':

PERL_DL_NONLAZY=1 "/opt/perl-5.34.0/bin/perl" "-MExtUtils::Command::MM" "-MTest::Harness" "-e" "undef *Test::Harness::Switches; test_harness(0, 'blib/lib', 'blib/arch')" t/*.t t/multiform-misc/*.t t/multiform-nested-name/*.t t/multiform-no-combine/*.t t/multiform/*.t t/multiform_hidden_name/*.t
# 
# Versions for all modules listed in MYMETA.json (including optional ones):
# 
# === Configure Requires ===
# 
#     Module              Want Have
#     ------------------- ---- ----
#     ExtUtils::MakeMaker  any 7.62
# 
# === Build Requires ===
# 
#     Module              Want Have
#     ------------------- ---- ----
#     ExtUtils::MakeMaker  any 7.62
# 
# === Test Requires ===
# 
#     Module              Want     Have
#     ------------------- ---- --------
#     Cwd                  any     3.80
#     ExtUtils::MakeMaker  any     7.62
#     Fatal                any     2.34
#     File::Spec           any     3.80
#     Test::More          0.92 1.302189
#     YAML::XS             any     0.83
#     warnings             any     1.51
# 
# === Test Recommends ===
# 
#     Module         Want     Have
#     ---------- -------- --------
#     CPAN::Meta 2.120900 2.150010
# 
# === Runtime Requires ===
# 
#     Module                                       Want   Have
#     -------------------------------------------- ---- ------
#     Carp                                          any   1.52
#     Clone                                         any   0.45
#     Crypt::CBC                                    any   3.04
#     Crypt::DES                                    any   2.07
#     HTML::FormFu                                  any   2.07
#     HTML::FormFu::Attribute                       any   2.07
#     HTML::FormFu::ObjectUtil                      any   2.07
#     HTML::FormFu::QueryType::CGI                  any   2.07
#     HTML::FormFu::Role::FormAndElementMethods     any   2.07
#     HTML::FormFu::Role::FormBlockAndFieldMethods  any   2.07
#     HTML::FormFu::Role::NestedHashUtils           any   2.07
#     HTML::FormFu::Role::Populate                  any   2.07
#     List::MoreUtils                               any  0.430
#     Moose                                         any 2.2015
#     MooseX::Attribute::Chained                    any  1.0.3
#     Scalar::Util                                  any   1.60
#     Storable                                      any   3.25
#     overload                                      any   1.33
#     strict                                        any   1.12
# 
t/00-report-prereqs.t ........................ ok
t/multiform-misc-file-client-side.t .......... skipped: CGI tmp_upload_dir functionality makes this unusable on modern versions
WARNING: The key derivation method "opensslv1" is deprecated. Using -pbkdf=>'pbkdf2' would be better.
Pass -nodeprecate=>1 to inhibit this message.
 at /home/cpansand/.cpan/build/2022022617/HTML-FormFu-MultiForm-1.03-0/blib/lib/HTML/FormFu/MultiForm.pm line 533.
t/multiform-misc/accessors.t ................. ok
t/multiform-misc/file-server-side.t .......... skipped: CGI tmp_upload_dir functionality makes this unusable on modern versions
t/multiform-nested-name/0_render_page_1.t .... ok
t/multiform-nested-name/1_submit_page_1.t .... ok
WARNING: The key derivation method "opensslv1" is deprecated. Using -pbkdf=>'pbkdf2' would be better.
Pass -nodeprecate=>1 to inhibit this message.
 at /home/cpansand/.cpan/build/2022022617/HTML-FormFu-MultiForm-1.03-0/blib/lib/HTML/FormFu/MultiForm.pm line 533.
WARNING: The key derivation method "opensslv1" is deprecated. Using -pbkdf=>'pbkdf2' would be better.
Pass -nodeprecate=>1 to inhibit this message.
 at /home/cpansand/.cpan/build/2022022617/HTML-FormFu-MultiForm-1.03-0/blib/lib/HTML/FormFu/MultiForm.pm line 533.
t/multiform-nested-name/2_render_page_2.t .... ok
WARNING: The key derivation method "opensslv1" is deprecated. Using -pbkdf=>'pbkdf2' would be better.
Pass -nodeprecate=>1 to inhibit this message.
 at /home/cpansand/.cpan/build/2022022617/HTML-FormFu-MultiForm-1.03-0/blib/lib/HTML/FormFu/MultiForm.pm line 533.
WARNING: The key derivation method "opensslv1" is deprecated. Using -pbkdf=>'pbkdf2' would be better.
Pass -nodeprecate=>1 to inhibit this message.
 at /home/cpansand/.cpan/build/2022022617/HTML-FormFu-MultiForm-1.03-0/blib/lib/HTML/FormFu/MultiForm.pm line 533.
t/multiform-nested-name/3_submit_page_2.t .... ok
WARNING: The key derivation method "opensslv1" is deprecated. Using -pbkdf=>'pbkdf2' would be better.
Pass -nodeprecate=>1 to inhibit this message.
 at /home/cpansand/.cpan/build/2022022617/HTML-FormFu-MultiForm-1.03-0/blib/lib/HTML/FormFu/MultiForm.pm line 533.
WARNING: The key derivation method "opensslv1" is deprecated. Using -pbkdf=>'pbkdf2' would be better.
Pass -nodeprecate=>1 to inhibit this message.
 at /home/cpansand/.cpan/build/2022022617/HTML-FormFu-MultiForm-1.03-0/blib/lib/HTML/FormFu/MultiForm.pm line 533.
t/multiform-nested-name/4_complete_page_3.t .. ok
t/multiform-no-combine/0_render_page_1.t ..... ok
t/multiform-no-combine/1_submit_page_1.t ..... ok
WARNING: The key derivation method "opensslv1" is deprecated. Using -pbkdf=>'pbkdf2' would be better.
Pass -nodeprecate=>1 to inhibit this message.
 at /home/cpansand/.cpan/build/2022022617/HTML-FormFu-MultiForm-1.03-0/blib/lib/HTML/FormFu/MultiForm.pm line 533.
WARNING: The key derivation method "opensslv1" is deprecated. Using -pbkdf=>'pbkdf2' would be better.
Pass -nodeprecate=>1 to inhibit this message.
 at /home/cpansand/.cpan/build/2022022617/HTML-FormFu-MultiForm-1.03-0/blib/lib/HTML/FormFu/MultiForm.pm line 533.
t/multiform-no-combine/2_render_page_2.t ..... ok
WARNING: The key derivation method "opensslv1" is deprecated. Using -pbkdf=>'pbkdf2' would be better.
Pass -nodeprecate=>1 to inhibit this message.
 at /home/cpansand/.cpan/build/2022022617/HTML-FormFu-MultiForm-1.03-0/blib/lib/HTML/FormFu/MultiForm.pm line 533.
WARNING: The key derivation method "opensslv1" is deprecated. Using -pbkdf=>'pbkdf2' would be better.
Pass -nodeprecate=>1 to inhibit this message.
 at /home/cpansand/.cpan/build/2022022617/HTML-FormFu-MultiForm-1.03-0/blib/lib/HTML/FormFu/MultiForm.pm line 533.
t/multiform-no-combine/3_submit_page_2.t ..... ok
WARNING: The key derivation method "opensslv1" is deprecated. Using -pbkdf=>'pbkdf2' would be better.
Pass -nodeprecate=>1 to inhibit this message.
 at /home/cpansand/.cpan/build/2022022617/HTML-FormFu-MultiForm-1.03-0/blib/lib/HTML/FormFu/MultiForm.pm line 533.
WARNING: The key derivation method "opensslv1" is deprecated. Using -pbkdf=>'pbkdf2' would be better.
Pass -nodeprecate=>1 to inhibit this message.
 at /home/cpansand/.cpan/build/2022022617/HTML-FormFu-MultiForm-1.03-0/blib/lib/HTML/FormFu/MultiForm.pm line 533.
t/multiform-no-combine/4_complete_page_3.t ... ok
t/multiform/0_render_page_1.t ................ ok
t/multiform/1_submit_page_1.t ................ ok
WARNING: The key derivation method "opensslv1" is deprecated. Using -pbkdf=>'pbkdf2' would be better.
Pass -nodeprecate=>1 to inhibit this message.
 at /home/cpansand/.cpan/build/2022022617/HTML-FormFu-MultiForm-1.03-0/blib/lib/HTML/FormFu/MultiForm.pm line 533.
WARNING: The key derivation method "opensslv1" is deprecated. Using -pbkdf=>'pbkdf2' would be better.
Pass -nodeprecate=>1 to inhibit this message.
 at /home/cpansand/.cpan/build/2022022617/HTML-FormFu-MultiForm-1.03-0/blib/lib/HTML/FormFu/MultiForm.pm line 533.
t/multiform/2_render_page_2.t ................ ok
WARNING: The key derivation method "opensslv1" is deprecated. Using -pbkdf=>'pbkdf2' would be better.
Pass -nodeprecate=>1 to inhibit this message.
 at /home/cpansand/.cpan/build/2022022617/HTML-FormFu-MultiForm-1.03-0/blib/lib/HTML/FormFu/MultiForm.pm line 533.
WARNING: The key derivation method "opensslv1" is deprecated. Using -pbkdf=>'pbkdf2' would be better.
Pass -nodeprecate=>1 to inhibit this message.
 at /home/cpansand/.cpan/build/2022022617/HTML-FormFu-MultiForm-1.03-0/blib/lib/HTML/FormFu/MultiForm.pm line 533.
t/multiform/3_submit_page_2.t ................ ok
WARNING: The key derivation method "opensslv1" is deprecated. Using -pbkdf=>'pbkdf2' would be better.
Pass -nodeprecate=>1 to inhibit this message.
 at /home/cpansand/.cpan/build/2022022617/HTML-FormFu-MultiForm-1.03-0/blib/lib/HTML/FormFu/MultiForm.pm line 533.
WARNING: The key derivation method "opensslv1" is deprecated. Using -pbkdf=>'pbkdf2' would be better.
Pass -nodeprecate=>1 to inhibit this message.
 at /home/cpansand/.cpan/build/2022022617/HTML-FormFu-MultiForm-1.03-0/blib/lib/HTML/FormFu/MultiForm.pm line 533.
t/multiform/4_complete_page_3.t .............. ok
t/multiform_hidden_name/0_render_page_1.t .... ok
t/multiform_hidden_name/1_submit_page_1.t .... ok
WARNING: The key derivation method "opensslv1" is deprecated. Using -pbkdf=>'pbkdf2' would be better.
Pass -nodeprecate=>1 to inhibit this message.
 at /home/cpansand/.cpan/build/2022022617/HTML-FormFu-MultiForm-1.03-0/blib/lib/HTML/FormFu/MultiForm.pm line 533.
WARNING: The key derivation method "opensslv1" is deprecated. Using -pbkdf=>'pbkdf2' would be better.
Pass -nodeprecate=>1 to inhibit this message.
 at /home/cpansand/.cpan/build/2022022617/HTML-FormFu-MultiForm-1.03-0/blib/lib/HTML/FormFu/MultiForm.pm line 533.
t/multiform_hidden_name/2_render_page_2.t .... ok
WARNING: The key derivation method "opensslv1" is deprecated. Using -pbkdf=>'pbkdf2' would be better.
Pass -nodeprecate=>1 to inhibit this message.
 at /home/cpansand/.cpan/build/2022022617/HTML-FormFu-MultiForm-1.03-0/blib/lib/HTML/FormFu/MultiForm.pm line 533.
WARNING: The key derivation method "opensslv1" is deprecated. Using -pbkdf=>'pbkdf2' would be better.
Pass -nodeprecate=>1 to inhibit this message.
 at /home/cpansand/.cpan/build/2022022617/HTML-FormFu-MultiForm-1.03-0/blib/lib/HTML/FormFu/MultiForm.pm line 533.
t/multiform_hidden_name/3_submit_page_2.t .... ok
WARNING: The key derivation method "opensslv1" is deprecated. Using -pbkdf=>'pbkdf2' would be better.
Pass -nodeprecate=>1 to inhibit this message.
 at /home/cpansand/.cpan/build/2022022617/HTML-FormFu-MultiForm-1.03-0/blib/lib/HTML/FormFu/MultiForm.pm line 533.
WARNING: The key derivation method "opensslv1" is deprecated. Using -pbkdf=>'pbkdf2' would be better.
Pass -nodeprecate=>1 to inhibit this message.
 at /home/cpansand/.cpan/build/2022022617/HTML-FormFu-MultiForm-1.03-0/blib/lib/HTML/FormFu/MultiForm.pm line 533.
t/multiform_hidden_name/4_complete_page_3.t .. ok
All tests successful.
Files=24, Tests=111,  9 wallclock secs ( 0.05 usr  0.03 sys +  8.52 cusr  0.92 csys =  9.52 CPU)
Result: PASS

------------------------------
PREREQUISITES
------------------------------

Prerequisite modules loaded:

requires:

    Module                                       Need Have    
    -------------------------------------------- ---- --------
    Carp                                         0    1.52    
    Clone                                        0    0.45    
    Crypt::CBC                                   0    3.04    
    Crypt::DES                                   0    2.07    
    HTML::FormFu                                 0    2.07    
    HTML::FormFu::Attribute                      0    2.07    
    HTML::FormFu::ObjectUtil                     0    2.07    
    HTML::FormFu::QueryType::CGI                 0    2.07    
    HTML::FormFu::Role::FormAndElementMethods    0    2.07    
    HTML::FormFu::Role::FormBlockAndFieldMethods 0    2.07    
    HTML::FormFu::Role::NestedHashUtils          0    2.07    
    HTML::FormFu::Role::Populate                 0    2.07    
    List::MoreUtils                              0    0.430   
    Moose                                        0    2.2015  
    MooseX::Attribute::Chained                   0    1.0.3   
    overload                                     0    1.33    
    Scalar::Util                                 0    1.60    
    Storable                                     0    3.25    
    strict                                       0    1.12    

build_requires:

    Module                                       Need Have    
    -------------------------------------------- ---- --------
    Cwd                                          0    3.80    
    ExtUtils::MakeMaker                          0    7.62    
    Fatal                                        0    2.34    
    File::Spec                                   0    3.80    
    Test::More                                   0.92 1.302189
    warnings                                     0    1.51    
    YAML::XS                                     0    0.83    

configure_requires:

    Module                                       Need Have    
    -------------------------------------------- ---- --------
    ExtUtils::MakeMaker                          0    7.62    


------------------------------
ENVIRONMENT AND OTHER CONTEXT
------------------------------

Environment variables:

    LANG = en_US.UTF-8
    PATH = /usr/local/bin:/usr/bin:/bin:/usr/local/sbin:/usr/sbin:/sbin:/home/cpansand/bin/linux-gnu:/home/cpansand/bin/sh:/home/cpansand/bin:/usr/games:/home/cpansand/devel:/home/eserte/src/srezic-misc/scripts
    PERL5LIB = /home/cpansand/.local/share/.cpan/build/2022022617/HTML-FormFu-2.07-0/blib/arch:/home/cpansand/.local/share/.cpan/build/2022022617/HTML-FormFu-2.07-0/blib/lib:/home/cpansand/.local/share/.cpan/build/2022022617/MooseX-Attribute-Chained-1.0.3-0/blib/arch:/home/cpansand/.local/share/.cpan/build/2022022617/MooseX-Attribute-Chained-1.0.3-0/blib/lib:/home/cpansand/.local/share/.cpan/build/2022022617/MooseX-Aliases-0.11-0/blib/arch:/home/cpansand/.local/share/.cpan/build/2022022617/MooseX-Aliases-0.11-0/blib/lib:/home/cpansand/.local/share/.cpan/build/2022022617/HTML-Scrubber-0.19-0/blib/arch:/home/cpansand/.local/share/.cpan/build/2022022617/HTML-Scrubber-0.19-0/blib/lib:/home/cpansand/.local/share/.cpan/build/2022022617/Email-Valid-1.202-0/blib/arch:/home/cpansand/.local/share/.cpan/build/2022022617/Email-Valid-1.202-0/blib/lib:/home/cpansand/.local/share/.cpan/build/2022022617/Catalyst-Plugin-Session-Store-File-0.18-0/blib/arch:/home/cpansand/.local/share/.cpan/build/2022022617/Catalyst-Plugin-Session-Store-File-0.18-0/blib/lib:/home/cpansand/.local/share/.cpan/build/2022022617/Catalyst-Action-REST-1.21-2/blib/arch:/home/cpansand/.local/share/.cpan/build/2022022617/Catalyst-Action-REST-1.21-2/blib/lib
    PERL5OPT = 
    PERL5_CPANPLUS_IS_RUNNING = 580888
    PERL5_CPAN_IS_RUNNING = 580888
    PERL5_CPAN_IS_RUNNING_IN_RECURSION = 580864,580888
    PERLDOC = -MPod::Perldoc::ToTextOverstrike
    PERL_BATCH = yes
    PERL_CANARY_STABILITY_NOPROMPT = 1
    PERL_CPAN_REPORTER_CONFIG = /var/tmp/cpansmoker-1023/2022022617/cpanreporter_000_config.ini
    PERL_EXTUTILS_AUTOINSTALL = --defaultdeps
    PERL_USE_UNSAFE_INC = 1
    SHELL = /usr/bin/zsh
    TERM = screen
    TMPDIR = /var/tmp/cpansmoker-1023/2022022617

Perl special variables (and OS-specific diagnostics, for MSWin32):

    $^X = /opt/perl-5.34.0/bin/perl
    $UID/$EUID = 1023 / 1023
    $GID = 1023 1023
    $EGID = 1023 1023

Perl module toolchain versions installed:

    Module              Have    
    ------------------- --------
    CPAN                2.28    
    CPAN::Meta          2.150010
    Cwd                 3.80    
    ExtUtils::CBuilder  0.280236
    ExtUtils::Command   7.62    
    ExtUtils::Install   2.20    
    ExtUtils::MakeMaker 7.62    
    ExtUtils::Manifest  1.73    
    ExtUtils::ParseXS   3.44    
    File::Spec          3.80    
    JSON                4.05    
    JSON::PP            4.06    
    Module::Build       0.4231  
    Module::Signature   n/a     
    Parse::CPAN::Meta   2.150010
    Test::Harness       3.43    
    Test::More          1.302189
    YAML                1.30    
    YAML::Syck          1.34    
    version             0.9928  


--

Summary of my perl5 (revision 5 version 34 subversion 0) configuration:
   
  Platform:
    osname=linux
    osvers=5.4.0-73-generic
    archname=x86_64-linux
    uname='linux cloud8.bbbike.org 5.4.0-73-generic #82-ubuntu smp wed apr 14 17:39:42 utc 2021 x86_64 x86_64 x86_64 gnulinux '
    config_args='-ds -e -Dprefix=/opt/perl-5.34.0 -Dcf_email=srezic@cpan.org'
    hint=recommended
    useposix=true
    d_sigaction=define
    useithreads=undef
    usemultiplicity=undef
    use64bitint=define
    use64bitall=define
    uselongdouble=undef
    usemymalloc=n
    default_inc_excludes_dot=define
  Compiler:
    cc='cc'
    ccflags ='-fwrapv -fno-strict-aliasing -pipe -fstack-protector-strong -I/usr/local/include -D_LARGEFILE_SOURCE -D_FILE_OFFSET_BITS=64'
    optimize='-O2'
    cppflags='-fwrapv -fno-strict-aliasing -pipe -fstack-protector-strong -I/usr/local/include'
    ccversion=''
    gccversion='9.3.0'
    gccosandvers=''
    intsize=4
    longsize=8
    ptrsize=8
    doublesize=8
    byteorder=12345678
    doublekind=3
    d_longlong=define
    longlongsize=8
    d_longdbl=define
    longdblsize=16
    longdblkind=3
    ivtype='long'
    ivsize=8
    nvtype='double'
    nvsize=8
    Off_t='off_t'
    lseeksize=8
    alignbytes=8
    prototype=define
  Linker and Libraries:
    ld='cc'
    ldflags =' -fstack-protector-strong -L/usr/local/lib'
    libpth=/usr/local/lib /usr/lib/x86_64-linux-gnu /usr/lib /lib/x86_64-linux-gnu /lib
    libs=-lpthread -lnsl -lgdbm -ldb -ldl -lm -lcrypt -lutil -lc
    perllibs=-lpthread -lnsl -ldl -lm -lcrypt -lutil -lc
    libc=libc-2.31.so
    so=so
    useshrplib=false
    libperl=libperl.a
    gnulibc_version='2.31'
  Dynamic Linking:
    dlsrc=dl_dlopen.xs
    dlext=so
    d_dlsymun=undef
    ccdlflags='-Wl,-E'
    cccdlflags='-fPIC'
    lddlflags='-shared -O2 -L/usr/local/lib -fstack-protector-strong'


Characteristics of this binary (from libperl): 
  Compile-time options:
    HAS_TIMES
    PERLIO_LAYERS
    PERL_COPY_ON_WRITE
    PERL_DONT_CREATE_GVSV
    PERL_MALLOC_WRAP
    PERL_OP_PARENT
    PERL_PRESERVE_IVUV
    USE_64_BIT_ALL
    USE_64_BIT_INT
    USE_LARGE_FILES
    USE_LOCALE
    USE_LOCALE_COLLATE
    USE_LOCALE_CTYPE
    USE_LOCALE_NUMERIC
    USE_LOCALE_TIME
    USE_PERLIO
    USE_PERL_ATOF
  Built under linux
  Compiled at May 25 2021 20:16:54
  %ENV:
    PERL5LIB="/home/cpansand/.local/share/.cpan/build/2022022617/HTML-FormFu-2.07-0/blib/arch:/home/cpansand/.local/share/.cpan/build/2022022617/HTML-FormFu-2.07-0/blib/lib:/home/cpansand/.local/share/.cpan/build/2022022617/MooseX-Attribute-Chained-1.0.3-0/blib/arch:/home/cpansand/.local/share/.cpan/build/2022022617/MooseX-Attribute-Chained-1.0.3-0/blib/lib:/home/cpansand/.local/share/.cpan/build/2022022617/MooseX-Aliases-0.11-0/blib/arch:/home/cpansand/.local/share/.cpan/build/2022022617/MooseX-Aliases-0.11-0/blib/lib:/home/cpansand/.local/share/.cpan/build/2022022617/HTML-Scrubber-0.19-0/blib/arch:/home/cpansand/.local/share/.cpan/build/2022022617/HTML-Scrubber-0.19-0/blib/lib:/home/cpansand/.local/share/.cpan/build/2022022617/Email-Valid-1.202-0/blib/arch:/home/cpansand/.local/share/.cpan/build/2022022617/Email-Valid-1.202-0/blib/lib:/home/cpansand/.local/share/.cpan/build/2022022617/Catalyst-Plugin-Session-Store-File-0.18-0/blib/arch:/home/cpansand/.local/share/.cpan/build/2022022617/Catalyst-Plugin-Session-Store-File-0.18-0/blib/lib:/home/cpansand/.local/share/.cpan/build/2022022617/Catalyst-Action-REST-1.21-2/blib/arch:/home/cpansand/.local/share/.cpan/build/2022022617/Catalyst-Action-REST-1.21-2/blib/lib"
    PERL5OPT=""
    PERL5_CPANPLUS_IS_RUNNING="580888"
    PERL5_CPAN_IS_RUNNING="580888"
    PERL5_CPAN_IS_RUNNING_IN_RECURSION="580864,580888"
    PERLDOC="-MPod::Perldoc::ToTextOverstrike"
    PERL_BATCH="yes"
    PERL_CANARY_STABILITY_NOPROMPT="1"
    PERL_CPAN_REPORTER_CONFIG="/var/tmp/cpansmoker-1023/2022022617/cpanreporter_000_config.ini"
    PERL_EXTUTILS_AUTOINSTALL="--defaultdeps"
    PERL_USE_UNSAFE_INC="1"
  @INC:
    /home/cpansand/.local/share/.cpan/build/2022022617/HTML-FormFu-2.07-0/blib/arch
    /home/cpansand/.local/share/.cpan/build/2022022617/HTML-FormFu-2.07-0/blib/lib
    /home/cpansand/.local/share/.cpan/build/2022022617/MooseX-Attribute-Chained-1.0.3-0/blib/arch
    /home/cpansand/.local/share/.cpan/build/2022022617/MooseX-Attribute-Chained-1.0.3-0/blib/lib
    /home/cpansand/.local/share/.cpan/build/2022022617/MooseX-Aliases-0.11-0/blib/arch
    /home/cpansand/.local/share/.cpan/build/2022022617/MooseX-Aliases-0.11-0/blib/lib
    /home/cpansand/.local/share/.cpan/build/2022022617/HTML-Scrubber-0.19-0/blib/arch
    /home/cpansand/.local/share/.cpan/build/2022022617/HTML-Scrubber-0.19-0/blib/lib
    /home/cpansand/.local/share/.cpan/build/2022022617/Email-Valid-1.202-0/blib/arch
    /home/cpansand/.local/share/.cpan/build/2022022617/Email-Valid-1.202-0/blib/lib
    /home/cpansand/.local/share/.cpan/build/2022022617/Catalyst-Plugin-Session-Store-File-0.18-0/blib/arch
    /home/cpansand/.local/share/.cpan/build/2022022617/Catalyst-Plugin-Session-Store-File-0.18-0/blib/lib
    /home/cpansand/.local/share/.cpan/build/2022022617/Catalyst-Action-REST-1.21-2/blib/arch
    /home/cpansand/.local/share/.cpan/build/2022022617/Catalyst-Action-REST-1.21-2/blib/lib
    /opt/perl-5.34.0/lib/site_perl/5.34.0/x86_64-linux
    /opt/perl-5.34.0/lib/site_perl/5.34.0
    /opt/perl-5.34.0/lib/5.34.0/x86_64-linux
    /opt/perl-5.34.0/lib/5.34.0
    .