File-Binary v1.7 Perl 5 v5.41.11 x86_64-linux

Status
Pass
From
Carlos Guevara
Dist
File-Binary v1.7
Platform
Perl 5 v5.41.11 x86_64-linux
Date
2025-04-11 17:36:13
ID
76b69304-16fb-11f0-94a4-ff790f91e40c
This distribution has been tested as part of the CPAN Testers
project, supporting the Perl programming language.  See
http://wiki.cpantesters.org/ for more information or email
questions to cpan-testers-discuss@perl.org


--
Dear Simon Wistow,

This is a computer-generated report for File-Binary-1.7
on perl 5.41.11, created by CPAN-Reporter-1.2020.

Thank you for uploading your work to CPAN.  Congratulations!
All tests were successful.

Sections of this report:

    * Tester comments
    * Program output
    * Prerequisites
    * Environment and other context

------------------------------
TESTER COMMENTS
------------------------------

Additional comments from tester:

this report is from an automated smoke testing program
and was not reviewed by a human for accuracy

------------------------------
PROGRAM OUTPUT
------------------------------

Output from '/usr/bin/make test':

PERL_DL_NONLAZY=1 "/home/cpan/bin/perl/bin/perl5.41.11" "-MExtUtils::Command::MM" "-MTest::Harness" "-e" "undef *Test::Harness::Switches; test_harness(0, 'blib/lib', 'blib/arch')" t/*.t
t/00seek.t ................... ok
t/01power3.n8.ints.be.t ...... ok
t/01power3.n8.ints.le.t ...... ok
t/02power3.n16.ints.be.t ..... ok
t/02power3.n16.ints.le.t ..... ok
t/03power3.u32.ints.be.t ..... ok
t/03power3.u32.ints.le.t ..... ok
t/04power3.p16.ints.be.t ..... ok
t/04power3.p16.ints.le.t ..... ok
t/05power3.u16.ints.be.t ..... ok
t/05power3.u16.ints.le.t ..... ok
t/06power3.u8.ints.be.t ...... ok
t/06power3.u8.ints.le.t ...... ok
t/07power3.p8.ints.be.t ...... ok
t/07power3.p8.ints.le.t ...... ok
t/08power3.n32.ints.be.t ..... ok
t/08power3.n32.ints.le.t ..... ok
t/09power3.p32.ints.be.t ..... ok
t/09power3.p32.ints.le.t ..... ok
t/10power10.n8.ints.be.t ..... ok
t/10power10.n8.ints.le.t ..... ok
t/11power10.n16.ints.be.t .... ok
t/11power10.n16.ints.le.t .... ok
t/12power10.u32.ints.be.t .... ok
t/12power10.u32.ints.le.t .... ok
t/13power10.p16.ints.be.t .... ok
t/13power10.p16.ints.le.t .... ok
t/14power10.u16.ints.be.t .... ok
t/14power10.u16.ints.le.t .... ok
t/15power10.u8.ints.be.t ..... ok
t/15power10.u8.ints.le.t ..... ok
t/16power10.p8.ints.be.t ..... ok
t/16power10.p8.ints.le.t ..... ok
t/17power10.n32.ints.be.t .... ok
t/17power10.n32.ints.le.t .... ok
t/18power10.p32.ints.be.t .... ok
t/18power10.p32.ints.le.t .... ok
t/19factorial.n8.ints.be.t ... ok
t/19factorial.n8.ints.le.t ... ok
t/20factorial.n16.ints.be.t .. ok
t/20factorial.n16.ints.le.t .. ok
t/21factorial.u32.ints.be.t .. ok
t/21factorial.u32.ints.le.t .. ok
t/22factorial.p16.ints.be.t .. ok
t/22factorial.p16.ints.le.t .. ok
t/23factorial.u16.ints.be.t .. ok
t/23factorial.u16.ints.le.t .. ok
t/24factorial.u8.ints.be.t ... ok
t/24factorial.u8.ints.le.t ... ok
t/25factorial.p8.ints.be.t ... ok
t/25factorial.p8.ints.le.t ... ok
t/26factorial.n32.ints.be.t .. ok
t/26factorial.n32.ints.le.t .. ok
t/27factorial.p32.ints.be.t .. ok
t/27factorial.p32.ints.le.t .. ok
t/28fibonacci.n8.ints.be.t ... ok
t/28fibonacci.n8.ints.le.t ... ok
t/29fibonacci.n16.ints.be.t .. ok
t/29fibonacci.n16.ints.le.t .. ok
t/30fibonacci.u32.ints.be.t .. ok
t/30fibonacci.u32.ints.le.t .. ok
t/31fibonacci.p16.ints.be.t .. ok
t/31fibonacci.p16.ints.le.t .. ok
t/32fibonacci.u16.ints.be.t .. ok
t/32fibonacci.u16.ints.le.t .. ok
t/33fibonacci.u8.ints.be.t ... ok
t/33fibonacci.u8.ints.le.t ... ok
t/34fibonacci.p8.ints.be.t ... ok
t/34fibonacci.p8.ints.le.t ... ok
t/35fibonacci.n32.ints.be.t .. ok
t/35fibonacci.n32.ints.le.t .. ok
t/36fibonacci.p32.ints.be.t .. ok
t/36fibonacci.p32.ints.le.t .. ok
All tests successful.
Files=73, Tests=3842,  4 wallclock secs ( 0.28 usr  0.08 sys +  2.97 cusr  0.55 csys =  3.88 CPU)
Result: PASS

------------------------------
PREREQUISITES
------------------------------

Prerequisite modules loaded:

requires:

    Module              Need  Have    
    ------------------- ----- --------
    IO::File            1.14  1.55    
    IO::Scalar          1.126 2.113   
    Test::More          0     1.302210

build_requires:

    Module              Need  Have    
    ------------------- ----- --------
    ExtUtils::MakeMaker 0     7.74    


------------------------------
ENVIRONMENT AND OTHER CONTEXT
------------------------------

Environment variables:

    AUTOMATED_TESTING = 1
    DATE_MANIP_TEST_DM5 = 1
    LANG = en_US.UTF-8
    LC_ALL = C
    LC_COLLATE = C
    NONINTERACTIVE_TESTING = 1
    NO_NETWORK_TESTING = 1
    PATH = /home/cpan/bin/perl/bin:/home/cpan/bin:/home/cpan/bin:/usr/local/sbin:/usr/local/bin:/usr/bin:/usr/sbin:/sbin:/bin
    PERL5LIB = 
    PERL5OPT = 
    PERL5_CPANPLUS_IS_RUNNING = 22816
    PERL5_CPAN_IS_RUNNING = 22816
    PERL_MM_USE_DEFAULT = 1
    PERL_USE_UNSAFE_INC = 1
    SHELL = /bin/bash
    TERM = screen
    TMPDIR = /home/cpan/tmp

Perl special variables (and OS-specific diagnostics, for MSWin32):

    $^X = /home/cpan/bin/perl/bin/perl5.41.11
    $UID/$EUID = 1001 / 1001
    $GID = 1001 1001
    $EGID = 1001 1001

Perl module toolchain versions installed:

    Module              Have    
    ------------------- --------
    CPAN                2.38    
    CPAN::Meta          2.150010
    Cwd                 3.94    
    ExtUtils::CBuilder  0.280240
    ExtUtils::Command   7.74    
    ExtUtils::Install   2.22    
    ExtUtils::MakeMaker 7.74    
    ExtUtils::Manifest  1.75    
    ExtUtils::ParseXS   3.57    
    File::Spec          3.94    
    JSON                4.10    
    JSON::PP            4.16    
    Module::Build       0.4234  
    Module::Signature   0.89    
    Parse::CPAN::Meta   2.150010
    Test2               1.302210
    Test::Harness       3.50    
    Test::More          1.302210
    YAML                1.31    
    YAML::Syck          n/a     
    version             0.9933  


--

Summary of my perl5 (revision 5 version 41 subversion 11) configuration:
  Commit id: 2adc4025ac962d6debca427c98bde824bc4dc4d7
  Platform:
    osname=linux
    osvers=6.12.22_1
    archname=x86_64-linux
    uname='linux cjg-void 6.12.22_1 #1 smp preempt_dynamic thu apr 10 03:19:50 utc 2025 x86_64 gnulinux '
    config_args='-des -Dprefix=/home/cpan/bin/perl -Dscriptdir=/home/cpan/bin/perl/bin -Dusedevel -Duse64bitall'
    hint=recommended
    useposix=true
    d_sigaction=define
    useithreads=undef
    usemultiplicity=undef
    use64bitint=define
    use64bitall=define
    uselongdouble=undef
    usemymalloc=n
    default_inc_excludes_dot=define
  Compiler:
    cc='cc'
    ccflags ='-D_GNU_SOURCE -fwrapv -fno-strict-aliasing -pipe -fstack-protector-strong -I/usr/local/include -D_LARGEFILE_SOURCE -D_FILE_OFFSET_BITS=64 -D_FORTIFY_SOURCE=2'
    optimize='-O2'
    cppflags='-D_GNU_SOURCE -fwrapv -fno-strict-aliasing -pipe -fstack-protector-strong -I/usr/local/include'
    ccversion=''
    gccversion='13.2.0'
    gccosandvers=''
    intsize=4
    longsize=8
    ptrsize=8
    doublesize=8
    byteorder=12345678
    doublekind=3
    d_longlong=define
    longlongsize=8
    d_longdbl=define
    longdblsize=16
    longdblkind=3
    ivtype='long'
    ivsize=8
    nvtype='double'
    nvsize=8
    Off_t='off_t'
    lseeksize=8
    alignbytes=8
    prototype=define
  Linker and Libraries:
    ld='cc'
    ldflags =' -fstack-protector-strong -L/usr/local/lib'
    libpth=/usr/local/lib /usr/lib
    libs=-lpthread -ldb -ldl -lm -lcrypt -lutil -lc
    perllibs=-lpthread -ldl -lm -lcrypt -lutil -lc
    libc=/lib/../lib64/libc.so
    so=so
    useshrplib=false
    libperl=libperl.a
    gnulibc_version=''
  Dynamic Linking:
    dlsrc=dl_dlopen.xs
    dlext=so
    d_dlsymun=undef
    ccdlflags='-Wl,-E'
    cccdlflags='-fPIC'
    lddlflags='-shared -O2 -L/usr/local/lib -fstack-protector-strong'


Characteristics of this binary (from libperl): 
  Compile-time options:
    HAS_LONG_DOUBLE
    HAS_STRTOLD
    HAS_TIMES
    PERLIO_LAYERS
    PERL_COPY_ON_WRITE
    PERL_DONT_CREATE_GVSV
    PERL_HASH_FUNC_SIPHASH13
    PERL_HASH_USE_SBOX32
    PERL_MALLOC_WRAP
    PERL_OP_PARENT
    PERL_PRESERVE_IVUV
    PERL_USE_DEVEL
    PERL_USE_SAFE_PUTENV
    USE_64_BIT_ALL
    USE_64_BIT_INT
    USE_LARGE_FILES
    USE_LOCALE
    USE_LOCALE_COLLATE
    USE_LOCALE_CTYPE
    USE_LOCALE_NUMERIC
    USE_LOCALE_TIME
    USE_PERLIO
    USE_PERL_ATOF
  Built under linux
  Compiled at Apr 11 2025 10:34:58
  %ENV:
    PERL5LIB=""
    PERL5OPT=""
    PERL5_CPANPLUS_IS_RUNNING="22816"
    PERL5_CPAN_IS_RUNNING="22816"
    PERL_MM_USE_DEFAULT="1"
    PERL_USE_UNSAFE_INC="1"
  @INC:
    /home/cpan/bin/perl/lib/site_perl/5.41.11/x86_64-linux
    /home/cpan/bin/perl/lib/site_perl/5.41.11
    /home/cpan/bin/perl/lib/5.41.11/x86_64-linux
    /home/cpan/bin/perl/lib/5.41.11
    .