Back
From: metabase:user:4bb19ea0-b064-11df-ac73-2d518c32fe74
Subject: PASS MooseX-App-Cmd-0.07 v5.10.1 GNU/Linux
Date: 2012-03-05T11:43:45Z
This distribution has been tested as part of the CPAN Testers
project, supporting the Perl programming language. See
http://wiki.cpantesters.org/ for more information or email
questions to cpan-testers-discuss@perl.org
--
Dear Offer Kaye,
This is a computer-generated report for MooseX-App-Cmd-0.07
on perl 5.10.1, created by CPAN-Reporter-1.2004.
Thank you for uploading your work to CPAN. Congratulations!
All tests were successful.
Sections of this report:
* Tester comments
* Program output
* Prerequisites
* Environment and other context
------------------------------
TESTER COMMENTS
------------------------------
Additional comments from tester:
none provided
------------------------------
PROGRAM OUTPUT
------------------------------
Output from 'make test':
PERL_DL_NONLAZY=1 /home/stefan/perl5/perlbrew/perls/perl-5.10.1/bin/perl5.10.1 "-MExtUtils::Command::MM" "-e" "test_harness(0, 'blib/lib', 'blib/arch')" t/*.t
t/00-load.t ............. ok
t/basic.t ............... ok
t/build_emulates_new.t .. ok
t/configfile.t .......... ok
All tests successful.
Files=4, Tests=17, 2 wallclock secs ( 0.02 usr 0.02 sys + 1.09 cusr 0.06 csys = 1.19 CPU)
Result: PASS
------------------------------
PREREQUISITES
------------------------------
Prerequisite modules loaded:
requires:
Module Need Have
------------------------- ---- ------
App::Cmd 0.3 0.316
Getopt::Long::Descriptive 0 0.091
Moose 0.86 2.0402
MooseX::Getopt 0.18 0.39
Test::use::ok 0 0.02
build_requires:
Module Need Have
------------------------- ---- ------
ExtUtils::MakeMaker 0 6.62
configure_requires:
Module Need Have
------------------------- ---- ------
ExtUtils::MakeMaker 0 6.62
------------------------------
ENVIRONMENT AND OTHER CONTEXT
------------------------------
Environment variables:
LANG = en_US.UTF-8
PATH = /home/stefan/perl5/perlbrew/bin:/home/stefan/perl5/perlbrew/perls/perl-5.10.1/bin:/usr/local/sbin:/usr/local/bin:/usr/sbin:/usr/bin:/sbin:/bin:/usr/games
PATH_WITHOUT_PERLBREW = /usr/local/sbin:/usr/local/bin:/usr/sbin:/usr/bin:/sbin:/bin:/usr/games
PERL5LIB =
PERL5OPT =
PERL5_CPANPLUS_IS_RUNNING = 1691
PERL5_CPAN_IS_RUNNING = 1691
PERLBREW_BASHRC_VERSION = 0.33
PERLBREW_HOME = /home/stefan/.perlbrew
PERLBREW_MANPATH = /home/stefan/perl5/perlbrew/perls/perl-5.10.1/man
PERLBREW_PATH = /home/stefan/perl5/perlbrew/bin:/home/stefan/perl5/perlbrew/perls/perl-5.10.1/bin
PERLBREW_PERL = perl-5.10.1
PERLBREW_ROOT = /home/stefan/perl5/perlbrew
PERLBREW_VERSION = 0.41
SHELL = /bin/bash
TERM = xterm
Perl special variables (and OS-specific diagnostics, for MSWin32):
$^X = /home/stefan/perl5/perlbrew/perls/perl-5.10.1/bin/perl5.10.1
$UID/$EUID = 1000 / 1000
$GID = 1000 4 20 24 46 108 117 123 124 1000
$EGID = 1000 4 20 24 46 108 117 123 124 1000
Perl module toolchain versions installed:
Module Have
------------------- --------
CPAN 1.9800
CPAN::Meta 2.120630
Cwd 3.33
ExtUtils::CBuilder 0.280205
ExtUtils::Command 1.17
ExtUtils::Install 1.54
ExtUtils::MakeMaker 6.62
ExtUtils::Manifest 1.60
ExtUtils::ParseXS 3.15
File::Spec 3.33
JSON 2.53
JSON::PP 2.27200
Module::Build 0.40
Module::Signature n/a
Parse::CPAN::Meta 1.4402
Test::Harness 3.23
Test::More 0.98
YAML 0.80
YAML::Syck 1.20
version 0.96
--
Summary of my perl5 (revision 5 version 10 subversion 1) configuration:
Platform:
osname=linux, osvers=2.6.28-18-generic, archname=x86_64-linux
uname='linux pc-stefan 2.6.28-18-generic #60-ubuntu smp fri mar 12 04:26:47 utc 2010 x86_64 gnulinux '
config_args='-de -Dprefix=/home/stefan/perl5/perlbrew/perls/perl-5.10.1'
hint=recommended, useposix=true, d_sigaction=define
useithreads=undef, usemultiplicity=undef
useperlio=define, d_sfio=undef, uselargefiles=define, usesocks=undef
use64bitint=define, use64bitall=define, uselongdouble=undef
usemymalloc=n, bincompat5005=undef
Compiler:
cc='cc', ccflags ='-fno-strict-aliasing -pipe -fstack-protector -I/usr/local/include -D_LARGEFILE_SOURCE -D_FILE_OFFSET_BITS=64',
optimize='-O2',
cppflags='-fno-strict-aliasing -pipe -fstack-protector -I/usr/local/include'
ccversion='', gccversion='4.3.3', gccosandvers=''
intsize=4, longsize=8, ptrsize=8, doublesize=8, byteorder=12345678
d_longlong=define, longlongsize=8, d_longdbl=define, longdblsize=16
ivtype='long', ivsize=8, nvtype='double', nvsize=8, Off_t='off_t', lseeksize=8
alignbytes=8, prototype=define
Linker and Libraries:
ld='cc', ldflags =' -fstack-protector -L/usr/local/lib'
libpth=/usr/local/lib /lib /usr/lib /lib64 /usr/lib64
libs=-lnsl -ldl -lm -lcrypt -lutil -lc
perllibs=-lnsl -ldl -lm -lcrypt -lutil -lc
libc=/lib/libc-2.9.so, so=so, useshrplib=false, libperl=libperl.a
gnulibc_version='2.9'
Dynamic Linking:
dlsrc=dl_dlopen.xs, dlext=so, d_dlsymun=undef, ccdlflags='-Wl,-E'
cccdlflags='-fPIC', lddlflags='-shared -O2 -L/usr/local/lib -fstack-protector'
Characteristics of this binary (from libperl):
Compile-time options: PERL_DONT_CREATE_GVSV PERL_MALLOC_WRAP USE_64_BIT_ALL
USE_64_BIT_INT USE_LARGE_FILES USE_PERLIO
Built under linux
Compiled at May 21 2010 16:20:46
%ENV:
PERL5LIB=""
PERL5OPT=""
PERL5_CPANPLUS_IS_RUNNING="1691"
PERL5_CPAN_IS_RUNNING="1691"
PERLBREW_BASHRC_VERSION="0.33"
PERLBREW_HOME="/home/stefan/.perlbrew"
PERLBREW_MANPATH="/home/stefan/perl5/perlbrew/perls/perl-5.10.1/man"
PERLBREW_PATH="/home/stefan/perl5/perlbrew/bin:/home/stefan/perl5/perlbrew/perls/perl-5.10.1/bin"
PERLBREW_PERL="perl-5.10.1"
PERLBREW_ROOT="/home/stefan/perl5/perlbrew"
PERLBREW_VERSION="0.41"
@INC:
/home/stefan/perl5/perlbrew/perls/perl-5.10.1/lib/5.10.1/x86_64-linux
/home/stefan/perl5/perlbrew/perls/perl-5.10.1/lib/5.10.1
/home/stefan/perl5/perlbrew/perls/perl-5.10.1/lib/site_perl/5.10.1/x86_64-linux
/home/stefan/perl5/perlbrew/perls/perl-5.10.1/lib/site_perl/5.10.1
.