Back
From: metabase:user:34240882-1709-11e2-a89e-76239cf2b486
Subject: PASS Nagios-Plugin-0.36 v5.16.1 GNU/Linux
Date: 2012-10-16T02:37:44Z
This distribution has been tested as part of the CPAN Testers
project, supporting the Perl programming language. See
http://wiki.cpantesters.org/ for more information or email
questions to cpan-testers-discuss@perl.org
--
Dear Ton Voon,
This is a computer-generated report for Nagios-Plugin-0.36
on perl 5.16.1, created by CPAN-Reporter-1.2006.
Thank you for uploading your work to CPAN. Congratulations!
All tests were successful.
Sections of this report:
* Tester comments
* Program output
* Prerequisites
* Environment and other context
------------------------------
TESTER COMMENTS
------------------------------
Additional comments from tester:
this report is from an automated smoke testing program
and was not reviewed by a human for accuracy
------------------------------
PROGRAM OUTPUT
------------------------------
Output from '/usr/bin/make test':
PERL_DL_NONLAZY=1 /home/cthomas/perl5/perlbrew/perls/perl-5.16.1/bin/perl "-MExtUtils::Command::MM" "-e" "test_harness(0, 'blib/lib', 'blib/arch')" t/*.t
t/check_stuff.t ................... ok
t/Nagios-Plugin-01.t .............. ok
t/Nagios-Plugin-02.t .............. ok
t/Nagios-Plugin-03.t .............. ok
t/Nagios-Plugin-04.t .............. ok
defined(%hash) is deprecated at t/Nagios-Plugin-Functions-01.t line 22.
(Maybe you should just omit the defined()?)
t/Nagios-Plugin-Functions-01.t .... ok
t/Nagios-Plugin-Functions-02.t .... ok
t/Nagios-Plugin-Functions-03.t .... ok
t/Nagios-Plugin-Getopt-01.t ....... ok
t/Nagios-Plugin-Getopt-02.t ....... ok
t/Nagios-Plugin-Getopt-03.t ....... ok
t/Nagios-Plugin-Getopt-04.t ....... ok
t/Nagios-Plugin-Performance-02.t .. ok
t/Nagios-Plugin-Performance.t ..... ok
t/Nagios-Plugin-Range.t ........... ok
t/Nagios-Plugin-Threshold.t ....... ok
All tests successful.
Files=16, Tests=975, 5 wallclock secs ( 0.30 usr 0.04 sys + 4.70 cusr 0.40 csys = 5.44 CPU)
Result: PASS
------------------------------
PREREQUISITES
------------------------------
Prerequisite modules loaded:
requires:
Module Need Have
------------------- ---- -------
Carp 0 1.26
Class::Accessor 0 0.34
Config::Tiny 0 2.14
File::Basename 0 2.84
File::Spec 0 3.39_02
IO::File 0 1.16
Math::Calc::Units 0 1.07
Params::Validate 0 1.06
Test::More 0.62 0.98
build_requires:
Module Need Have
------------------- ---- -------
ExtUtils::MakeMaker 0 6.63_02
configure_requires:
Module Need Have
------------------- ---- -------
ExtUtils::MakeMaker 0 6.63_02
------------------------------
ENVIRONMENT AND OTHER CONTEXT
------------------------------
Environment variables:
AUTOMATED_TESTING = 1
LANG = en_US.UTF-8
MANPATH_WITHOUT_PERLBREW =
PATH = /home/cthomas/perl5/perlbrew/bin:/home/cthomas/perl5/perlbrew/perls/perl-5.16.1/bin:/usr/local/sbin:/usr/local/bin:/usr/sbin:/usr/bin:/sbin:/bin:/usr/games
PATH_WITHOUT_PERLBREW = /usr/local/sbin:/usr/local/bin:/usr/sbin:/usr/bin:/sbin:/bin:/usr/games
PERL5LIB = /home/cthomas/.cpan/build/Math-Calc-Units-1.07-ypjYSN/blib/arch:/home/cthomas/.cpan/build/Math-Calc-Units-1.07-ypjYSN/blib/lib:/home/cthomas/.cpan/build/Params-Validate-1.06-C4Go8F/blib/arch:/home/cthomas/.cpan/build/Params-Validate-1.06-C4Go8F/blib/lib:/home/cthomas/.cpan/build/Module-Implementation-0.06-Y2uN_p/blib/arch:/home/cthomas/.cpan/build/Module-Implementation-0.06-Y2uN_p/blib/lib:/home/cthomas/.cpan/build/Module-Runtime-0.013-SJhMfS/blib/arch:/home/cthomas/.cpan/build/Module-Runtime-0.013-SJhMfS/blib/lib:/home/cthomas/.cpan/build/Test-Requires-0.06-q6yB74/blib/arch:/home/cthomas/.cpan/build/Test-Requires-0.06-q6yB74/blib/lib:/home/cthomas/.cpan/build/Test-Fatal-0.010-mkuMbb/blib/arch:/home/cthomas/.cpan/build/Test-Fatal-0.010-mkuMbb/blib/lib:/home/cthomas/.cpan/build/Class-Accessor-0.34-Jn_beh/blib/arch:/home/cthomas/.cpan/build/Class-Accessor-0.34-Jn_beh/blib/lib
PERL5OPT =
PERL5_CPANPLUS_IS_RUNNING = 494
PERL5_CPAN_IS_RUNNING = 494
PERL5_CPAN_IS_RUNNING_IN_RECURSION = 20722,494
PERLBREW_BASHRC_VERSION = 0.52
PERLBREW_HOME = /home/cthomas/.perlbrew
PERLBREW_MANPATH = /home/cthomas/perl5/perlbrew/perls/perl-5.16.1/man
PERLBREW_PATH = /home/cthomas/perl5/perlbrew/bin:/home/cthomas/perl5/perlbrew/perls/perl-5.16.1/bin
PERLBREW_PERL = perl-5.16.1
PERLBREW_ROOT = /home/cthomas/perl5/perlbrew
PERLBREW_VERSION = 0.52
PERL_CR_SMOKER_CURRENT = Nagios-Passive-v0.3.4
PERL_EXTUTILS_AUTOINSTALL = --defaultdeps
PERL_MM_USE_DEFAULT = 1
SHELL = /bin/bash
TERM = xterm-color
Perl special variables (and OS-specific diagnostics, for MSWin32):
$^X = /home/cthomas/perl5/perlbrew/perls/perl-5.16.1/bin/perl
$UID/$EUID = 1001 / 1001
$GID = 1001 27 1001
$EGID = 1001 27 1001
Perl module toolchain versions installed:
Module Have
------------------- --------
CPAN 1.9800
CPAN::Meta 2.120630
Cwd 3.39_02
ExtUtils::CBuilder 0.280206
ExtUtils::Command 1.17
ExtUtils::Install 1.58
ExtUtils::MakeMaker 6.63_02
ExtUtils::Manifest 1.61
ExtUtils::ParseXS 3.16
File::Spec 3.39_02
JSON 2.53
JSON::PP 2.27200
Module::Build 0.4003
Module::Signature n/a
Parse::CPAN::Meta 1.4404
Test::Harness 3.25
Test::More 0.98
YAML 0.84
YAML::Syck n/a
version 0.99
--
Summary of my perl5 (revision 5 version 16 subversion 1) configuration:
Platform:
osname=linux, osvers=3.2.0-32-generic, archname=x86_64-linux
uname='linux devtools 3.2.0-32-generic #51-ubuntu smp wed sep 26 21:33:09 utc 2012 x86_64 x86_64 x86_64 gnulinux '
config_args='-de -Dprefix=/home/cthomas/perl5/perlbrew/perls/perl-5.16.1'
hint=recommended, useposix=true, d_sigaction=define
useithreads=undef, usemultiplicity=undef
useperlio=define, d_sfio=undef, uselargefiles=define, usesocks=undef
use64bitint=define, use64bitall=define, uselongdouble=undef
usemymalloc=n, bincompat5005=undef
Compiler:
cc='cc', ccflags ='-fno-strict-aliasing -pipe -fstack-protector -I/usr/local/include -D_LARGEFILE_SOURCE -D_FILE_OFFSET_BITS=64',
optimize='-O2',
cppflags='-fno-strict-aliasing -pipe -fstack-protector -I/usr/local/include'
ccversion='', gccversion='4.6.3', gccosandvers=''
intsize=4, longsize=8, ptrsize=8, doublesize=8, byteorder=12345678
d_longlong=define, longlongsize=8, d_longdbl=define, longdblsize=16
ivtype='long', ivsize=8, nvtype='double', nvsize=8, Off_t='off_t', lseeksize=8
alignbytes=8, prototype=define
Linker and Libraries:
ld='cc', ldflags =' -fstack-protector -L/usr/local/lib'
libpth=/usr/local/lib /lib/x86_64-linux-gnu /lib/../lib /usr/lib/x86_64-linux-gnu /usr/lib/../lib /lib /usr/lib
libs=-lnsl -ldl -lm -lcrypt -lutil -lc
perllibs=-lnsl -ldl -lm -lcrypt -lutil -lc
libc=, so=so, useshrplib=false, libperl=libperl.a
gnulibc_version='2.15'
Dynamic Linking:
dlsrc=dl_dlopen.xs, dlext=so, d_dlsymun=undef, ccdlflags='-Wl,-E'
cccdlflags='-fPIC', lddlflags='-shared -O2 -L/usr/local/lib -fstack-protector'
Characteristics of this binary (from libperl):
Compile-time options: HAS_TIMES PERLIO_LAYERS PERL_DONT_CREATE_GVSV
PERL_MALLOC_WRAP PERL_PRESERVE_IVUV USE_64_BIT_ALL
USE_64_BIT_INT USE_LARGE_FILES USE_LOCALE
USE_LOCALE_COLLATE USE_LOCALE_CTYPE
USE_LOCALE_NUMERIC USE_PERLIO USE_PERL_ATOF
Built under linux
Compiled at Oct 12 2012 16:15:49
%ENV:
PERL5LIB="/home/cthomas/.cpan/build/Math-Calc-Units-1.07-ypjYSN/blib/arch:/home/cthomas/.cpan/build/Math-Calc-Units-1.07-ypjYSN/blib/lib:/home/cthomas/.cpan/build/Params-Validate-1.06-C4Go8F/blib/arch:/home/cthomas/.cpan/build/Params-Validate-1.06-C4Go8F/blib/lib:/home/cthomas/.cpan/build/Module-Implementation-0.06-Y2uN_p/blib/arch:/home/cthomas/.cpan/build/Module-Implementation-0.06-Y2uN_p/blib/lib:/home/cthomas/.cpan/build/Module-Runtime-0.013-SJhMfS/blib/arch:/home/cthomas/.cpan/build/Module-Runtime-0.013-SJhMfS/blib/lib:/home/cthomas/.cpan/build/Test-Requires-0.06-q6yB74/blib/arch:/home/cthomas/.cpan/build/Test-Requires-0.06-q6yB74/blib/lib:/home/cthomas/.cpan/build/Test-Fatal-0.010-mkuMbb/blib/arch:/home/cthomas/.cpan/build/Test-Fatal-0.010-mkuMbb/blib/lib:/home/cthomas/.cpan/build/Class-Accessor-0.34-Jn_beh/blib/arch:/home/cthomas/.cpan/build/Class-Accessor-0.34-Jn_beh/blib/lib"
PERL5OPT=""
PERL5_CPANPLUS_IS_RUNNING="494"
PERL5_CPAN_IS_RUNNING="494"
PERL5_CPAN_IS_RUNNING_IN_RECURSION="20722,494"
PERLBREW_BASHRC_VERSION="0.52"
PERLBREW_HOME="/home/cthomas/.perlbrew"
PERLBREW_MANPATH="/home/cthomas/perl5/perlbrew/perls/perl-5.16.1/man"
PERLBREW_PATH="/home/cthomas/perl5/perlbrew/bin:/home/cthomas/perl5/perlbrew/perls/perl-5.16.1/bin"
PERLBREW_PERL="perl-5.16.1"
PERLBREW_ROOT="/home/cthomas/perl5/perlbrew"
PERLBREW_VERSION="0.52"
PERL_CR_SMOKER_CURRENT="Nagios-Passive-v0.3.4"
PERL_EXTUTILS_AUTOINSTALL="--defaultdeps"
PERL_MM_USE_DEFAULT="1"
@INC:
/home/cthomas/.cpan/build/Math-Calc-Units-1.07-ypjYSN/blib/arch
/home/cthomas/.cpan/build/Math-Calc-Units-1.07-ypjYSN/blib/lib
/home/cthomas/.cpan/build/Params-Validate-1.06-C4Go8F/blib/arch
/home/cthomas/.cpan/build/Params-Validate-1.06-C4Go8F/blib/lib
/home/cthomas/.cpan/build/Module-Implementation-0.06-Y2uN_p/blib/arch
/home/cthomas/.cpan/build/Module-Implementation-0.06-Y2uN_p/blib/lib
/home/cthomas/.cpan/build/Module-Runtime-0.013-SJhMfS/blib/arch
/home/cthomas/.cpan/build/Module-Runtime-0.013-SJhMfS/blib/lib
/home/cthomas/.cpan/build/Test-Requires-0.06-q6yB74/blib/arch
/home/cthomas/.cpan/build/Test-Requires-0.06-q6yB74/blib/lib
/home/cthomas/.cpan/build/Test-Fatal-0.010-mkuMbb/blib/arch
/home/cthomas/.cpan/build/Test-Fatal-0.010-mkuMbb/blib/lib
/home/cthomas/.cpan/build/Class-Accessor-0.34-Jn_beh/blib/arch
/home/cthomas/.cpan/build/Class-Accessor-0.34-Jn_beh/blib/lib
/home/cthomas/perl5/perlbrew/perls/perl-5.16.1/lib/site_perl/5.16.1/x86_64-linux
/home/cthomas/perl5/perlbrew/perls/perl-5.16.1/lib/site_perl/5.16.1
/home/cthomas/perl5/perlbrew/perls/perl-5.16.1/lib/5.16.1/x86_64-linux
/home/cthomas/perl5/perlbrew/perls/perl-5.16.1/lib/5.16.1
.