Report for Storable-AMF-1.23

Back
From: metabase:user:320bfe00-2aae-11df-837a-5e0a49663a4f
Subject: PASS Storable-AMF-1.23 v5.8.8 GNU/Linux
Date: 2016-06-29T09:40:07Z

This distribution has been tested as part of the CPAN Testers
project, supporting the Perl programming language.  See
http://wiki.cpantesters.org/ for more information or email
questions to cpan-testers-discuss@perl.org


--
Dear Grishayev Anatoliy,

This is a computer-generated report for Storable-AMF-1.23
on perl 5.8.8, created by CPAN-Reporter-1.2017.

Thank you for uploading your work to CPAN.  Congratulations!
All tests were successful.

Sections of this report:

    * Tester comments
    * Program output
    * Prerequisites
    * Environment and other context

------------------------------
TESTER COMMENTS
------------------------------

Additional comments from tester:

this report is from an automated smoke testing program
and was not reviewed by a human for accuracy

------------------------------
PROGRAM OUTPUT
------------------------------

Output from '/usr/bin/make test':

"/home/sand/src/perl/repoperls/installed-perls/perl/perl-5.8.8/79cc/bin/perl" -MExtUtils::Command::MM -e 'cp_nonempty' -- AMF.bs blib/arch/auto/Storable/AMF/AMF.bs 644
PERL_DL_NONLAZY=1 "/home/sand/src/perl/repoperls/installed-perls/perl/perl-5.8.8/79cc/bin/perl" "-MExtUtils::Command::MM" "-MTest::Harness" "-e" "undef *Test::Harness::Switches; test_harness(0, 'blib/lib', 'blib/arch')" t/*.t
78563412 LIT 12345678
t/00-compile.t .............. ok
t/01-parse_amf0.t ........... ok
t/02-parse_amf3.t ........... ok
t/03-format-long-str.t ...... ok
t/04-blessed.t .............. ok
t/05-dclone.t ............... ok
t/06-aux-utility.t .......... ok
t/06-last-undef.t ........... ok
t/07-pod.t .................. ok
t/08-amf3-integer.t ......... ok
      ord(+-)=43 45. -number=256
t/10-dual-var.t ............. ok
t/20-amf-double.t ........... ok
t/21-amf-strings.t .......... ok
t/22-array.t ................ ok
t/23-array-flash0.t ......... ok
t/24-anon-object.t .......... ok
t/30-can-AMF0.t ............. ok
t/31-can-AMF0.t ............. ok
t/32-can-AMF3.t ............. ok
t/40-negative-freeze.t ...... ok
t/41-neg-parse.t ............ ok
t/45-total-sv.t ............. ok
t/46-mem-safe-AMF0.t ........ ok
t/47-mem-safe-AMF3.t ........ ok
t/48-mem-safe-neg-AMF0.t .... ok
t/49-mem-safe-neg-AMF3.t .... ok
t/50-AMF90-exception.t ...... ok
t/51-strict-pragma.t ........ ok
t/52-special-case.t ......... ok
t/53-strict-pragma-amf0.t ... ok
t/54-strict-pragma-amf3.t ... ok
t/55-store-etc-amf0.t ....... ok
t/56-store-etc-amf3.t ....... ok
t/57-deparse-amf0.t ......... ok
t/58-deparse-amf3.t ......... ok
t/60-bug.t .................. ok
t/61-amf-date.t ............. ok
t/62-basic-ext.t ............ ok
t/63-parse-option.t ......... ok
t/64-prefer-number.t ........ ok
t/65-prefer-number3.t ....... ok
t/66-boolean.t .............. ok
t/67-boolean-real.t ......... ok
t/68-boolean-json.t ......... ok
t/69-to_AMF-experimental.t .. ok
t/70-Mapper.t ............... ok
t/71-amf-plus-marker.t ...... ok
t/72-max-array.t ............ ok
t/73-amf-tmp-storage.t ...... ok
t/74-amf-skip-bad.t ......... ok
t/75-devel-api.t ............ ok
All tests successful.
Files=51, Tests=3754,  9 wallclock secs ( 0.37 usr  0.33 sys +  3.33 cusr  0.67 csys =  4.70 CPU)
Result: PASS

------------------------------
PREREQUISITES
------------------------------

Prerequisite modules loaded:

requires:

    Module              Need     Have    
    ------------------- -------- --------
    perl                5.007003 5.008008
    XSLoader            0.06     0.20    

build_requires:

    Module              Need     Have    
    ------------------- -------- --------
    ExtUtils::MakeMaker 0        7.19_05 

configure_requires:

    Module              Need     Have    
    ------------------- -------- --------
    ExtUtils::MakeMaker 0        7.19_05 


------------------------------
ENVIRONMENT AND OTHER CONTEXT
------------------------------

Environment variables:

    AUTOMATED_TESTING = 1
    LANG = en_US.UTF-8
    LANGUAGE = en_US:en
    PATH = /usr/lib/ccache:/home/sand/bin:/usr/local/bin:/usr/bin:/bin:/usr/games:/usr/local/perl/bin:/usr/X11/bin:/sbin:/usr/sbin
    PERL5LIB = 
    PERL5OPT = 
    PERL5_CPANPLUS_IS_RUNNING = 28362
    PERL5_CPAN_IS_RUNNING = 28362
    PERL_CANARY_STABILITY_NOPROMPT = 1
    PERL_MM_USE_DEFAULT = 1
    SHELL = /usr/bin/zsh
    TERM = screen

Perl special variables (and OS-specific diagnostics, for MSWin32):

    $^X = /home/sand/src/perl/repoperls/installed-perls/perl/perl-5.8.8/79cc/bin/perl
    $UID/$EUID = 1005 / 1005
    $GID = 1005 1005
    $EGID = 1005 1005

Perl module toolchain versions installed:

    Module              Have    
    ------------------- --------
    CPAN                2.14    
    CPAN::Meta          2.150008
    Cwd                 3.62    
    ExtUtils::CBuilder  0.280224
    ExtUtils::Command   7.19_05 
    ExtUtils::Install   1.54    
    ExtUtils::MakeMaker 7.19_05 
    ExtUtils::Manifest  1.70    
    ExtUtils::ParseXS   3.30    
    File::Spec          3.62    
    JSON                2.90    
    JSON::PP            2.27400 
    Module::Build       0.4218  
    Module::Signature   0.80    
    Parse::CPAN::Meta   2.150008
    Test::Harness       3.36    
    Test::More          1.302034
    YAML                1.15    
    YAML::Syck          1.29    
    version             0.9917  


--

Summary of my perl5 (revision 5 version 8 subversion 8) configuration:
  Platform:
    osname=linux, osvers=4.3.0-1-amd64, archname=x86_64-linux
    uname='linux k83 4.3.0-1-amd64 #1 smp debian 4.3.3-7 (2016-01-19) x86_64 gnulinux '
    config_args='-Dprefix=/home/sand/src/perl/repoperls/installed-perls/perl/perl-5.8.8/79cc -Dmyhostname=k83 -Dinstallusrbinperl=n -Uversiononly -Dusedevel -des -Ui_db -Dlibswanted=cl pthread socket inet nsl gdbm dbm malloc dl ld sun m crypt sec util c cposix posix ucb BSD gdbm_compat -Uuseithreads -Uuselongdouble -DDEBUGGING=-g'
    hint=recommended, useposix=true, d_sigaction=define
    usethreads=undef use5005threads=undef useithreads=undef usemultiplicity=undef
    useperlio=define d_sfio=undef uselargefiles=define usesocks=undef
    use64bitint=define use64bitall=define uselongdouble=undef
    usemymalloc=n, bincompat5005=undef
  Compiler:
    cc='cc', ccflags ='-fno-strict-aliasing -pipe -Wdeclaration-after-statement -I/usr/local/include -D_LARGEFILE_SOURCE -D_FILE_OFFSET_BITS=64',
    optimize='-O2',
    cppflags='-fno-strict-aliasing -pipe -Wdeclaration-after-statement -I/usr/local/include'
    ccversion='', gccversion='5.3.1 20160121', gccosandvers=''
    intsize=4, longsize=8, ptrsize=8, doublesize=8, byteorder=12345678
    d_longlong=define, longlongsize=8, d_longdbl=define, longdblsize=16
    ivtype='long', ivsize=8, nvtype='double', nvsize=8, Off_t='off_t', lseeksize=8
    alignbytes=8, prototype=define
  Linker and Libraries:
    ld='cc', ldflags =' -L/usr/local/lib'
    libpth=/usr/local/lib /lib/x86_64-linux-gnu /lib/../lib /usr/lib/x86_64-linux-gnu /usr/lib/../lib /lib /usr/lib
    libs=-lpthread -lnsl -lgdbm -ldl -lm -lcrypt -lutil -lc -lgdbm_compat
    perllibs=-lpthread -lnsl -ldl -lm -lcrypt -lutil -lc -lgdbm_compat
    libc=libc-2.21.so, so=so, useshrplib=false, libperl=libperl.a
    gnulibc_version='2.21'
  Dynamic Linking:
    dlsrc=dl_dlopen.xs, dlext=so, d_dlsymun=undef, ccdlflags='-Wl,-E'
    cccdlflags='-fpic', lddlflags='-shared -L/usr/local/lib'


Characteristics of this binary (from libperl): 
  Compile-time options: PERL_MALLOC_WRAP USE_64_BIT_ALL USE_64_BIT_INT
                        USE_LARGE_FILES USE_PERLIO
  Built under linux
  Compiled at May  2 2016 07:31:30
  %ENV:
    PERL5LIB=""
    PERL5OPT=""
    PERL5_CPANPLUS_IS_RUNNING="28362"
    PERL5_CPAN_IS_RUNNING="28362"
    PERL_CANARY_STABILITY_NOPROMPT="1"
    PERL_MM_USE_DEFAULT="1"
  @INC:
    /home/sand/src/perl/repoperls/installed-perls/perl/perl-5.8.8/79cc/lib/5.8.8/x86_64-linux
    /home/sand/src/perl/repoperls/installed-perls/perl/perl-5.8.8/79cc/lib/5.8.8
    /home/sand/src/perl/repoperls/installed-perls/perl/perl-5.8.8/79cc/lib/site_perl/5.8.8/x86_64-linux
    /home/sand/src/perl/repoperls/installed-perls/perl/perl-5.8.8/79cc/lib/site_perl/5.8.8
    /home/sand/src/perl/repoperls/installed-perls/perl/perl-5.8.8/79cc/lib/site_perl
    .