Net-Async-WebSocket v0.13 Perl 5 v5.28.0 amd64-freebsd
- Status
- Pass
- From
- Slaven Rezić (SREZIC)
- Dist
-
Net-Async-WebSocket v0.13
- Platform
- Perl 5 v5.28.0 amd64-freebsd
- Date
- 2018-12-04 20:30:39
- ID
- 76e29a6c-f803-11e8-a8bd-b6c8c2283d6c
This distribution has been tested as part of the CPAN Testers
project, supporting the Perl programming language. See
http://wiki.cpantesters.org/ for more information or email
questions to cpan-testers-discuss@perl.org
--
Dear Paul Evans,
This is a computer-generated report for Net-Async-WebSocket-0.13
on perl 5.28.0, created by CPAN-Reporter-1.2018.
Thank you for uploading your work to CPAN. Congratulations!
All tests were successful.
Sections of this report:
* Tester comments
* Program output
* Prerequisites
* Environment and other context
------------------------------
TESTER COMMENTS
------------------------------
Additional comments from tester:
none provided
------------------------------
PROGRAM OUTPUT
------------------------------
Output from './Build test':
t/00use.t ..... ok
t/01client.t .. ok
t/02server.t .. ok
t/03cross.t ... ok
t/99pod.t ..... ok
All tests successful.
Files=5, Tests=29, 2 wallclock secs ( 0.04 usr 0.02 sys + 1.15 cusr 0.29 csys = 1.49 CPU)
Result: PASS
------------------------------
PREREQUISITES
------------------------------
Prerequisite modules loaded:
requires:
Module Need Have
-------------------------------------- ------ --------
IO::Async::Listener 0.61 0.72
IO::Async::Notifier 0.63 0.72
IO::Async::Stream 0.34 0.72
perl 5.010 5.028000
Protocol::WebSocket 0.22 0.24
Protocol::WebSocket::Frame 0 0
Protocol::WebSocket::Handshake::Client 0 0
Protocol::WebSocket::Handshake::Server 0 0
Sub::Util 1.40 1.50
URI 0 1.74
build_requires:
Module Need Have
-------------------------------------- ------ --------
IO::Async::OS 0 0.72
Test::More 0.88 1.302140
configure_requires:
Module Need Have
-------------------------------------- ------ --------
Module::Build 0.4004 0.4224
------------------------------
ENVIRONMENT AND OTHER CONTEXT
------------------------------
Environment variables:
PATH = /usr/local/bin:/usr/bin:/bin:/usr/local/sbin:/usr/sbin:/sbin:/home/cpansand/bin/freebsd13.0:/home/cpansand/bin/sh:/home/cpansand/bin:/usr/games:/home/cpansand/devel:/usr/home/eserte/src/srezic-misc/scripts
PERL5LIB = /home/cpansand/.cpan/build/2018120419/IO-Async-0.72-1/blib/arch:/home/cpansand/.cpan/build/2018120419/IO-Async-0.72-1/blib/lib:/home/cpansand/.cpan/build/2018120419/Struct-Dumb-0.09-1/blib/arch:/home/cpansand/.cpan/build/2018120419/Struct-Dumb-0.09-1/blib/lib
PERL5OPT =
PERL5_CPANPLUS_IS_RUNNING = 38738
PERL5_CPAN_IS_RUNNING = 38738
PERL5_CPAN_IS_RUNNING_IN_RECURSION = 36881,38738
PERLDOC = -MPod::Perldoc::ToTextOverstrike
PERL_BATCH = yes
PERL_CANARY_STABILITY_NOPROMPT = 1
PERL_CPAN_REPORTER_CONFIG = /var/tmp/cpansmoker-1023/2018120419/cpanreporter_000_config.ini
PERL_EXTUTILS_AUTOINSTALL = --defaultdeps
PERL_USE_UNSAFE_INC = 1
SHELL = /usr/local/bin/zsh
TERM = screen
TMPDIR = /var/tmp/cpansmoker-1023/2018120419
Perl special variables (and OS-specific diagnostics, for MSWin32):
$^X = /usr/perl5.28.0p/bin/perl5.28.0
$UID/$EUID = 1023 / 1023
$GID = 1023 1023
$EGID = 1023 1023
Perl module toolchain versions installed:
Module Have
------------------- --------
CPAN 2.20
CPAN::Meta 2.150010
Cwd 3.74
ExtUtils::CBuilder 0.280230
ExtUtils::Command 7.34
ExtUtils::Install 2.14
ExtUtils::MakeMaker 7.34
ExtUtils::Manifest 1.70
ExtUtils::ParseXS 3.39
File::Spec 3.74
JSON 2.97001
JSON::PP 2.97001
Module::Build 0.4224
Module::Signature 0.83
Parse::CPAN::Meta 2.150010
Test::Harness 3.42
Test::More 1.302140
YAML 1.26
YAML::Syck 1.31
version 0.9923
--
Summary of my perl5 (revision 5 version 28 subversion 0) configuration:
Platform:
osname=freebsd
osvers=13.0-current
archname=amd64-freebsd
uname='freebsd cloud2.bbbike.org 13.0-current freebsd 13.0-current 265606d643e(master) generic amd64 '
config_args='-ds -e -Dprefix=/usr/perl5.28.0p -Dcf_email=srezic@cpan.org -Doptimize=-O2 -pipe'
hint=recommended
useposix=true
d_sigaction=define
useithreads=undef
usemultiplicity=undef
use64bitint=define
use64bitall=define
uselongdouble=undef
usemymalloc=n
default_inc_excludes_dot=define
bincompat5005=undef
Compiler:
cc='cc'
ccflags ='-DHAS_FPSETMASK -DHAS_FLOATINGPOINT_H -fno-strict-aliasing -pipe -fstack-protector-strong -I/usr/local/include -D_FORTIFY_SOURCE=2'
optimize='-O2 -pipe'
cppflags='-DHAS_FPSETMASK -DHAS_FLOATINGPOINT_H -fno-strict-aliasing -pipe -fstack-protector-strong -I/usr/local/include'
ccversion=''
gccversion='4.2.1 Compatible FreeBSD Clang 6.0.1 (tags/RELEASE_601/final 335540)'
gccosandvers=''
intsize=4
longsize=8
ptrsize=8
doublesize=8
byteorder=12345678
doublekind=3
d_longlong=define
longlongsize=8
d_longdbl=define
longdblsize=16
longdblkind=3
ivtype='long'
ivsize=8
nvtype='double'
nvsize=8
Off_t='off_t'
lseeksize=8
alignbytes=8
prototype=define
Linker and Libraries:
ld='cc'
ldflags ='-pthread -Wl,-E -fstack-protector-strong -L/usr/local/lib'
libpth=/usr/lib /usr/local/lib /usr/lib/clang/6.0.1/lib /usr/lib
libs=-lpthread -ldl -lm -lcrypt -lutil -lc
perllibs=-lpthread -ldl -lm -lcrypt -lutil -lc
libc=
so=so
useshrplib=false
libperl=libperl.a
gnulibc_version=''
Dynamic Linking:
dlsrc=dl_dlopen.xs
dlext=so
d_dlsymun=undef
ccdlflags=' '
cccdlflags='-DPIC -fPIC'
lddlflags='-shared -L/usr/local/lib -fstack-protector-strong'
Characteristics of this binary (from libperl):
Compile-time options:
HAS_TIMES
PERLIO_LAYERS
PERL_COPY_ON_WRITE
PERL_DONT_CREATE_GVSV
PERL_MALLOC_WRAP
PERL_OP_PARENT
PERL_PRESERVE_IVUV
USE_64_BIT_ALL
USE_64_BIT_INT
USE_LARGE_FILES
USE_LOCALE
USE_LOCALE_COLLATE
USE_LOCALE_CTYPE
USE_LOCALE_NUMERIC
USE_LOCALE_TIME
USE_PERLIO
USE_PERL_ATOF
Built under freebsd
Compiled at Oct 27 2018 08:31:21
%ENV:
PERL5LIB="/home/cpansand/.cpan/build/2018120419/IO-Async-0.72-1/blib/arch:/home/cpansand/.cpan/build/2018120419/IO-Async-0.72-1/blib/lib:/home/cpansand/.cpan/build/2018120419/Struct-Dumb-0.09-1/blib/arch:/home/cpansand/.cpan/build/2018120419/Struct-Dumb-0.09-1/blib/lib"
PERL5OPT=""
PERL5_CPANPLUS_IS_RUNNING="38738"
PERL5_CPAN_IS_RUNNING="38738"
PERL5_CPAN_IS_RUNNING_IN_RECURSION="36881,38738"
PERLDOC="-MPod::Perldoc::ToTextOverstrike"
PERL_BATCH="yes"
PERL_CANARY_STABILITY_NOPROMPT="1"
PERL_CPAN_REPORTER_CONFIG="/var/tmp/cpansmoker-1023/2018120419/cpanreporter_000_config.ini"
PERL_EXTUTILS_AUTOINSTALL="--defaultdeps"
PERL_USE_UNSAFE_INC="1"
@INC:
/home/cpansand/.cpan/build/2018120419/IO-Async-0.72-1/blib/arch
/home/cpansand/.cpan/build/2018120419/IO-Async-0.72-1/blib/lib
/home/cpansand/.cpan/build/2018120419/Struct-Dumb-0.09-1/blib/arch
/home/cpansand/.cpan/build/2018120419/Struct-Dumb-0.09-1/blib/lib
/usr/perl5.28.0p/lib/site_perl/5.28.0/amd64-freebsd
/usr/perl5.28.0p/lib/site_perl/5.28.0
/usr/perl5.28.0p/lib/5.28.0/amd64-freebsd
/usr/perl5.28.0p/lib/5.28.0
.