Devel-Cover-Report-Codecov v0.23 Perl 5 v5.24.1 x86_64-linux-thread-multi
- Status
- Pass
- From
- Nigel Horne
- Dist
-
Devel-Cover-Report-Codecov v0.23
- Platform
- Perl 5 v5.24.1 x86_64-linux-thread-multi
- Date
- 2018-08-29 07:23:45
- ID
- 76e963f4-ab5c-11e8-8c4c-9fff2ef46f3b
This distribution has been tested as part of the CPAN Testers
project, supporting the Perl programming language. See
http://wiki.cpantesters.org/ for more information or email
questions to cpan-testers-discuss@perl.org
--
Dear Pine Mizune,
This is a computer-generated report for Devel-Cover-Report-Codecov-0.23
on perl 5.24.1, created by CPAN-Reporter-1.2018.
Thank you for uploading your work to CPAN. Congratulations!
All tests were successful.
Sections of this report:
* Tester comments
* Program output
* Prerequisites
* Environment and other context
------------------------------
TESTER COMMENTS
------------------------------
Additional comments from tester:
this report is from an automated smoke testing program
and was not reviewed by a human for accuracy
------------------------------
PROGRAM OUTPUT
------------------------------
Output from './Build test':
t/codecov/000_compile.t ...................... ok
t/codecov/get_codecov_json.t ................. ok
t/codecov/get_file_coverage.t ................ ok
t/codecov/get_file_lines.t ................... ok
t/codecov/get_file_realpath.t ................ ok
t/codecov/get_line_coverage.t ................ ok
t/codecov/get_query.t ........................ ok
t/codecov/get_request_url.t .................. ok
t/codecov/get_services.t ..................... ok
t/codecov/report.t ........................... ok
t/codecov/send_report.t ...................... ok
t/codecov/send_report_once.t ................. ok
t/codecov/service/appveyor/configuration.t ... ok
t/codecov/service/appveyor/detect.t .......... ok
t/codecov/service/bitrise/configuration.t .... ok
t/codecov/service/bitrise/detect.t ........... ok
t/codecov/service/drone/configuration.t ...... ok
t/codecov/service/drone/detect.t ............. ok
# git version 2.18.0
t/codecov/service/git/configuration.t ........ ok
t/codecov/service/git/detect.t ............... ok
t/codecov/service/git/fallback.t ............. ok
t/codecov/service/gitlab/configuration.t ..... ok
t/codecov/service/gitlab/detect.t ............ ok
t/codecov/service/magnum/detect.t ............ ok
t/codecov/service/mercurial/configuration.t .. ok
t/codecov/service/mercurial/detect.t ......... ok
t/codecov/service/mercurial/fallback.t ....... ok
t/codecov/service/semaphore/configuration.t .. ok
t/codecov/service/semaphore/detect.t ......... ok
t/codecov/service/shippable/configuration.t .. ok
t/codecov/service/shippable/detect.t ......... ok
t/codecov/service/travis/configuration.t ..... ok
t/codecov/service/travis/detect.t ............ ok
t/codecov/service/wercker/configuration.t .... ok
t/codecov/service/wercker/detect.t ........... ok
t/data/proj/t/00_compile.t ................... ok
t/data/proj/t/10_add.t ....................... ok
t/data/proj/t/10_div.t ....................... ok
t/data/proj_blib/t/00_compile.t .............. ok
t/data/proj_blib/t/10_add.t .................. ok
t/data/proj_blib/t/10_div.t .................. ok
All tests successful.
Files=41, Tests=73, 6 wallclock secs ( 0.08 usr 0.07 sys + 4.59 cusr 0.64 csys = 5.38 CPU)
Result: PASS
------------------------------
PREREQUISITES
------------------------------
Prerequisite modules loaded:
requires:
Module Need Have
------------------- ---------- ----------
Capture::Tiny 0.30 0.48
Devel::Cover 0 1.30
Furl 3.07 3.13
IO::Socket::SSL 2.016 2.048
JSON::XS 3.01 3.03
Module::Find 0.13 0.13
perl 5.008001 5.024001
Sub::Retry 0.06 0.06
URI 1.60 1.71
build_requires:
Module Need Have
------------------- ---------- ----------
Archive::Tar 2.04 2.30
Capture::Tiny 0.30 0.48
Cwd 3.47 3.74
Cwd::Guard 0.04 0.05
Devel::Cover 1.20 1.30
File::Temp 0.2304 0.2304
File::Which 1.19 1.21
Perl::Critic 1.125 1.126
Test::Deep 0.117 1.127
Test::Exception 0.40 0.43
Test::Mock::Guard 0.10 0.10
Test::Mock::Time v0.1.6 v0.1.7
Test::MockObject 1.20150527 1.20180705
Test::More 1.001014 1.302136
Test::Perl::Critic 1.03 1.04
Test::Requires::Git 1.003 1.008
configure_requires:
Module Need Have
------------------- ---------- ----------
Module::Build::Tiny 0.035 0.039
------------------------------
ENVIRONMENT AND OTHER CONTEXT
------------------------------
Environment variables:
AUTOMATED_TESTING = 1
LANG = en_GB.UTF-8
LANGUAGE = en_GB:en
PATH = /home/njh/perl5/perlbrew/bin:/home/njh/perl5/perlbrew/perls/perl-5.24.1/bin:/home/njh/perl5/perlbrew/bin:/usr/bin:/bin
PERL5LIB = /home/njh/.cpan/build/Test-Requires-Git-1.008-0/blib/arch:/home/njh/.cpan/build/Test-Requires-Git-1.008-0/blib/lib:/home/njh/.cpan/build/Git-Version-Compare-1.004-0/blib/arch:/home/njh/.cpan/build/Git-Version-Compare-1.004-0/blib/lib:/home/njh/.cpan/build/Test-Mock-Time-v0.1.7-0/blib/arch:/home/njh/.cpan/build/Test-Mock-Time-v0.1.7-0/blib/lib:/home/njh/.cpan/build/Export-Attrs-v0.1.0-0/blib/arch:/home/njh/.cpan/build/Export-Attrs-v0.1.0-0/blib/lib:/home/njh/.cpan/build/Test-Mock-Guard-0.10-0/blib/arch:/home/njh/.cpan/build/Test-Mock-Guard-0.10-0/blib/lib:/home/njh/.cpan/build/Sub-Retry-0.06-0/blib/arch:/home/njh/.cpan/build/Sub-Retry-0.06-0/blib/lib:/home/njh/.cpan/build/Module-Find-0.13-0/blib/arch:/home/njh/.cpan/build/Module-Find-0.13-0/blib/lib:/home/njh/.cpan/build/Furl-3.13-0/blib/arch:/home/njh/.cpan/build/Furl-3.13-0/blib/lib:/home/njh/.cpan/build/Test-TCP-2.19-0/blib/arch:/home/njh/.cpan/build/Test-TCP-2.19-0/blib/lib:/home/njh/.cpan/build/Test-SharedFork-0.35-0/blib/arch:/home/njh/.cpan/build/Test-SharedFork-0.35-0/blib/lib:/home/njh/.cpan/build/HTTP-Parser-XS-0.17-0/blib/arch:/home/njh/.cpan/build/HTTP-Parser-XS-0.17-0/blib/lib:/home/njh/.cpan/build/Class-Accessor-Lite-0.08-0/blib/arch:/home/njh/.cpan/build/Class-Accessor-Lite-0.08-0/blib/lib
PERL5OPT =
PERL5_CPANPLUS_IS_RUNNING = 12208
PERL5_CPAN_IS_RUNNING = 12208
PERL5_MINISMOKEBOX = 0.68
PERLBREW_LIB =
PERLBREW_MANPATH = /home/njh/perl5/perlbrew/perls/perl-5.24.1/man
PERLBREW_PATH = /home/njh/perl5/perlbrew/bin:/home/njh/perl5/perlbrew/perls/perl-5.24.1/bin
PERLBREW_PERL = perl-5.24.1
PERLBREW_ROOT = /home/njh/perl5/perlbrew
PERLBREW_SHELLRC_VERSION = 0.82
PERLBREW_VERSION = 0.82
PERL_EXTUTILS_AUTOINSTALL = --defaultdeps
PERL_LOCAL_LIB_ROOT =
PERL_MM_USE_DEFAULT = 1
SHELL = /bin/sh
TEMP = /tmp/user/1000
TMPDIR = /tmp/user/1000
Perl special variables (and OS-specific diagnostics, for MSWin32):
$^X = /home/njh/perl5/perlbrew/perls/perl-5.24.1/bin/perl5.24.1
$UID/$EUID = 1000 / 1000
$GID = 1000 4 24 25 29 30 44 46 108 112 1000
$EGID = 1000 4 24 25 29 30 44 46 108 112 1000
Perl module toolchain versions installed:
Module Have
------------------- --------
CPAN 2.16
CPAN::Meta 2.150010
Cwd 3.74
ExtUtils::CBuilder 0.280230
ExtUtils::Command 7.34
ExtUtils::Install 2.14
ExtUtils::MakeMaker 7.34
ExtUtils::Manifest 1.71
ExtUtils::ParseXS 3.35
File::Spec 3.74
JSON 2.97001
JSON::PP 2.94
Module::Build 0.4224
Module::Signature n/a
Parse::CPAN::Meta 2.150010
Test::Harness 3.39
Test::More 1.302136
YAML 1.26
YAML::Syck 1.30
version 0.9918
--
Summary of my perl5 (revision 5 version 24 subversion 1) configuration:
Platform:
osname=linux, osvers=4.7.0-1-amd64, archname=x86_64-linux-thread-multi
uname='linux gateway 4.7.0-1-amd64 #1 smp debian 4.7.5-1 (2016-09-26) x86_64 gnulinux '
config_args='-de -Dprefix=/home/njh/perl5/perlbrew/perls/perl-5.24.1 -Duseithreads -Dusemultiplicity -Dusedevel -Accflags= -Aeval:scriptdir=/home/njh/perl5/perlbrew/perls/perl-5.24.1/bin'
hint=recommended, useposix=true, d_sigaction=define
useithreads=define, usemultiplicity=define
use64bitint=define, use64bitall=define, uselongdouble=undef
usemymalloc=n, bincompat5005=undef
Compiler:
cc='cc', ccflags ='-D_REENTRANT -D_GNU_SOURCE -fwrapv -fno-strict-aliasing -pipe -fstack-protector-strong -I/usr/local/include -D_LARGEFILE_SOURCE -D_FILE_OFFSET_BITS=64',
optimize='-O2',
cppflags='-D_REENTRANT -D_GNU_SOURCE -fwrapv -fno-strict-aliasing -pipe -fstack-protector-strong -I/usr/local/include'
ccversion='', gccversion='6.2.1 20161124', gccosandvers=''
intsize=4, longsize=8, ptrsize=8, doublesize=8, byteorder=12345678, doublekind=3
d_longlong=define, longlongsize=8, d_longdbl=define, longdblsize=16, longdblkind=3
ivtype='long', ivsize=8, nvtype='double', nvsize=8, Off_t='off_t', lseeksize=8
alignbytes=8, prototype=define
Linker and Libraries:
ld='cc', ldflags =' -fstack-protector-strong -L/usr/local/lib'
libpth=/usr/local/lib /usr/lib/gcc/x86_64-linux-gnu/6/include-fixed /usr/include/x86_64-linux-gnu /usr/lib /lib/x86_64-linux-gnu /lib/../lib /usr/lib/x86_64-linux-gnu /usr/lib/../lib /lib
libs=-lpthread -lnsl -lgdbm -ldb -ldl -lm -lcrypt -lutil -lc -lgdbm_compat
perllibs=-lpthread -lnsl -ldl -lm -lcrypt -lutil -lc
libc=libc-2.24.so, so=so, useshrplib=false, libperl=libperl.a
gnulibc_version='2.24'
Dynamic Linking:
dlsrc=dl_dlopen.xs, dlext=so, d_dlsymun=undef, ccdlflags='-Wl,-E'
cccdlflags='-fPIC', lddlflags='-shared -O2 -L/usr/local/lib -fstack-protector-strong'
Characteristics of this binary (from libperl):
Compile-time options: HAS_TIMES MULTIPLICITY PERLIO_LAYERS
PERL_COPY_ON_WRITE PERL_DONT_CREATE_GVSV
PERL_HASH_FUNC_ONE_AT_A_TIME_HARD
PERL_IMPLICIT_CONTEXT PERL_MALLOC_WRAP
PERL_PRESERVE_IVUV PERL_USE_DEVEL USE_64_BIT_ALL
USE_64_BIT_INT USE_ITHREADS USE_LARGE_FILES
USE_LOCALE USE_LOCALE_COLLATE USE_LOCALE_CTYPE
USE_LOCALE_NUMERIC USE_LOCALE_TIME USE_PERLIO
USE_PERL_ATOF USE_REENTRANT_API
Built under linux
Compiled at Jan 24 2017 00:39:08
%ENV:
PERL5LIB="/home/njh/.cpan/build/Test-Requires-Git-1.008-0/blib/arch:/home/njh/.cpan/build/Test-Requires-Git-1.008-0/blib/lib:/home/njh/.cpan/build/Git-Version-Compare-1.004-0/blib/arch:/home/njh/.cpan/build/Git-Version-Compare-1.004-0/blib/lib:/home/njh/.cpan/build/Test-Mock-Time-v0.1.7-0/blib/arch:/home/njh/.cpan/build/Test-Mock-Time-v0.1.7-0/blib/lib:/home/njh/.cpan/build/Export-Attrs-v0.1.0-0/blib/arch:/home/njh/.cpan/build/Export-Attrs-v0.1.0-0/blib/lib:/home/njh/.cpan/build/Test-Mock-Guard-0.10-0/blib/arch:/home/njh/.cpan/build/Test-Mock-Guard-0.10-0/blib/lib:/home/njh/.cpan/build/Sub-Retry-0.06-0/blib/arch:/home/njh/.cpan/build/Sub-Retry-0.06-0/blib/lib:/home/njh/.cpan/build/Module-Find-0.13-0/blib/arch:/home/njh/.cpan/build/Module-Find-0.13-0/blib/lib:/home/njh/.cpan/build/Furl-3.13-0/blib/arch:/home/njh/.cpan/build/Furl-3.13-0/blib/lib:/home/njh/.cpan/build/Test-TCP-2.19-0/blib/arch:/home/njh/.cpan/build/Test-TCP-2.19-0/blib/lib:/home/njh/.cpan/build/Test-SharedFork-0.35-0/blib/arch:/home/njh/.cpan/build/Test-SharedFork-0.35-0/blib/lib:/home/njh/.cpan/build/HTTP-Parser-XS-0.17-0/blib/arch:/home/njh/.cpan/build/HTTP-Parser-XS-0.17-0/blib/lib:/home/njh/.cpan/build/Class-Accessor-Lite-0.08-0/blib/arch:/home/njh/.cpan/build/Class-Accessor-Lite-0.08-0/blib/lib"
PERL5OPT=""
PERL5_CPANPLUS_IS_RUNNING="12208"
PERL5_CPAN_IS_RUNNING="12208"
PERL5_MINISMOKEBOX="0.68"
PERLBREW_LIB=""
PERLBREW_MANPATH="/home/njh/perl5/perlbrew/perls/perl-5.24.1/man"
PERLBREW_PATH="/home/njh/perl5/perlbrew/bin:/home/njh/perl5/perlbrew/perls/perl-5.24.1/bin"
PERLBREW_PERL="perl-5.24.1"
PERLBREW_ROOT="/home/njh/perl5/perlbrew"
PERLBREW_SHELLRC_VERSION="0.82"
PERLBREW_VERSION="0.82"
PERL_EXTUTILS_AUTOINSTALL="--defaultdeps"
PERL_LOCAL_LIB_ROOT=""
PERL_MM_USE_DEFAULT="1"
@INC:
/home/njh/.cpan/build/Test-Requires-Git-1.008-0/blib/arch
/home/njh/.cpan/build/Test-Requires-Git-1.008-0/blib/lib
/home/njh/.cpan/build/Git-Version-Compare-1.004-0/blib/arch
/home/njh/.cpan/build/Git-Version-Compare-1.004-0/blib/lib
/home/njh/.cpan/build/Test-Mock-Time-v0.1.7-0/blib/arch
/home/njh/.cpan/build/Test-Mock-Time-v0.1.7-0/blib/lib
/home/njh/.cpan/build/Export-Attrs-v0.1.0-0/blib/arch
/home/njh/.cpan/build/Export-Attrs-v0.1.0-0/blib/lib
/home/njh/.cpan/build/Test-Mock-Guard-0.10-0/blib/arch
/home/njh/.cpan/build/Test-Mock-Guard-0.10-0/blib/lib
/home/njh/.cpan/build/Sub-Retry-0.06-0/blib/arch
/home/njh/.cpan/build/Sub-Retry-0.06-0/blib/lib
/home/njh/.cpan/build/Module-Find-0.13-0/blib/arch
/home/njh/.cpan/build/Module-Find-0.13-0/blib/lib
/home/njh/.cpan/build/Furl-3.13-0/blib/arch
/home/njh/.cpan/build/Furl-3.13-0/blib/lib
/home/njh/.cpan/build/Test-TCP-2.19-0/blib/arch
/home/njh/.cpan/build/Test-TCP-2.19-0/blib/lib
/home/njh/.cpan/build/Test-SharedFork-0.35-0/blib/arch
/home/njh/.cpan/build/Test-SharedFork-0.35-0/blib/lib
/home/njh/.cpan/build/HTTP-Parser-XS-0.17-0/blib/arch
/home/njh/.cpan/build/HTTP-Parser-XS-0.17-0/blib/lib
/home/njh/.cpan/build/Class-Accessor-Lite-0.08-0/blib/arch
/home/njh/.cpan/build/Class-Accessor-Lite-0.08-0/blib/lib
/home/njh/perl5/perlbrew/perls/perl-5.24.1/lib/site_perl/5.24.1/x86_64-linux-thread-multi
/home/njh/perl5/perlbrew/perls/perl-5.24.1/lib/site_perl/5.24.1
/home/njh/perl5/perlbrew/perls/perl-5.24.1/lib/5.24.1/x86_64-linux-thread-multi
/home/njh/perl5/perlbrew/perls/perl-5.24.1/lib/5.24.1
.