Net-LDAP-SimpleServer v0.0.20 Perl 5 v5.27.5 amd64-freebsd-thread-multi

Status
Pass
From
Slaven Rezić (SREZIC)
Dist
Net-LDAP-SimpleServer v0.0.20
Platform
Perl 5 v5.27.5 amd64-freebsd-thread-multi
Date
2017-11-07 22:31:57
ID
76f8814c-c40b-11e7-8ed5-a9d5a594eef5
This distribution has been tested as part of the CPAN Testers
project, supporting the Perl programming language.  See
http://wiki.cpantesters.org/ for more information or email
questions to cpan-testers-discuss@perl.org


--
Dear Alexei Znamensky,

This is a computer-generated report for Net-LDAP-SimpleServer-0.0.20
on perl 5.27.5, created by CPAN-Reporter-1.2018.

Thank you for uploading your work to CPAN.  Congratulations!
All tests were successful.

Sections of this report:

    * Tester comments
    * Program output
    * Prerequisites
    * Environment and other context

------------------------------
TESTER COMMENTS
------------------------------

Additional comments from tester:

none provided

------------------------------
PROGRAM OUTPUT
------------------------------

Output from '/usr/bin/make test':

PERL_DL_NONLAZY=1 "/usr/perl5.27.5t/bin/perl5.27.5" "-MExtUtils::Command::MM" "-MTest::Harness" "-e" "undef *Test::Harness::Switches; test_harness(0, 'blib/lib', 'blib/arch')" t/*.t
t/00-compile.t ................ ok
t/00-load.t ................... ok
# 
# 
# Generated by Dist::Zilla::Plugin::ReportVersions::Tiny v1.12
# perl: 5.027005 (wanted 5.010) on freebsd from /usr/perl5.27.5t/bin/perl5.27.5
# 
# Authen::SASL                                  => 2.16       (want any version)
# Carp                                          => 1.43       (want any version)
# Digest::MD5                                   => 2.55       (want any version)
# Exporter                                      => 5.72       (want any version)
# ExtUtils::MakeMaker                           => 7.3        (want any version)
# File::Basename                                => 2.85       (want any version)
# File::HomeDir                                 => 1.002      (want any version)
# File::Path                                    => 2.15       (want 2.08)   
# File::Spec                                    => 3.68       (want any version)
# IO::Handle                                    => 1.36       (want any version)
# IO::Pipe                                      => 1.15       (want any version)
# IPC::Open3                                    => 1.20       (want any version)
# MIME::Base64                                  => 3.15       (want any version)
# Net::LDAP                                     => 0.65       (want any version)
# Net::LDAP::Constant                           => 0.23       (want any version)
# Net::LDAP::Filter                             => 0.20       (want any version)
# Net::LDAP::FilterMatch                        => 0.27       (want any version)
# Net::LDAP::LDIF                               => 0.26       (want any version)
# Net::LDAP::Server                             => 0.43       (want any version)
# Net::LDAP::Util                               => 0.19       (want any version)
# Net::Server                                   => 2.009      (want 2.003)  
# Proc::Fork                                    => 0.804      (want any version)
# Scalar::Util                                  => 1.49       (want any version)
# Test::Deep                                    => 1.127      (want any version)
# Test::More                                    => 1.302106   (want 0.88)   
# Test::UseAllModules                           => 0.17       (want any version)
# Try::Tiny                                     => 0.28       (want any version)
# UNIVERSAL::isa                                => 1.20171012 (want any version)
# base                                          => 2.26       (want any version)
# constant                                      => 1.33       (want any version)
# fields                                        => 2.23       (want any version)
# lib                                           => 0.64       (want any version)
# strict                                        => 1.11       (want any version)
# warnings                                      => 1.37       (want any version)
# 
# Thanks for using my code.  I hope it works for you.
# If not, please try and include this output in the bug report.
# That will help me reproduce the issue and solve your problem.
# 
t/000-report-versions-tiny.t .. ok
t/10-store.t .................. ok
Use of uninitialized value in scalar chomp at /usr/home/cpansand/.cpan/build/2017110721/Net-LDAP-SimpleServer-0.0.20-1/blib/lib/Net/LDAP/SimpleServer/ProtocolHandler.pm line 73.
Use of uninitialized value in string eq at /usr/home/cpansand/.cpan/build/2017110721/Net-LDAP-SimpleServer-0.0.20-1/blib/lib/Net/LDAP/SimpleServer/ProtocolHandler.pm line 52.
t/20-handler.t ................ ok
Couldn't open conf "/no/such/file.conf" [No such file or directory]
t/30-param.t .................. ok
t/40-bind.t ................... ok
t/41-bind-user.t .............. ok
t/50-search.t ................. ok
t/51-search-pw_attr.t ......... ok
t/author-critic.t ............. skipped: these tests are for testing by the author
t/author-eol.t ................ skipped: these tests are for testing by the author
t/author-mojibake.t ........... skipped: these tests are for testing by the author
t/author-no-tabs.t ............ skipped: these tests are for testing by the author
t/author-pod-coverage.t ....... skipped: these tests are for testing by the author
t/author-pod-linkcheck.t ...... skipped: these tests are for testing by the author
t/author-pod-syntax.t ......... skipped: these tests are for testing by the author
t/author-portability.t ........ skipped: these tests are for testing by the author
t/author-test-version.t ....... skipped: these tests are for testing by the author
t/release-dist-manifest.t ..... skipped: these tests are for release candidate testing
t/release-distmeta.t .......... skipped: these tests are for release candidate testing
t/release-kwalitee.t .......... skipped: these tests are for release candidate testing
t/release-meta-json.t ......... skipped: these tests are for release candidate testing
t/release-minimum-version.t ... skipped: these tests are for release candidate testing
t/release-unused-vars.t ....... skipped: these tests are for release candidate testing
All tests successful.
Files=25, Tests=77, 66 wallclock secs ( 0.13 usr  0.08 sys +  3.76 cusr  0.66 csys =  4.63 CPU)
Result: PASS

------------------------------
PREREQUISITES
------------------------------

Prerequisite modules loaded:

requires:

    Module                 Need  Have      
    ---------------------- ----- ----------
    base                   0     2.26      
    Carp                   0     1.43      
    constant               0     1.33      
    Digest::MD5            0     2.55      
    Exporter               0     5.72      
    fields                 0     2.23      
    File::Basename         0     2.85      
    File::HomeDir          0     1.002     
    File::Path             2.08  2.15      
    File::Spec             0     3.68      
    MIME::Base64           0     3.15      
    Net::LDAP::Constant    0     0.23      
    Net::LDAP::Filter      0     0.20      
    Net::LDAP::FilterMatch 0     0.27      
    Net::LDAP::LDIF        0     0.26      
    Net::LDAP::Server      0     0.43      
    Net::LDAP::Util        0     0.19      
    Net::Server            2.003 2.009     
    perl                   5.010 5.027005  
    Scalar::Util           0     1.49      
    strict                 0     1.11      
    UNIVERSAL::isa         0     1.20171012
    warnings               0     1.37      

build_requires:

    Module                 Need  Have      
    ---------------------- ----- ----------
    Authen::SASL           0     2.16      
    ExtUtils::MakeMaker    0     7.30      
    File::Spec             0     3.68      
    IO::Handle             0     1.36      
    IO::Pipe               0     1.15      
    IPC::Open3             0     1.20      
    lib                    0     0.64      
    Net::LDAP              0     0.65      
    Proc::Fork             0     0.804     
    Test::Deep             0     1.127     
    Test::More             0.88  1.302106  
    Test::UseAllModules    0     0.17      
    Try::Tiny              0     0.28      

configure_requires:

    Module                 Need  Have      
    ---------------------- ----- ----------
    ExtUtils::MakeMaker    0     7.30      


------------------------------
ENVIRONMENT AND OTHER CONTEXT
------------------------------

Environment variables:

    PATH = /usr/local/bin:/usr/bin:/bin:/usr/local/sbin:/usr/sbin:/sbin:/home/cpansand/bin/freebsd12.0:/home/cpansand/bin/sh:/home/cpansand/bin:/usr/games:/home/cpansand/devel:/usr/home/eserte/src/srezic-misc/scripts
    PERL5LIB = 
    PERL5OPT = 
    PERL5_CPANPLUS_IS_RUNNING = 11265
    PERL5_CPAN_IS_RUNNING = 11265
    PERL5_CPAN_IS_RUNNING_IN_RECURSION = 11225,11265
    PERL_BATCH = yes
    PERL_CANARY_STABILITY_NOPROMPT = 1
    PERL_CPAN_REPORTER_CONFIG = /var/tmp/cpansmoker-1023/2017110721/cpanreporter_000_config.ini
    PERL_EXTUTILS_AUTOINSTALL = --defaultdeps
    PERL_USE_UNSAFE_INC = 1
    SHELL = /bin/sh
    TMPDIR = /var/tmp/cpansmoker-1023/2017110721

Perl special variables (and OS-specific diagnostics, for MSWin32):

    $^X = /usr/perl5.27.5t/bin/perl5.27.5
    $UID/$EUID = 1023 / 1023
    $GID = 1023 1023
    $EGID = 1023 1023

Perl module toolchain versions installed:

    Module              Have    
    ------------------- --------
    CPAN                2.18    
    CPAN::Meta          2.150010
    Cwd                 3.68    
    ExtUtils::CBuilder  0.280228
    ExtUtils::Command   7.30    
    ExtUtils::Install   2.14    
    ExtUtils::MakeMaker 7.30    
    ExtUtils::Manifest  1.70    
    ExtUtils::ParseXS   3.35    
    File::Spec          3.68    
    JSON                2.94    
    JSON::PP            2.94    
    Module::Build       0.4224  
    Module::Signature   0.81    
    Parse::CPAN::Meta   2.150010
    Test::Harness       3.39    
    Test::More          1.302106
    YAML                1.24    
    YAML::Syck          1.30    
    version             0.9918  


--

Summary of my perl5 (revision 5 version 27 subversion 5) configuration:
   
  Platform:
    osname=freebsd
    osvers=12.0-current
    archname=amd64-freebsd-thread-multi
    uname='freebsd freebsd 12.0-current freebsd 12.0-current #1 ff104cc9da3(master)-dirty: thu oct 19 23:44:51 cest 2017 root@freebsd:usrobjusrsrcsysgeneric amd64 '
    config_args='-ds -e -Dprefix=/usr/perl5.27.5t -Dusedevel -Dusemallocwrap=no -Dusethreads -Dcf_email=srezic@cpan.org -Doptimize=-O2 -pipe'
    hint=recommended
    useposix=true
    d_sigaction=define
    useithreads=define
    usemultiplicity=define
    use64bitint=define
    use64bitall=define
    uselongdouble=undef
    usemymalloc=n
    default_inc_excludes_dot=define
    bincompat5005=undef
  Compiler:
    cc='cc'
    ccflags ='-DHAS_FPSETMASK -DHAS_FLOATINGPOINT_H -fno-strict-aliasing -pipe -fstack-protector-strong -I/usr/local/include -D_FORTIFY_SOURCE=2'
    optimize='-O2 -pipe'
    cppflags='-DHAS_FPSETMASK -DHAS_FLOATINGPOINT_H -fno-strict-aliasing -pipe -fstack-protector-strong -I/usr/local/include'
    ccversion=''
    gccversion='4.2.1 Compatible FreeBSD Clang 5.0.0 (tags/RELEASE_500/final 312559)'
    gccosandvers=''
    intsize=4
    longsize=8
    ptrsize=8
    doublesize=8
    byteorder=12345678
    doublekind=3
    d_longlong=define
    longlongsize=8
    d_longdbl=define
    longdblsize=16
    longdblkind=3
    ivtype='long'
    ivsize=8
    nvtype='double'
    nvsize=8
    Off_t='off_t'
    lseeksize=8
    alignbytes=8
    prototype=define
  Linker and Libraries:
    ld='cc'
    ldflags ='-pthread -Wl,-E  -fstack-protector-strong -L/usr/local/lib'
    libpth=/usr/lib /usr/local/lib /usr/lib/clang/5.0.0/lib /usr/lib
    libs=-lpthread -lgdbm -lm -lcrypt -lutil
    perllibs=-lpthread -lm -lcrypt -lutil
    libc=
    so=so
    useshrplib=false
    libperl=libperl.a
    gnulibc_version=''
  Dynamic Linking:
    dlsrc=dl_dlopen.xs
    dlext=so
    d_dlsymun=undef
    ccdlflags=' '
    cccdlflags='-DPIC -fPIC'
    lddlflags='-shared  -L/usr/local/lib -fstack-protector-strong'


Characteristics of this binary (from libperl): 
  Compile-time options:
    HAS_TIMES
    MULTIPLICITY
    PERLIO_LAYERS
    PERL_COPY_ON_WRITE
    PERL_DONT_CREATE_GVSV
    PERL_IMPLICIT_CONTEXT
    PERL_OP_PARENT
    PERL_PRESERVE_IVUV
    PERL_USE_DEVEL
    USE_64_BIT_ALL
    USE_64_BIT_INT
    USE_ITHREADS
    USE_LARGE_FILES
    USE_LOCALE
    USE_LOCALE_COLLATE
    USE_LOCALE_CTYPE
    USE_LOCALE_NUMERIC
    USE_LOCALE_TIME
    USE_PERLIO
    USE_PERL_ATOF
    USE_REENTRANT_API
  Built under freebsd
  Compiled at Oct 22 2017 19:22:12
  %ENV:
    PERL5LIB=""
    PERL5OPT=""
    PERL5_CPANPLUS_IS_RUNNING="11265"
    PERL5_CPAN_IS_RUNNING="11265"
    PERL5_CPAN_IS_RUNNING_IN_RECURSION="11225,11265"
    PERL_BATCH="yes"
    PERL_CANARY_STABILITY_NOPROMPT="1"
    PERL_CPAN_REPORTER_CONFIG="/var/tmp/cpansmoker-1023/2017110721/cpanreporter_000_config.ini"
    PERL_EXTUTILS_AUTOINSTALL="--defaultdeps"
    PERL_USE_UNSAFE_INC="1"
  @INC:
    /usr/perl5.27.5t/lib/site_perl/5.27.5/amd64-freebsd-thread-multi
    /usr/perl5.27.5t/lib/site_perl/5.27.5
    /usr/perl5.27.5t/lib/5.27.5/amd64-freebsd-thread-multi
    /usr/perl5.27.5t/lib/5.27.5
    .