DBD-Pg v3.18.0 Perl 5 v5.38.0 x86_64-linux-thread-multi

Status
Pass
From
Arpad Szasz
Dist
DBD-Pg v3.18.0
Platform
Perl 5 v5.38.0 x86_64-linux-thread-multi
Date
2023-12-09 08:25:09
ID
76fe2018-966c-11ee-9aba-abae616b426a
This distribution has been tested as part of the CPAN Testers
project, supporting the Perl programming language.  See
http://wiki.cpantesters.org/ for more information or email
questions to cpan-testers-discuss@perl.org


--
Dear TURNSTEP,

This is a computer-generated report for DBD-Pg-3.18.0
on perl 5.38.0, created by App::cpanminus::reporter 0.21 (1.7046).

Thank you for uploading your work to CPAN.  Congratulations!
All tests were successful.

Sections of this report:

    * Tester comments
    * Program output
    * Prerequisites
    * Environment and other context

------------------------------
TESTER COMMENTS
------------------------------

Additional comments from tester:

none provided

------------------------------
PROGRAM OUTPUT
------------------------------

Output from '':

Building and testing DBD-Pg-3.18.0
cp Pg.pm blib/lib/DBD/Pg.pm
cp lib/Bundle/DBD/Pg.pm blib/lib/Bundle/DBD/Pg.pm
Running Mkbootstrap for Pg ()
chmod 644 "Pg.bs"
"/home/arpi/opt/perl5/perls/perl-5.38.0/bin/perl" -MExtUtils::Command::MM -e 'cp_nonempty' -- Pg.bs blib/arch/auto/DBD/Pg/Pg.bs 644
"/home/arpi/opt/perl5/perls/perl-5.38.0/bin/perl" -p -e "s/~DRIVER~/Pg/g; s/^do\(/dontdo\(/" /home/arpi/opt/perl5/perls/perl-5.38.0/lib/site_perl/5.38.0/x86_64-linux-thread-multi/auto/DBI/Driver.xst > Pg.xsi
"/home/arpi/opt/perl5/perls/perl-5.38.0/bin/perl" "/home/arpi/opt/perl5/perls/perl-5.38.0/lib/5.38.0/ExtUtils/xsubpp"  -typemap '/home/arpi/opt/perl5/perls/perl-5.38.0/lib/5.38.0/ExtUtils/typemap'  Pg.xs > Pg.xsc
mv Pg.xsc Pg.c
cc -c  -I/usr/include/postgresql -I/home/arpi/opt/perl5/perls/perl-5.38.0/lib/site_perl/5.38.0/x86_64-linux-thread-multi/auto/DBI -D_REENTRANT -D_GNU_SOURCE -fwrapv -fno-strict-aliasing -pipe -fstack-protector-strong -I/usr/local/include -D_LARGEFILE_SOURCE -D_FILE_OFFSET_BITS=64 -DPGLIBVERSION=150004 -DPGDEFPORT=5432 -DHAS64BITLO -O2  -DPERL_EXTMALLOC_DEF -Dmalloc=Perl_malloc -Dfree=Perl_mfree -Drealloc=Perl_realloc -Dcalloc=Perl_calloc -DVERSION=\"3.18.0\" -DXS_VERSION=\"3.18.0\" -fPIC "-I/home/arpi/opt/perl5/perls/perl-5.38.0/lib/5.38.0/x86_64-linux-thread-multi/CORE"   Pg.c
./Pg.xsi: In function ‘XS_DBD__Pg__db_selectrow_arrayref’:
./Pg.xsi:234:9: warning: ‘Perl_dowantarray’ is deprecated [-Wdeprecated-declarations]
  234 |         if (GIMME == G_SCALAR)
      |         ^~
In file included from /home/arpi/opt/perl5/perls/perl-5.38.0/lib/5.38.0/x86_64-linux-thread-multi/CORE/perl.h:6188,
                 from /home/arpi/opt/perl5/perls/perl-5.38.0/lib/site_perl/5.38.0/x86_64-linux-thread-multi/auto/DBI/DBIXS.h:23,
                 from Pg.h:58,
                 from Pg.xs:14:
/home/arpi/opt/perl5/perls/perl-5.38.0/lib/5.38.0/x86_64-linux-thread-multi/CORE/proto.h:1019:1: note: declared here
 1019 | Perl_dowantarray(pTHX)
      | ^~~~~~~~~~~~~~~~
./Pg.xsi:240:9: warning: ‘Perl_dowantarray’ is deprecated [-Wdeprecated-declarations]
  240 |         if (GIMME == G_SCALAR)
      |         ^~
/home/arpi/opt/perl5/perls/perl-5.38.0/lib/5.38.0/x86_64-linux-thread-multi/CORE/proto.h:1019:1: note: declared here
 1019 | Perl_dowantarray(pTHX)
      | ^~~~~~~~~~~~~~~~
cc -c  -I/usr/include/postgresql -I/home/arpi/opt/perl5/perls/perl-5.38.0/lib/site_perl/5.38.0/x86_64-linux-thread-multi/auto/DBI -D_REENTRANT -D_GNU_SOURCE -fwrapv -fno-strict-aliasing -pipe -fstack-protector-strong -I/usr/local/include -D_LARGEFILE_SOURCE -D_FILE_OFFSET_BITS=64 -DPGLIBVERSION=150004 -DPGDEFPORT=5432 -DHAS64BITLO -O2  -DPERL_EXTMALLOC_DEF -Dmalloc=Perl_malloc -Dfree=Perl_mfree -Drealloc=Perl_realloc -Dcalloc=Perl_calloc -DVERSION=\"3.18.0\" -DXS_VERSION=\"3.18.0\" -fPIC "-I/home/arpi/opt/perl5/perls/perl-5.38.0/lib/5.38.0/x86_64-linux-thread-multi/CORE"   dbdimp.c
cc -c  -I/usr/include/postgresql -I/home/arpi/opt/perl5/perls/perl-5.38.0/lib/site_perl/5.38.0/x86_64-linux-thread-multi/auto/DBI -D_REENTRANT -D_GNU_SOURCE -fwrapv -fno-strict-aliasing -pipe -fstack-protector-strong -I/usr/local/include -D_LARGEFILE_SOURCE -D_FILE_OFFSET_BITS=64 -DPGLIBVERSION=150004 -DPGDEFPORT=5432 -DHAS64BITLO -O2  -DPERL_EXTMALLOC_DEF -Dmalloc=Perl_malloc -Dfree=Perl_mfree -Drealloc=Perl_realloc -Dcalloc=Perl_calloc -DVERSION=\"3.18.0\" -DXS_VERSION=\"3.18.0\" -fPIC "-I/home/arpi/opt/perl5/perls/perl-5.38.0/lib/5.38.0/x86_64-linux-thread-multi/CORE"   quote.c
cc -c  -I/usr/include/postgresql -I/home/arpi/opt/perl5/perls/perl-5.38.0/lib/site_perl/5.38.0/x86_64-linux-thread-multi/auto/DBI -D_REENTRANT -D_GNU_SOURCE -fwrapv -fno-strict-aliasing -pipe -fstack-protector-strong -I/usr/local/include -D_LARGEFILE_SOURCE -D_FILE_OFFSET_BITS=64 -DPGLIBVERSION=150004 -DPGDEFPORT=5432 -DHAS64BITLO -O2  -DPERL_EXTMALLOC_DEF -Dmalloc=Perl_malloc -Dfree=Perl_mfree -Drealloc=Perl_realloc -Dcalloc=Perl_calloc -DVERSION=\"3.18.0\" -DXS_VERSION=\"3.18.0\" -fPIC "-I/home/arpi/opt/perl5/perls/perl-5.38.0/lib/5.38.0/x86_64-linux-thread-multi/CORE"   types.c
rm -f blib/arch/auto/DBD/Pg/Pg.so
LD_RUN_PATH="/usr/lib/x86_64-linux-gnu" cc  -shared -O2 -L/usr/local/lib -fstack-protector-strong  Pg.o dbdimp.o quote.o types.o  -o blib/arch/auto/DBD/Pg/Pg.so  \
   -L/usr/lib/x86_64-linux-gnu -lpq -lm   \
  
chmod 755 blib/arch/auto/DBD/Pg/Pg.so
Manifying 2 pod documents
"/home/arpi/opt/perl5/perls/perl-5.38.0/bin/perl" -MExtUtils::Command::MM -e 'cp_nonempty' -- Pg.bs blib/arch/auto/DBD/Pg/Pg.bs 644
PGINITDB="/usr/lib/postgresql/15/bin/initdb" PERL_DL_NONLAZY=1 "/home/arpi/opt/perl5/perls/perl-5.38.0/bin/perl" "-MExtUtils::Command::MM" "-MTest::Harness" "-e" "undef *Test::Harness::Switches; test_harness(0, 'blib/lib', 'blib/arch')" t/*.t
t/00_signature.t ....... skipped: Set the environment variable TEST_SIGNATURE to enable this test
t/00basic.t ............ ok
Please wait, creating new database (version 15.4) for testing
# 
# DBI                         Version 1.643
# DBD::Pg                     Version 3.18.0
# Perl                        Version 5.38.0
# OS                          linux
# PostgreSQL (compiled)       150004
# PostgreSQL (target)         150004
# PostgreSQL (reported)       PostgreSQL 15.4 (Ubuntu 15.4-1ubuntu1) on x86_64-pc-linux-gnu, compiled by gcc (Ubuntu 13.2.0-2ubuntu1) 13.2.0, 64-bit
# Default port                5432
# DBI_DSN                     dbi:Pg:db="postgres";port=5440;host=<pwd>/dbdpg_test_database/data/socket
# DBI_USER                    arpi
# Test schema                 dbd_pg_testschema
# LANG                        C
# Adjusted:                   initdb
t/01connect.t .......... ok
t/01constants.t ........ ok
t/02attribs.t .......... ok
t/03dbmethod.t ......... ok
t/03smethod.t .......... ok
t/04misc.t ............. ok
t/06bytea.t ............ ok
t/07copy.t ............. ok
t/08async.t ............ ok
t/09arrays.t ........... ok
t/10_pg_error_field.t .. ok
t/12placeholders.t ..... ok
t/20savepoints.t ....... ok
t/30unicode.t .......... ok
t/99cleanup.t .......... ok
All tests successful.
Files=17, Tests=3041, 32 wallclock secs ( 0.28 usr  0.03 sys +  3.52 cusr  0.72 csys =  4.55 CPU)
Result: PASS

------------------------------
PREREQUISITES
------------------------------

Prerequisite modules loaded:

runtime:

    Module              Need  Have    
    ------------------- ----- --------
    DBI                 1.614 1.643   
    ExtUtils::MakeMaker 6.58  7.70    
    File::Temp          0     0.2311  
    Test::More          0.88  1.302198
    Time::HiRes         0     1.9775  
    version             0     0.9930  

build:

    Module              Need  Have    
    ------------------- ----- --------
    ExtUtils::MakeMaker 0     7.70    

configure:

    Module              Need  Have    
    ------------------- ----- --------
    ExtUtils::MakeMaker 0     7.70    


------------------------------
ENVIRONMENT AND OTHER CONTEXT
------------------------------

Environment variables:

    LANG = en_US.UTF-8
    LC_ADDRESS = ro_RO.UTF-8
    LC_IDENTIFICATION = ro_RO.UTF-8
    LC_MEASUREMENT = ro_RO.UTF-8
    LC_MONETARY = ro_RO.UTF-8
    LC_NAME = ro_RO.UTF-8
    LC_NUMERIC = ro_RO.UTF-8
    LC_PAPER = ro_RO.UTF-8
    LC_TELEPHONE = ro_RO.UTF-8
    LC_TIME = ro_RO.UTF-8
    PATH = /home/arpi/.cargo/bin:/home/arpi/.nvm/versions/node/v20.0.0/bin:/home/arpi/opt/perl5/bin:/home/arpi/opt/perl5/perls/stable/bin:/home/arpi/.rvm/gems/ruby-3.2.2/bin:/home/arpi/.rvm/gems/ruby-3.2.2@global/bin:/home/arpi/.rvm/rubies/ruby-3.2.2/bin:/home/arpi/.cargo/bin:/home/arpi/.local/share/umake/bin::/home/arpi/.rakudobrew/bin:/home/arpi/.local/bin:/home/arpi/bin:/home/arpi/bin:/usr/local/sbin:/usr/local/bin:/usr/sbin:/usr/bin:/sbin:/bin:/usr/games:/usr/local/games:/snap/bin:/snap/bin:/home/arpi/.yarn/bin:/home/arpi/go/bin:/home/arpi/.rvm/bin:/home/arpi/.fzf/bin:/home/arpi/go/bin:/home/arpi/.rvm/bin
    PERLBREW_HOME = /home/arpi/.perlbrew
    PERLBREW_MANPATH = /home/arpi/opt/perl5/perls/stable/man
    PERLBREW_PATH = /home/arpi/opt/perl5/bin:/home/arpi/opt/perl5/perls/stable/bin
    PERLBREW_PERL = stable
    PERLBREW_ROOT = /home/arpi/opt/perl5
    PERLBREW_SHELLRC_VERSION = 0.97
    PERLBREW_VERSION = 0.97
    PROGRAMMING_TESTS = /home/arpi/Tresors/Default/Programming
    SHELL = /bin/bash
    TERM = xterm-256color

Perl special variables (and OS-specific diagnostics, for MSWin32):

    EGID = 1000 4 20 24 27 29 30 46 108 115 131 132 145 998 1000 1007
    EUID = 1000
    EXECUTABLE_NAME = /home/arpi/opt/perl5/perls/perl-5.38.0/bin/perl
    GID = 1000 4 20 24 27 29 30 46 108 115 131 132 145 998 1000 1007
    UID = 1000

Perl module toolchain versions installed:

    Module              Have    
    ------------------- --------
    CPAN                2.36    
    CPAN::Meta          2.150010
    Cwd                 3.89    
    ExtUtils::CBuilder  0.280238
    ExtUtils::Command   7.70    
    ExtUtils::Install   2.22    
    ExtUtils::MakeMaker 7.70    
    ExtUtils::Manifest  1.75    
    ExtUtils::ParseXS   3.51    
    File::Spec          3.88    
    JSON                4.10    
    JSON::PP            4.16    
    Module::Build       0.4234  
    Module::Signature   n/a     
    Parse::CPAN::Meta   2.150010
    Test::Harness       3.48    
    Test::More          1.302198
    YAML                1.30    
    YAML::Syck          n/a     
    version             0.9930  


--

Summary of my perl5 (revision 5 version 38 subversion 0) configuration:
   
  Platform:
    osname=linux
    osvers=6.2.0-24-generic
    archname=x86_64-linux-thread-multi
    uname='linux guppy 6.2.0-24-generic #24-ubuntu smp preempt_dynamic fri jun 16 12:03:50 utc 2023 x86_64 x86_64 x86_64 gnulinux '
    config_args='-de -Dprefix=/home/arpi/opt/perl5/perls/perl-5.38.0 -Dusethreads -Duselargefiles -Duse64bitall -Dusesitecustomize -Duseshrplib -Dinc_version_list=none -Dpager=/bin/less -Doptimize=-O2 -Dcf_by=Plenum.ro -Dcf_email=arpad.szasz@plenum.ro -Uuserelocatableinc -UDEBUGGING -Aeval:scriptdir=/home/arpi/opt/perl5/perls/perl-5.38.0/bin'
    hint=recommended
    useposix=true
    d_sigaction=define
    useithreads=define
    usemultiplicity=define
    use64bitint=define
    use64bitall=define
    uselongdouble=undef
    usemymalloc=n
    default_inc_excludes_dot=define
  Compiler:
    cc='cc'
    ccflags ='-D_REENTRANT -D_GNU_SOURCE -fwrapv -fno-strict-aliasing -pipe -fstack-protector-strong -I/usr/local/include -D_LARGEFILE_SOURCE -D_FILE_OFFSET_BITS=64'
    optimize='-O2'
    cppflags='-D_REENTRANT -D_GNU_SOURCE -fwrapv -fno-strict-aliasing -pipe -fstack-protector-strong -I/usr/local/include'
    ccversion=''
    gccversion='12.2.0'
    gccosandvers=''
    intsize=4
    longsize=8
    ptrsize=8
    doublesize=8
    byteorder=12345678
    doublekind=3
    d_longlong=define
    longlongsize=8
    d_longdbl=define
    longdblsize=16
    longdblkind=3
    ivtype='long'
    ivsize=8
    nvtype='double'
    nvsize=8
    Off_t='off_t'
    lseeksize=8
    alignbytes=8
    prototype=define
  Linker and Libraries:
    ld='cc'
    ldflags =' -fstack-protector-strong -L/usr/local/lib'
    libpth=/usr/local/lib /usr/lib/x86_64-linux-gnu /usr/lib /usr/lib64
    libs=-lpthread -ldl -lm -lcrypt -lutil -lc
    perllibs=-lpthread -ldl -lm -lcrypt -lutil -lc
    libc=/lib/x86_64-linux-gnu/libc.so.6
    so=so
    useshrplib=true
    libperl=libperl.so
    gnulibc_version='2.37'
  Dynamic Linking:
    dlsrc=dl_dlopen.xs
    dlext=so
    d_dlsymun=undef
    ccdlflags='-Wl,-E -Wl,-rpath,/home/arpi/opt/perl5/perls/perl-5.38.0/lib/5.38.0/x86_64-linux-thread-multi/CORE'
    cccdlflags='-fPIC'
    lddlflags='-shared -O2 -L/usr/local/lib -fstack-protector-strong'


Characteristics of this binary (from libperl): 
  Compile-time options:
    HAS_LONG_DOUBLE
    HAS_STRTOLD
    HAS_TIMES
    MULTIPLICITY
    PERLIO_LAYERS
    PERL_COPY_ON_WRITE
    PERL_DONT_CREATE_GVSV
    PERL_HASH_FUNC_SIPHASH13
    PERL_HASH_USE_SBOX32
    PERL_MALLOC_WRAP
    PERL_OP_PARENT
    PERL_PRESERVE_IVUV
    PERL_USE_SAFE_PUTENV
    USE_64_BIT_ALL
    USE_64_BIT_INT
    USE_ITHREADS
    USE_LARGE_FILES
    USE_LOCALE
    USE_LOCALE_COLLATE
    USE_LOCALE_CTYPE
    USE_LOCALE_NUMERIC
    USE_LOCALE_TIME
    USE_PERLIO
    USE_PERL_ATOF
    USE_REENTRANT_API
    USE_SITECUSTOMIZE
    USE_THREAD_SAFE_LOCALE
  Built under linux
  Compiled at Jul  3 2023 17:49:56
  %ENV:
    PERLBREW_HOME="/home/arpi/.perlbrew"
    PERLBREW_MANPATH="/home/arpi/opt/perl5/perls/stable/man"
    PERLBREW_PATH="/home/arpi/opt/perl5/bin:/home/arpi/opt/perl5/perls/stable/bin"
    PERLBREW_PERL="stable"
    PERLBREW_ROOT="/home/arpi/opt/perl5"
    PERLBREW_SHELLRC_VERSION="0.97"
    PERLBREW_VERSION="0.97"
  @INC:
    /home/arpi/opt/perl5/perls/perl-5.38.0/lib/site_perl/5.38.0/x86_64-linux-thread-multi
    /home/arpi/opt/perl5/perls/perl-5.38.0/lib/site_perl/5.38.0
    /home/arpi/opt/perl5/perls/perl-5.38.0/lib/5.38.0/x86_64-linux-thread-multi
    /home/arpi/opt/perl5/perls/perl-5.38.0/lib/5.38.0