HTTP-Message v6.45 Perl 5 v5.39.5 x86_64-linux
- Status
- Pass
- From
- Carlos Guevara
- Dist
-
HTTP-Message v6.45
- Platform
- Perl 5 v5.39.5 x86_64-linux
- Date
- 2023-11-19 18:21:32
- ID
- 770cf6c4-8708-11ee-aee4-5c81f2059b22
This distribution has been tested as part of the CPAN Testers
project, supporting the Perl programming language. See
http://wiki.cpantesters.org/ for more information or email
questions to cpan-testers-discuss@perl.org
--
Dear Olaf Alders,
This is a computer-generated report for HTTP-Message-6.45
on perl 5.39.5, created by CPAN-Reporter-1.2019.
Thank you for uploading your work to CPAN. Congratulations!
All tests were successful.
Sections of this report:
* Tester comments
* Program output
* Prerequisites
* Environment and other context
------------------------------
TESTER COMMENTS
------------------------------
Additional comments from tester:
this report is from an automated smoke testing program
and was not reviewed by a human for accuracy
------------------------------
PROGRAM OUTPUT
------------------------------
Output from '/usr/bin/make test':
PERL_DL_NONLAZY=1 "/home/cpan/bin/perl/bin/perl5.39.5" "-MExtUtils::Command::MM" "-MTest::Harness" "-e" "undef *Test::Harness::Switches; test_harness(0, 'blib/lib', 'blib/arch')" t/*.t
#
# Versions for all modules listed in MYMETA.json (including optional ones):
#
# === Configure Requires ===
#
# Module Want Have
# ------------------- ----- --------
# ExtUtils::MakeMaker any 7.70
# perl 5.006 5.039005
#
# === Configure Suggests ===
#
# Module Want Have
# -------- ------- ----
# JSON::PP 2.27300 4.16
#
# === Build Requires ===
#
# Module Want Have
# ------------------- ---- ----
# ExtUtils::MakeMaker any 7.70
#
# === Test Requires ===
#
# Module Want Have
# ------------------- -------- --------
# ExtUtils::MakeMaker any 7.70
# File::Spec any 3.90
# File::Temp any 0.2311
# PerlIO::encoding any 0.30
# Test::More 0.88 1.302195
# Test::Needs any 0.002010
# Time::Local any 1.35
# Try::Tiny any 0.31
# URI::URL any 5.21
# lib any 0.65
# overload any 1.37
# perl 5.008001 5.039005
#
# === Test Recommends ===
#
# Module Want Have
# ---------------------- -------- --------
# CPAN::Meta 2.120900 2.150010
# IO::Compress::Brotli 0.004001 missing
# IO::Uncompress::Brotli 0.004001 missing
#
# === Runtime Requires ===
#
# Module Want Have
# -------------------------- -------- --------
# Carp any 1.54
# Clone 0.46 0.46
# Compress::Raw::Bzip2 any 2.206
# Compress::Raw::Zlib 2.062 2.206
# Encode 3.01 3.20
# Encode::Locale 1 1.05
# Exporter 5.57 5.77
# File::Spec any 3.90
# HTTP::Date 6 6.06
# IO::Compress::Bzip2 2.021 2.206
# IO::Compress::Deflate any 2.206
# IO::Compress::Gzip any 2.206
# IO::HTML any 1.004
# IO::Uncompress::Inflate any 2.206
# IO::Uncompress::RawInflate any 2.206
# LWP::MediaTypes 6 6.04
# MIME::Base64 2.1 3.16_01
# MIME::QuotedPrint any 3.16_01
# URI 1.10 5.21
# parent any 0.241
# perl 5.008001 5.039005
# strict any 1.13
# warnings any 1.67
#
# === Runtime Recommends ===
#
# Module Want Have
# ---------------------- -------- -------
# IO::Compress::Brotli 0.004001 missing
# IO::Uncompress::Brotli 0.004001 missing
#
t/00-report-prereqs.t .......... ok
t/common-req.t ................. ok
t/headers-auth.t ............... ok
t/headers-etag.t ............... ok
t/headers-util.t ............... ok
t/headers.t .................... ok
t/http-config.t ................ ok
t/message-brotli.t ............. skipped: Need IO::Compress::Brotli, IO::Uncompress::Brotli
t/message-charset.t ............ ok
t/message-decode-brotlibomb.t .. skipped: Need IO::Compress::Brotli, IO::Uncompress::Brotli
t/message-decode-bzipbomb.t .... ok
t/message-decode-xml.t ......... ok
t/message-decode-zipbomb.t ..... ok
t/message-old.t ................ ok
t/message-parts.t .............. ok
t/message.t .................... ok
t/request.t .................... ok
t/request_type_with_data.t ..... ok
t/response.t ................... ok
t/status-old.t ................. ok
t/status.t ..................... ok
All tests successful.
Files=21, Tests=837, 3 wallclock secs ( 0.09 usr 0.02 sys + 2.01 cusr 0.31 csys = 2.43 CPU)
Result: PASS
------------------------------
PREREQUISITES
------------------------------
Prerequisite modules loaded:
requires:
Module Need Have
-------------------------- -------- --------
Carp 0 1.54
Clone 0.46 0.46
Compress::Raw::Bzip2 0 2.206
Compress::Raw::Zlib 2.062 2.206
Encode 3.01 3.20
Encode::Locale 1 1.05
Exporter 5.57 5.77
File::Spec 0 3.90
HTTP::Date 6 6.06
IO::Compress::Bzip2 2.021 2.206
IO::Compress::Deflate 0 2.206
IO::Compress::Gzip 0 2.206
IO::HTML 0 1.004
IO::Uncompress::Inflate 0 2.206
IO::Uncompress::RawInflate 0 2.206
LWP::MediaTypes 6 6.04
MIME::Base64 2.1 3.16_01
MIME::QuotedPrint 0 3.16_01
parent 0 0.241
perl 5.008001 5.039005
strict 0 1.13
URI 1.10 5.21
warnings 0 1.67
build_requires:
Module Need Have
-------------------------- -------- --------
ExtUtils::MakeMaker 0 7.70
File::Spec 0 3.90
File::Temp 0 0.2311
lib 0 0.65
overload 0 1.37
PerlIO::encoding 0 0.30
Test::More 0.88 1.302195
Test::Needs 0 0.002010
Time::Local 0 1.35
Try::Tiny 0 0.31
URI::URL 0 5.21
configure_requires:
Module Need Have
-------------------------- -------- --------
ExtUtils::MakeMaker 0 7.70
perl 5.006 5.039005
------------------------------
ENVIRONMENT AND OTHER CONTEXT
------------------------------
Environment variables:
AUTOMATED_TESTING = 1
DATE_MANIP_TEST_DM5 = 1
LANG = C.UTF-8
LC_COLLATE = C
NONINTERACTIVE_TESTING = 1
NO_NETWORK_TESTING = 1
PATH = /home/cpan/bin/perl/bin:/usr/local/sbin:/usr/local/bin:/usr/sbin:/usr/bin:/sbin:/bin
PERL5LIB =
PERL5OPT =
PERL5_CPANPLUS_IS_RUNNING = 1768
PERL5_CPAN_IS_RUNNING = 1768
PERL_MM_USE_DEFAULT = 1
PERL_USE_UNSAFE_INC = 1
SHELL = /bin/bash
TERM = screen
Perl special variables (and OS-specific diagnostics, for MSWin32):
$^X = /home/cpan/bin/perl/bin/perl5.39.5
$UID/$EUID = 1001 / 1001
$GID = 1001 1001
$EGID = 1001 1001
Perl module toolchain versions installed:
Module Have
------------------- --------
CPAN 2.36
CPAN::Meta 2.150010
Cwd 3.90
ExtUtils::CBuilder 0.280240
ExtUtils::Command 7.70
ExtUtils::Install 2.22
ExtUtils::MakeMaker 7.70
ExtUtils::Manifest 1.75
ExtUtils::ParseXS 3.51
File::Spec 3.90
JSON n/a
JSON::PP 4.16
Module::Build 0.4234
Module::Signature n/a
Parse::CPAN::Meta 2.150010
Test2 1.302195
Test::Harness 3.48
Test::More 1.302195
YAML n/a
YAML::Syck n/a
version 0.9930
--
Summary of my perl5 (revision 5 version 39 subversion 5) configuration:
Commit id: 2ba88c8c7f1c33fe9f3145cbd2c4de3b1668efe9
Platform:
osname=linux
osvers=6.1.62-0-lts
archname=x86_64-linux
uname='linux cjg-alpine3 6.1.62-0-lts #1-alpine smp preempt_dynamic thu, 09 nov 2023 10:11:50 +0000 x86_64 linux '
config_args='-des -Dprefix=/home/cpan/bin/perl -Dscriptdir=/home/cpan/bin/perl/bin -Dusedevel -Duse64bitall'
hint=recommended
useposix=true
d_sigaction=define
useithreads=undef
usemultiplicity=undef
use64bitint=define
use64bitall=define
uselongdouble=undef
usemymalloc=n
default_inc_excludes_dot=define
Compiler:
cc='cc'
ccflags ='-D_GNU_SOURCE -fwrapv -fno-strict-aliasing -pipe -fstack-protector-strong -D_LARGEFILE_SOURCE -D_FILE_OFFSET_BITS=64'
optimize='-O2'
cppflags='-D_GNU_SOURCE -fwrapv -fno-strict-aliasing -pipe -fstack-protector-strong'
ccversion=''
gccversion='12.2.1 20220924'
gccosandvers=''
intsize=4
longsize=8
ptrsize=8
doublesize=8
byteorder=12345678
doublekind=3
d_longlong=define
longlongsize=8
d_longdbl=define
longdblsize=16
longdblkind=3
ivtype='long'
ivsize=8
nvtype='double'
nvsize=8
Off_t='off_t'
lseeksize=8
alignbytes=8
prototype=define
Linker and Libraries:
ld='cc'
ldflags =' -fstack-protector-strong -L/usr/local/lib'
libpth=/usr/lib /usr/local/lib /lib
libs=-lpthread -ldb -ldl -lm -lcrypt -lutil -lc
perllibs=-lpthread -ldl -lm -lcrypt -lutil -lc
libc=/usr/lib/libc.a
so=so
useshrplib=false
libperl=libperl.a
gnulibc_version=''
Dynamic Linking:
dlsrc=dl_dlopen.xs
dlext=so
d_dlsymun=undef
ccdlflags='-Wl,-E'
cccdlflags='-fPIC'
lddlflags='-shared -O2 -L/usr/local/lib -fstack-protector-strong'
Characteristics of this binary (from libperl):
Compile-time options:
HAS_LONG_DOUBLE
HAS_STRTOLD
HAS_TIMES
PERLIO_LAYERS
PERL_COPY_ON_WRITE
PERL_DONT_CREATE_GVSV
PERL_HASH_FUNC_SIPHASH13
PERL_HASH_USE_SBOX32
PERL_MALLOC_WRAP
PERL_OP_PARENT
PERL_PRESERVE_IVUV
PERL_USE_DEVEL
PERL_USE_SAFE_PUTENV
USE_64_BIT_ALL
USE_64_BIT_INT
USE_LARGE_FILES
USE_LOCALE
USE_LOCALE_COLLATE
USE_LOCALE_CTYPE
USE_LOCALE_NUMERIC
USE_LOCALE_TIME
USE_PERLIO
USE_PERL_ATOF
Built under linux
Compiled at Nov 19 2023 10:14:15
%ENV:
PERL5LIB=""
PERL5OPT=""
PERL5_CPANPLUS_IS_RUNNING="1768"
PERL5_CPAN_IS_RUNNING="1768"
PERL_MM_USE_DEFAULT="1"
PERL_USE_UNSAFE_INC="1"
@INC:
/home/cpan/bin/perl/lib/site_perl/5.39.5/x86_64-linux
/home/cpan/bin/perl/lib/site_perl/5.39.5
/home/cpan/bin/perl/lib/5.39.5/x86_64-linux
/home/cpan/bin/perl/lib/5.39.5
.