Dist-Zilla-Plugin-SpellingCommonMistakesTests v1.001000 Perl 5 v5.14.4 x86_64-linux
- Status
- Pass
- From
- Slaven Rezić
- Dist
-
Dist-Zilla-Plugin-SpellingCommonMistakesTests v1.001000
- Platform
- Perl 5 v5.14.4 x86_64-linux
- Date
- 2022-04-18 04:17:31
- ID
- 77189fd2-bece-11ec-9257-0b451f24ea8f
This distribution has been tested as part of the CPAN Testers
project, supporting the Perl programming language. See
http://wiki.cpantesters.org/ for more information or email
questions to cpan-testers-discuss@perl.org
--
Dear Adam Lesperance,
This is a computer-generated report for Dist-Zilla-Plugin-SpellingCommonMistakesTests-1.001000
on perl 5.14.4, created by CPAN-Reporter-1.2018.
Thank you for uploading your work to CPAN. Congratulations!
All tests were successful.
Sections of this report:
* Tester comments
* Program output
* Prerequisites
* Environment and other context
------------------------------
TESTER COMMENTS
------------------------------
Additional comments from tester:
none provided
------------------------------
PROGRAM OUTPUT
------------------------------
Output from './Build test':
Can't locate package Dist::Zilla::Plugin::InlineFiles for @Dist::Zilla::Plugin::SpellingCommonMistakesTests::ISA at /opt/perl-5.14.4/lib/site_perl/5.14.4/x86_64-linux/Class/MOP/Class.pm line 957.
t/00-compile.t .................. ok
#
#
# perl: v5.14.4 (wanted 5.008) on linux from /opt/perl-5.14.4/bin/perl
#
# Dist::Zilla::Plugin::Bootstrap::lib => module not found. (want any version)
# Dist::Zilla::Plugin::InlineFiles => module not found. (want any version)
# English => 1.04 (want any version)
# File::Find => 1.19 (want any version)
# File::Temp => 0.2311 (want any version)
# Module::Build => 0.4231 (want 0.3601)
# Moose => 2.2015 (want any version)
# Pod::Spell::CommonMistakes => 1.002 (want any version)
# Test::More => 1.302190 (want 0.88)
# Test::Pod::Spelling::CommonMistakes => 1.001 (want any version)
# utf8 => 1.09 (want any version)
#
# Thanks for using my code. I hope it works for you.
# If not, please try and include this output in the bug report.
# That will help me reproduce the issue and solve you problem.
#
t/000-report-versions-tiny.t .... ok
t/author-critic.t ............... skipped: these tests are for testing by the author
t/release-common_spelling.t ..... skipped: these tests are for release candidate testing
t/release-consistent-version.t .. skipped: these tests are for release candidate testing
t/release-cpan-changes.t ........ skipped: these tests are for release candidate testing
t/release-dist-manifest.t ....... skipped: these tests are for release candidate testing
t/release-distmeta.t ............ skipped: these tests are for release candidate testing
t/release-eol.t ................. skipped: these tests are for release candidate testing
t/release-has-version.t ......... skipped: these tests are for release candidate testing
t/release-kwalitee.t ............ skipped: these tests are for release candidate testing
t/release-minimum-version.t ..... skipped: these tests are for release candidate testing
t/release-no-tabs.t ............. skipped: these tests are for release candidate testing
t/release-pod-coverage.t ........ skipped: these tests are for release candidate testing
t/release-pod-syntax.t .......... skipped: these tests are for release candidate testing
t/release-portability.t ......... skipped: these tests are for release candidate testing
t/release-unused-vars.t ......... skipped: these tests are for release candidate testing
All tests successful.
Files=17, Tests=2, 1 wallclock secs ( 0.08 usr 0.03 sys + 1.49 cusr 0.17 csys = 1.77 CPU)
Result: PASS
------------------------------
PREREQUISITES
------------------------------
Prerequisite modules loaded:
requires:
Module Need Have
----------------------------------- ------ --------
! Dist::Zilla::Plugin::InlineFiles 0 n/a
Moose 0 2.2015
perl 5.008 5.014004
Pod::Spell::CommonMistakes 0 1.002
Test::Pod::Spelling::CommonMistakes 0 1.001
utf8 0 1.09
build_requires:
Module Need Have
----------------------------------- ------ --------
! Dist::Zilla::Plugin::Bootstrap::lib 0 n/a
English 0 1.04
File::Find 0 1.19
File::Temp 0 0.2311
Module::Build 0.3601 0.4231
Test::More 0.88 1.302190
configure_requires:
Module Need Have
----------------------------------- ------ --------
Module::Build 0.3601 0.4231
------------------------------
ENVIRONMENT AND OTHER CONTEXT
------------------------------
Environment variables:
LANG = en_US.UTF-8
PATH = /usr/local/bin:/usr/bin:/bin:/usr/local/sbin:/usr/sbin:/sbin:/home/cpansand/bin/linux-gnu:/home/cpansand/bin/sh:/home/cpansand/bin:/usr/games:/home/cpansand/devel:/home/eserte/src/srezic-misc/scripts
PERL5LIB = /home/cpansand/.local/share/.cpan/build/2022041804/Test-Pod-Spelling-CommonMistakes-1.001-RHwPv9/blib/arch:/home/cpansand/.local/share/.cpan/build/2022041804/Test-Pod-Spelling-CommonMistakes-1.001-RHwPv9/blib/lib:/home/cpansand/.local/share/.cpan/build/2022041804/Pod-Spell-CommonMistakes-1.002-eI0RB_/blib/arch:/home/cpansand/.local/share/.cpan/build/2022041804/Pod-Spell-CommonMistakes-1.002-eI0RB_/blib/lib
PERL5OPT =
PERL5_CPANPLUS_IS_RUNNING = 26611
PERL5_CPAN_IS_RUNNING = 26611
PERL5_CPAN_IS_RUNNING_IN_RECURSION = 20609,26611
PERLDOC = -MPod::Perldoc::ToTextOverstrike
PERL_BATCH = yes
PERL_CANARY_STABILITY_NOPROMPT = 1
PERL_CPAN_REPORTER_CONFIG = /var/tmp/cpansmoker-1023/2022041804/cpanreporter_000_config.ini
PERL_EXTUTILS_AUTOINSTALL = --defaultdeps
SHELL = /usr/bin/zsh
TERM = screen
TMPDIR = /var/tmp/cpansmoker-1023/2022041804
Perl special variables (and OS-specific diagnostics, for MSWin32):
$^X = /opt/perl-5.14.4/bin/perl
$UID/$EUID = 1023 / 1023
$GID = 1023 1023
$EGID = 1023 1023
Perl module toolchain versions installed:
Module Have
------------------- ---------
CPAN 1.9600_01
CPAN::Meta 2.150010
Cwd 3.75
ExtUtils::CBuilder 0.280236
ExtUtils::Command 7.62
ExtUtils::Install 2.20
ExtUtils::MakeMaker 7.62
ExtUtils::Manifest 1.70
ExtUtils::ParseXS 3.35
File::Spec 3.75
JSON 4.05
JSON::PP 4.08
Module::Build 0.4231
Module::Signature n/a
Parse::CPAN::Meta 2.150010
Test::Harness 3.42
Test::More 1.302190
YAML 1.30
YAML::Syck 1.34
version 0.9929
--
Summary of my perl5 (revision 5 version 14 subversion 4) configuration:
Platform:
osname=linux, osvers=4.15.0-154-generic, archname=x86_64-linux
uname='linux cloud6.bbbike.org 4.15.0-154-generic #161-ubuntu smp fri jul 30 13:04:17 utc 2021 x86_64 x86_64 x86_64 gnulinux '
config_args='-ds -e -Dprefix=/opt/perl-5.14.4 -Dcf_email=srezic@cpan.org'
hint=recommended, useposix=true, d_sigaction=define
useithreads=undef, usemultiplicity=undef
useperlio=define, d_sfio=undef, uselargefiles=define, usesocks=undef
use64bitint=define, use64bitall=define, uselongdouble=undef
usemymalloc=n, bincompat5005=undef
Compiler:
cc='cc', ccflags ='-fwrapv -fno-strict-aliasing -pipe -fstack-protector -I/usr/local/include -D_LARGEFILE_SOURCE -D_FILE_OFFSET_BITS=64',
optimize='-O2',
cppflags='-fwrapv -fno-strict-aliasing -pipe -fstack-protector -I/usr/local/include'
ccversion='', gccversion='7.5.0', gccosandvers=''
intsize=4, longsize=8, ptrsize=8, doublesize=8, byteorder=12345678
d_longlong=define, longlongsize=8, d_longdbl=define, longdblsize=16
ivtype='long', ivsize=8, nvtype='double', nvsize=8, Off_t='off_t', lseeksize=8
alignbytes=8, prototype=define
Linker and Libraries:
ld='cc', ldflags =' -fstack-protector -L/usr/local/lib'
libpth=/usr/local/lib /lib/x86_64-linux-gnu /lib/../lib /usr/lib/x86_64-linux-gnu /usr/lib/../lib /lib /usr/lib
libs=-lnsl -lgdbm -ldb -ldl -lm -lcrypt -lutil -lc
perllibs=-lnsl -ldl -lm -lcrypt -lutil -lc
libc=libc-2.27.so, so=so, useshrplib=false, libperl=libperl.a
gnulibc_version='2.27'
Dynamic Linking:
dlsrc=dl_dlopen.xs, dlext=so, d_dlsymun=undef, ccdlflags='-Wl,-E'
cccdlflags='-fPIC', lddlflags='-shared -O2 -L/usr/local/lib -fstack-protector'
Characteristics of this binary (from libperl):
Compile-time options: PERL_DONT_CREATE_GVSV PERL_MALLOC_WRAP
PERL_PRESERVE_IVUV USE_64_BIT_ALL USE_64_BIT_INT
USE_LARGE_FILES USE_PERLIO USE_PERL_ATOF
Locally applied patches:
Devel::PatchPerl 2.08
Built under linux
Compiled at Sep 5 2021 12:34:24
%ENV:
PERL5LIB="/home/cpansand/.local/share/.cpan/build/2022041804/Test-Pod-Spelling-CommonMistakes-1.001-RHwPv9/blib/arch:/home/cpansand/.local/share/.cpan/build/2022041804/Test-Pod-Spelling-CommonMistakes-1.001-RHwPv9/blib/lib:/home/cpansand/.local/share/.cpan/build/2022041804/Pod-Spell-CommonMistakes-1.002-eI0RB_/blib/arch:/home/cpansand/.local/share/.cpan/build/2022041804/Pod-Spell-CommonMistakes-1.002-eI0RB_/blib/lib"
PERL5OPT=""
PERL5_CPANPLUS_IS_RUNNING="26611"
PERL5_CPAN_IS_RUNNING="26611"
PERL5_CPAN_IS_RUNNING_IN_RECURSION="20609,26611"
PERLDOC="-MPod::Perldoc::ToTextOverstrike"
PERL_BATCH="yes"
PERL_CANARY_STABILITY_NOPROMPT="1"
PERL_CPAN_REPORTER_CONFIG="/var/tmp/cpansmoker-1023/2022041804/cpanreporter_000_config.ini"
PERL_EXTUTILS_AUTOINSTALL="--defaultdeps"
@INC:
/home/cpansand/.local/share/.cpan/build/2022041804/Test-Pod-Spelling-CommonMistakes-1.001-RHwPv9/blib/arch
/home/cpansand/.local/share/.cpan/build/2022041804/Test-Pod-Spelling-CommonMistakes-1.001-RHwPv9/blib/lib
/home/cpansand/.local/share/.cpan/build/2022041804/Pod-Spell-CommonMistakes-1.002-eI0RB_/blib/arch
/home/cpansand/.local/share/.cpan/build/2022041804/Pod-Spell-CommonMistakes-1.002-eI0RB_/blib/lib
/opt/perl-5.14.4/lib/site_perl/5.14.4/x86_64-linux
/opt/perl-5.14.4/lib/site_perl/5.14.4
/opt/perl-5.14.4/lib/5.14.4/x86_64-linux
/opt/perl-5.14.4/lib/5.14.4
.