AnyEvent-Subprocess v1.102912 Perl 5 v5.24.3 OpenBSD.amd64-openbsd

Status
Pass
From
Alceu Rodrigues de Freitas Junior
Dist
AnyEvent-Subprocess v1.102912
Platform
Perl 5 v5.24.3 OpenBSD.amd64-openbsd
Date
2017-11-28 01:00:02
ID
771f53b8-d3d7-11e7-b36d-24bd9c9b2d56
This distribution has been tested as part of the CPAN Testers
project, supporting the Perl programming language.  See
http://wiki.cpantesters.org/ for more information or email
questions to cpan-testers-discuss@perl.org


--
Dear Jonathan Rockway,

This is a computer-generated report for AnyEvent-Subprocess-1.102912
on perl 5.24.3, created by CPAN-Reporter-1.2018.

Thank you for uploading your work to CPAN.  Congratulations!
All tests were successful.

Sections of this report:

    * Tester comments
    * Program output
    * Prerequisites
    * Environment and other context

------------------------------
TESTER COMMENTS
------------------------------

Additional comments from tester:

this report is from an automated smoke testing program
and was not reviewed by a human for accuracy

------------------------------
PROGRAM OUTPUT
------------------------------

Output from '/usr/bin/make test':

PERL_DL_NONLAZY=1 "/home/bar/perl5/perlbrew/perls/perl-5.24.3/bin/perl" "-MExtUtils::Command::MM" "-MTest::Harness" "-e" "undef *Test::Harness::Switches; test_harness(0, 'blib/lib', 'blib/arch')" t/*.t
# Using AnyEvent::Impl::EV
Passing a list of values to enum is deprecated. Enum values should be wrapped in an arrayref. at /mnt/cpan_build_dir/bar/AnyEvent-Subprocess-1.102912-0/blib/lib/AnyEvent/Subprocess/Types.pm line 42.
	require AnyEvent/Subprocess/Types.pm called at /mnt/cpan_build_dir/bar/AnyEvent-Subprocess-1.102912-0/blib/lib/AnyEvent/Subprocess/Job/Delegate/Handle.pm line 12
	AnyEvent::Subprocess::Job::Delegate::Handle::BEGIN() called at /mnt/cpan_build_dir/bar/AnyEvent-Subprocess-1.102912-0/blib/lib/AnyEvent/Subprocess/Types.pm line 0
	eval {...} called at /mnt/cpan_build_dir/bar/AnyEvent-Subprocess-1.102912-0/blib/lib/AnyEvent/Subprocess/Types.pm line 0
	require AnyEvent/Subprocess/Job/Delegate/Handle.pm called at /mnt/cpan_build_dir/bar/AnyEvent-Subprocess-1.102912-0/blib/lib/AnyEvent/Subprocess/DefaultDelegates.pm line 16
	AnyEvent::Subprocess::DefaultDelegates::BEGIN() called at /mnt/cpan_build_dir/bar/AnyEvent-Subprocess-1.102912-0/blib/lib/AnyEvent/Subprocess/Types.pm line 0
	eval {...} called at /mnt/cpan_build_dir/bar/AnyEvent-Subprocess-1.102912-0/blib/lib/AnyEvent/Subprocess/Types.pm line 0
	require AnyEvent/Subprocess/DefaultDelegates.pm called at /mnt/cpan_build_dir/bar/AnyEvent-Subprocess-1.102912-0/blib/lib/AnyEvent/Subprocess.pm line 11
	AnyEvent::Subprocess::BEGIN() called at /mnt/cpan_build_dir/bar/AnyEvent-Subprocess-1.102912-0/blib/lib/AnyEvent/Subprocess/Types.pm line 0
	eval {...} called at /mnt/cpan_build_dir/bar/AnyEvent-Subprocess-1.102912-0/blib/lib/AnyEvent/Subprocess/Types.pm line 0
	require AnyEvent/Subprocess.pm called at t/00-info.t line 9
	main::BEGIN() called at /mnt/cpan_build_dir/bar/AnyEvent-Subprocess-1.102912-0/blib/lib/AnyEvent/Subprocess/Types.pm line 0
	eval {...} called at /mnt/cpan_build_dir/bar/AnyEvent-Subprocess-1.102912-0/blib/lib/AnyEvent/Subprocess/Types.pm line 0
	eval 'package main;
BEGIN { ${^WARNING_BITS} = $args[-1] if defined $args[-1] }
#line 9 t/00-info.t
use AnyEvent::Subprocess @{$args[0]};
1;
' called at /home/bar/perl5/perlbrew/perls/perl-5.24.3/lib/site_perl/5.24.3/Test/More.pm line 1032
	Test::More::_eval("package main;\x{a}BEGIN { \${^WARNING_BITS} = \$args[-1] if defined"..., ARRAY(0xdb79a2b4028), "UUUUUUUUUUUUUUUUU") called at /home/bar/perl5/perlbrew/perls/perl-5.24.3/lib/site_perl/5.24.3/Test/More.pm line 1007
	Test::More::use_ok("AnyEvent::Subprocess") called at t/00-info.t line 9
	main::BEGIN() called at /mnt/cpan_build_dir/bar/AnyEvent-Subprocess-1.102912-0/blib/lib/AnyEvent/Subprocess/Types.pm line 0
	eval {...} called at /mnt/cpan_build_dir/bar/AnyEvent-Subprocess-1.102912-0/blib/lib/AnyEvent/Subprocess/Types.pm line 0
t/00-info.t ................. ok
Passing a list of values to enum is deprecated. Enum values should be wrapped in an arrayref. at /mnt/cpan_build_dir/bar/AnyEvent-Subprocess-1.102912-0/blib/lib/AnyEvent/Subprocess/Types.pm line 42.
	require AnyEvent/Subprocess/Types.pm called at /mnt/cpan_build_dir/bar/AnyEvent-Subprocess-1.102912-0/blib/lib/AnyEvent/Subprocess/Job/Delegate/Handle.pm line 12
	AnyEvent::Subprocess::Job::Delegate::Handle::BEGIN() called at /mnt/cpan_build_dir/bar/AnyEvent-Subprocess-1.102912-0/blib/lib/AnyEvent/Subprocess/Types.pm line 0
	eval {...} called at /mnt/cpan_build_dir/bar/AnyEvent-Subprocess-1.102912-0/blib/lib/AnyEvent/Subprocess/Types.pm line 0
	require AnyEvent/Subprocess/Job/Delegate/Handle.pm called at /mnt/cpan_build_dir/bar/AnyEvent-Subprocess-1.102912-0/blib/lib/AnyEvent/Subprocess/DefaultDelegates.pm line 16
	AnyEvent::Subprocess::DefaultDelegates::BEGIN() called at /mnt/cpan_build_dir/bar/AnyEvent-Subprocess-1.102912-0/blib/lib/AnyEvent/Subprocess/Types.pm line 0
	eval {...} called at /mnt/cpan_build_dir/bar/AnyEvent-Subprocess-1.102912-0/blib/lib/AnyEvent/Subprocess/Types.pm line 0
	require AnyEvent/Subprocess/DefaultDelegates.pm called at /mnt/cpan_build_dir/bar/AnyEvent-Subprocess-1.102912-0/blib/lib/AnyEvent/Subprocess.pm line 11
	AnyEvent::Subprocess::BEGIN() called at /mnt/cpan_build_dir/bar/AnyEvent-Subprocess-1.102912-0/blib/lib/AnyEvent/Subprocess/Types.pm line 0
	eval {...} called at /mnt/cpan_build_dir/bar/AnyEvent-Subprocess-1.102912-0/blib/lib/AnyEvent/Subprocess/Types.pm line 0
	require AnyEvent/Subprocess.pm called at t/basic.t line 5
	main::BEGIN() called at /mnt/cpan_build_dir/bar/AnyEvent-Subprocess-1.102912-0/blib/lib/AnyEvent/Subprocess/Types.pm line 0
	eval {...} called at /mnt/cpan_build_dir/bar/AnyEvent-Subprocess-1.102912-0/blib/lib/AnyEvent/Subprocess/Types.pm line 0
	eval 'package main;
BEGIN { ${^WARNING_BITS} = $args[-1] if defined $args[-1] }
#line 5 t/basic.t
use AnyEvent::Subprocess @{$args[0]};
1;
' called at /home/bar/perl5/perlbrew/perls/perl-5.24.3/lib/site_perl/5.24.3/Test/More.pm line 1032
	Test::More::_eval("package main;\x{a}BEGIN { \${^WARNING_BITS} = \$args[-1] if defined"..., ARRAY(0x1534f91df058), "UUUUUUUUUUUUUUUUU") called at /home/bar/perl5/perlbrew/perls/perl-5.24.3/lib/site_perl/5.24.3/Test/More.pm line 1007
	Test::More::use_ok("ok", "AnyEvent::Subprocess") called at t/basic.t line 5
	main::BEGIN() called at /mnt/cpan_build_dir/bar/AnyEvent-Subprocess-1.102912-0/blib/lib/AnyEvent/Subprocess/Types.pm line 0
	eval {...} called at /mnt/cpan_build_dir/bar/AnyEvent-Subprocess-1.102912-0/blib/lib/AnyEvent/Subprocess/Types.pm line 0
t/basic.t ................... ok
Passing a list of values to enum is deprecated. Enum values should be wrapped in an arrayref. at /mnt/cpan_build_dir/bar/AnyEvent-Subprocess-1.102912-0/blib/lib/AnyEvent/Subprocess/Types.pm line 42.
	require AnyEvent/Subprocess/Types.pm called at /mnt/cpan_build_dir/bar/AnyEvent-Subprocess-1.102912-0/blib/lib/AnyEvent/Subprocess/Job/Delegate/Handle.pm line 12
	AnyEvent::Subprocess::Job::Delegate::Handle::BEGIN() called at /mnt/cpan_build_dir/bar/AnyEvent-Subprocess-1.102912-0/blib/lib/AnyEvent/Subprocess/Types.pm line 0
	eval {...} called at /mnt/cpan_build_dir/bar/AnyEvent-Subprocess-1.102912-0/blib/lib/AnyEvent/Subprocess/Types.pm line 0
	require AnyEvent/Subprocess/Job/Delegate/Handle.pm called at /mnt/cpan_build_dir/bar/AnyEvent-Subprocess-1.102912-0/blib/lib/AnyEvent/Subprocess/DefaultDelegates.pm line 16
	AnyEvent::Subprocess::DefaultDelegates::BEGIN() called at /mnt/cpan_build_dir/bar/AnyEvent-Subprocess-1.102912-0/blib/lib/AnyEvent/Subprocess/Types.pm line 0
	eval {...} called at /mnt/cpan_build_dir/bar/AnyEvent-Subprocess-1.102912-0/blib/lib/AnyEvent/Subprocess/Types.pm line 0
	require AnyEvent/Subprocess/DefaultDelegates.pm called at /mnt/cpan_build_dir/bar/AnyEvent-Subprocess-1.102912-0/blib/lib/AnyEvent/Subprocess.pm line 11
	AnyEvent::Subprocess::BEGIN() called at /mnt/cpan_build_dir/bar/AnyEvent-Subprocess-1.102912-0/blib/lib/AnyEvent/Subprocess/Types.pm line 0
	eval {...} called at /mnt/cpan_build_dir/bar/AnyEvent-Subprocess-1.102912-0/blib/lib/AnyEvent/Subprocess/Types.pm line 0
	require AnyEvent/Subprocess.pm called at t/capture-basic.t line 5
	main::BEGIN() called at /mnt/cpan_build_dir/bar/AnyEvent-Subprocess-1.102912-0/blib/lib/AnyEvent/Subprocess/Types.pm line 0
	eval {...} called at /mnt/cpan_build_dir/bar/AnyEvent-Subprocess-1.102912-0/blib/lib/AnyEvent/Subprocess/Types.pm line 0
t/capture-basic.t ........... ok
Passing a list of values to enum is deprecated. Enum values should be wrapped in an arrayref. at /mnt/cpan_build_dir/bar/AnyEvent-Subprocess-1.102912-0/blib/lib/AnyEvent/Subprocess/Types.pm line 42.
	require AnyEvent/Subprocess/Types.pm called at /mnt/cpan_build_dir/bar/AnyEvent-Subprocess-1.102912-0/blib/lib/AnyEvent/Subprocess/Job/Delegate/Handle.pm line 12
	AnyEvent::Subprocess::Job::Delegate::Handle::BEGIN() called at /mnt/cpan_build_dir/bar/AnyEvent-Subprocess-1.102912-0/blib/lib/AnyEvent/Subprocess/Types.pm line 0
	eval {...} called at /mnt/cpan_build_dir/bar/AnyEvent-Subprocess-1.102912-0/blib/lib/AnyEvent/Subprocess/Types.pm line 0
	require AnyEvent/Subprocess/Job/Delegate/Handle.pm called at /mnt/cpan_build_dir/bar/AnyEvent-Subprocess-1.102912-0/blib/lib/AnyEvent/Subprocess/DefaultDelegates.pm line 16
	AnyEvent::Subprocess::DefaultDelegates::BEGIN() called at /mnt/cpan_build_dir/bar/AnyEvent-Subprocess-1.102912-0/blib/lib/AnyEvent/Subprocess/Types.pm line 0
	eval {...} called at /mnt/cpan_build_dir/bar/AnyEvent-Subprocess-1.102912-0/blib/lib/AnyEvent/Subprocess/Types.pm line 0
	require AnyEvent/Subprocess/DefaultDelegates.pm called at /mnt/cpan_build_dir/bar/AnyEvent-Subprocess-1.102912-0/blib/lib/AnyEvent/Subprocess.pm line 11
	AnyEvent::Subprocess::BEGIN() called at /mnt/cpan_build_dir/bar/AnyEvent-Subprocess-1.102912-0/blib/lib/AnyEvent/Subprocess/Types.pm line 0
	eval {...} called at /mnt/cpan_build_dir/bar/AnyEvent-Subprocess-1.102912-0/blib/lib/AnyEvent/Subprocess/Types.pm line 0
	require AnyEvent/Subprocess.pm called at t/clone.t line 5
	main::BEGIN() called at /mnt/cpan_build_dir/bar/AnyEvent-Subprocess-1.102912-0/blib/lib/AnyEvent/Subprocess/Types.pm line 0
	eval {...} called at /mnt/cpan_build_dir/bar/AnyEvent-Subprocess-1.102912-0/blib/lib/AnyEvent/Subprocess/Types.pm line 0
t/clone.t ................... ok
Passing a list of values to enum is deprecated. Enum values should be wrapped in an arrayref. at /mnt/cpan_build_dir/bar/AnyEvent-Subprocess-1.102912-0/blib/lib/AnyEvent/Subprocess/Types.pm line 42.
	require AnyEvent/Subprocess/Types.pm called at /mnt/cpan_build_dir/bar/AnyEvent-Subprocess-1.102912-0/blib/lib/AnyEvent/Subprocess/Job/Delegate/Handle.pm line 12
	AnyEvent::Subprocess::Job::Delegate::Handle::BEGIN() called at /mnt/cpan_build_dir/bar/AnyEvent-Subprocess-1.102912-0/blib/lib/AnyEvent/Subprocess/Types.pm line 0
	eval {...} called at /mnt/cpan_build_dir/bar/AnyEvent-Subprocess-1.102912-0/blib/lib/AnyEvent/Subprocess/Types.pm line 0
	require AnyEvent/Subprocess/Job/Delegate/Handle.pm called at /mnt/cpan_build_dir/bar/AnyEvent-Subprocess-1.102912-0/blib/lib/AnyEvent/Subprocess/DefaultDelegates.pm line 16
	AnyEvent::Subprocess::DefaultDelegates::BEGIN() called at /mnt/cpan_build_dir/bar/AnyEvent-Subprocess-1.102912-0/blib/lib/AnyEvent/Subprocess/Types.pm line 0
	eval {...} called at /mnt/cpan_build_dir/bar/AnyEvent-Subprocess-1.102912-0/blib/lib/AnyEvent/Subprocess/Types.pm line 0
	require AnyEvent/Subprocess/DefaultDelegates.pm called at /mnt/cpan_build_dir/bar/AnyEvent-Subprocess-1.102912-0/blib/lib/AnyEvent/Subprocess.pm line 11
	AnyEvent::Subprocess::BEGIN() called at /mnt/cpan_build_dir/bar/AnyEvent-Subprocess-1.102912-0/blib/lib/AnyEvent/Subprocess/Types.pm line 0
	eval {...} called at /mnt/cpan_build_dir/bar/AnyEvent-Subprocess-1.102912-0/blib/lib/AnyEvent/Subprocess/Types.pm line 0
	require AnyEvent/Subprocess.pm called at t/death-by-stdin.t line 5
	main::BEGIN() called at /mnt/cpan_build_dir/bar/AnyEvent-Subprocess-1.102912-0/blib/lib/AnyEvent/Subprocess/Types.pm line 0
	eval {...} called at /mnt/cpan_build_dir/bar/AnyEvent-Subprocess-1.102912-0/blib/lib/AnyEvent/Subprocess/Types.pm line 0
t/death-by-stdin.t .......... ok
Passing a list of values to enum is deprecated. Enum values should be wrapped in an arrayref. at /mnt/cpan_build_dir/bar/AnyEvent-Subprocess-1.102912-0/blib/lib/AnyEvent/Subprocess/Types.pm line 42.
	require AnyEvent/Subprocess/Types.pm called at /mnt/cpan_build_dir/bar/AnyEvent-Subprocess-1.102912-0/blib/lib/AnyEvent/Subprocess/Job/Delegate/Handle.pm line 12
	AnyEvent::Subprocess::Job::Delegate::Handle::BEGIN() called at /mnt/cpan_build_dir/bar/AnyEvent-Subprocess-1.102912-0/blib/lib/AnyEvent/Subprocess/Types.pm line 0
	eval {...} called at /mnt/cpan_build_dir/bar/AnyEvent-Subprocess-1.102912-0/blib/lib/AnyEvent/Subprocess/Types.pm line 0
	require AnyEvent/Subprocess/Job/Delegate/Handle.pm called at /mnt/cpan_build_dir/bar/AnyEvent-Subprocess-1.102912-0/blib/lib/AnyEvent/Subprocess/DefaultDelegates.pm line 16
	AnyEvent::Subprocess::DefaultDelegates::BEGIN() called at /mnt/cpan_build_dir/bar/AnyEvent-Subprocess-1.102912-0/blib/lib/AnyEvent/Subprocess/Types.pm line 0
	eval {...} called at /mnt/cpan_build_dir/bar/AnyEvent-Subprocess-1.102912-0/blib/lib/AnyEvent/Subprocess/Types.pm line 0
	require AnyEvent/Subprocess/DefaultDelegates.pm called at /mnt/cpan_build_dir/bar/AnyEvent-Subprocess-1.102912-0/blib/lib/AnyEvent/Subprocess.pm line 11
	AnyEvent::Subprocess::BEGIN() called at /mnt/cpan_build_dir/bar/AnyEvent-Subprocess-1.102912-0/blib/lib/AnyEvent/Subprocess/Types.pm line 0
	eval {...} called at /mnt/cpan_build_dir/bar/AnyEvent-Subprocess-1.102912-0/blib/lib/AnyEvent/Subprocess/Types.pm line 0
	require AnyEvent/Subprocess.pm called at /mnt/cpan_build_dir/bar/AnyEvent-Subprocess-1.102912-0/blib/lib/AnyEvent/Subprocess/Easy.pm line 10
	AnyEvent::Subprocess::Easy::BEGIN() called at /mnt/cpan_build_dir/bar/AnyEvent-Subprocess-1.102912-0/blib/lib/AnyEvent/Subprocess/Types.pm line 0
	eval {...} called at /mnt/cpan_build_dir/bar/AnyEvent-Subprocess-1.102912-0/blib/lib/AnyEvent/Subprocess/Types.pm line 0
	require AnyEvent/Subprocess/Easy.pm called at t/easy-qx.t line 6
	main::BEGIN() called at /mnt/cpan_build_dir/bar/AnyEvent-Subprocess-1.102912-0/blib/lib/AnyEvent/Subprocess/Types.pm line 0
	eval {...} called at /mnt/cpan_build_dir/bar/AnyEvent-Subprocess-1.102912-0/blib/lib/AnyEvent/Subprocess/Types.pm line 0
# Mon Nov 27 22:35:46 -02 2017
# The 'failed' message you are about to see is good.
Failed to exec 'I CAN HAZ CHEZBURGER?': No such file or directory at /mnt/cpan_build_dir/bar/AnyEvent-Subprocess-1.102912-0/blib/lib/AnyEvent/Subprocess/Types.pm line 36.
t/easy-qx.t ................. ok
Passing a list of values to enum is deprecated. Enum values should be wrapped in an arrayref. at /mnt/cpan_build_dir/bar/AnyEvent-Subprocess-1.102912-0/blib/lib/AnyEvent/Subprocess/Types.pm line 42.
	require AnyEvent/Subprocess/Types.pm called at /mnt/cpan_build_dir/bar/AnyEvent-Subprocess-1.102912-0/blib/lib/AnyEvent/Subprocess/Job/Delegate/Handle.pm line 12
	AnyEvent::Subprocess::Job::Delegate::Handle::BEGIN() called at /mnt/cpan_build_dir/bar/AnyEvent-Subprocess-1.102912-0/blib/lib/AnyEvent/Subprocess/Types.pm line 0
	eval {...} called at /mnt/cpan_build_dir/bar/AnyEvent-Subprocess-1.102912-0/blib/lib/AnyEvent/Subprocess/Types.pm line 0
	require AnyEvent/Subprocess/Job/Delegate/Handle.pm called at /mnt/cpan_build_dir/bar/AnyEvent-Subprocess-1.102912-0/blib/lib/AnyEvent/Subprocess/DefaultDelegates.pm line 16
	AnyEvent::Subprocess::DefaultDelegates::BEGIN() called at /mnt/cpan_build_dir/bar/AnyEvent-Subprocess-1.102912-0/blib/lib/AnyEvent/Subprocess/Types.pm line 0
	eval {...} called at /mnt/cpan_build_dir/bar/AnyEvent-Subprocess-1.102912-0/blib/lib/AnyEvent/Subprocess/Types.pm line 0
	require AnyEvent/Subprocess/DefaultDelegates.pm called at /mnt/cpan_build_dir/bar/AnyEvent-Subprocess-1.102912-0/blib/lib/AnyEvent/Subprocess.pm line 11
	AnyEvent::Subprocess::BEGIN() called at /mnt/cpan_build_dir/bar/AnyEvent-Subprocess-1.102912-0/blib/lib/AnyEvent/Subprocess/Types.pm line 0
	eval {...} called at /mnt/cpan_build_dir/bar/AnyEvent-Subprocess-1.102912-0/blib/lib/AnyEvent/Subprocess/Types.pm line 0
	require AnyEvent/Subprocess.pm called at t/exit-code.t line 5
	main::BEGIN() called at /mnt/cpan_build_dir/bar/AnyEvent-Subprocess-1.102912-0/blib/lib/AnyEvent/Subprocess/Types.pm line 0
	eval {...} called at /mnt/cpan_build_dir/bar/AnyEvent-Subprocess-1.102912-0/blib/lib/AnyEvent/Subprocess/Types.pm line 0
t/exit-code.t ............... ok
Passing a list of values to enum is deprecated. Enum values should be wrapped in an arrayref. at /mnt/cpan_build_dir/bar/AnyEvent-Subprocess-1.102912-0/blib/lib/AnyEvent/Subprocess/Types.pm line 42.
	require AnyEvent/Subprocess/Types.pm called at /mnt/cpan_build_dir/bar/AnyEvent-Subprocess-1.102912-0/blib/lib/AnyEvent/Subprocess/Job/Delegate/Handle.pm line 12
	AnyEvent::Subprocess::Job::Delegate::Handle::BEGIN() called at /mnt/cpan_build_dir/bar/AnyEvent-Subprocess-1.102912-0/blib/lib/AnyEvent/Subprocess/Types.pm line 0
	eval {...} called at /mnt/cpan_build_dir/bar/AnyEvent-Subprocess-1.102912-0/blib/lib/AnyEvent/Subprocess/Types.pm line 0
	require AnyEvent/Subprocess/Job/Delegate/Handle.pm called at /mnt/cpan_build_dir/bar/AnyEvent-Subprocess-1.102912-0/blib/lib/AnyEvent/Subprocess/DefaultDelegates.pm line 16
	AnyEvent::Subprocess::DefaultDelegates::BEGIN() called at /mnt/cpan_build_dir/bar/AnyEvent-Subprocess-1.102912-0/blib/lib/AnyEvent/Subprocess/Types.pm line 0
	eval {...} called at /mnt/cpan_build_dir/bar/AnyEvent-Subprocess-1.102912-0/blib/lib/AnyEvent/Subprocess/Types.pm line 0
	require AnyEvent/Subprocess/DefaultDelegates.pm called at /mnt/cpan_build_dir/bar/AnyEvent-Subprocess-1.102912-0/blib/lib/AnyEvent/Subprocess.pm line 11
	AnyEvent::Subprocess::BEGIN() called at /mnt/cpan_build_dir/bar/AnyEvent-Subprocess-1.102912-0/blib/lib/AnyEvent/Subprocess/Types.pm line 0
	eval {...} called at /mnt/cpan_build_dir/bar/AnyEvent-Subprocess-1.102912-0/blib/lib/AnyEvent/Subprocess/Types.pm line 0
	require AnyEvent/Subprocess.pm called at t/external-process.t line 5
	main::BEGIN() called at /mnt/cpan_build_dir/bar/AnyEvent-Subprocess-1.102912-0/blib/lib/AnyEvent/Subprocess/Types.pm line 0
	eval {...} called at /mnt/cpan_build_dir/bar/AnyEvent-Subprocess-1.102912-0/blib/lib/AnyEvent/Subprocess/Types.pm line 0
t/external-process.t ........ ok
Passing a list of values to enum is deprecated. Enum values should be wrapped in an arrayref. at /mnt/cpan_build_dir/bar/AnyEvent-Subprocess-1.102912-0/blib/lib/AnyEvent/Subprocess/Types.pm line 42.
	require AnyEvent/Subprocess/Types.pm called at /mnt/cpan_build_dir/bar/AnyEvent-Subprocess-1.102912-0/blib/lib/AnyEvent/Subprocess/Job/Delegate/Handle.pm line 12
	AnyEvent::Subprocess::Job::Delegate::Handle::BEGIN() called at /mnt/cpan_build_dir/bar/AnyEvent-Subprocess-1.102912-0/blib/lib/AnyEvent/Subprocess/Types.pm line 0
	eval {...} called at /mnt/cpan_build_dir/bar/AnyEvent-Subprocess-1.102912-0/blib/lib/AnyEvent/Subprocess/Types.pm line 0
	require AnyEvent/Subprocess/Job/Delegate/Handle.pm called at /mnt/cpan_build_dir/bar/AnyEvent-Subprocess-1.102912-0/blib/lib/AnyEvent/Subprocess/DefaultDelegates.pm line 16
	AnyEvent::Subprocess::DefaultDelegates::BEGIN() called at /mnt/cpan_build_dir/bar/AnyEvent-Subprocess-1.102912-0/blib/lib/AnyEvent/Subprocess/Types.pm line 0
	eval {...} called at /mnt/cpan_build_dir/bar/AnyEvent-Subprocess-1.102912-0/blib/lib/AnyEvent/Subprocess/Types.pm line 0
	require AnyEvent/Subprocess/DefaultDelegates.pm called at /mnt/cpan_build_dir/bar/AnyEvent-Subprocess-1.102912-0/blib/lib/AnyEvent/Subprocess.pm line 11
	AnyEvent::Subprocess::BEGIN() called at /mnt/cpan_build_dir/bar/AnyEvent-Subprocess-1.102912-0/blib/lib/AnyEvent/Subprocess/Types.pm line 0
	eval {...} called at /mnt/cpan_build_dir/bar/AnyEvent-Subprocess-1.102912-0/blib/lib/AnyEvent/Subprocess/Types.pm line 0
	require AnyEvent/Subprocess.pm called at t/handle-leftovers.t line 5
	main::BEGIN() called at /mnt/cpan_build_dir/bar/AnyEvent-Subprocess-1.102912-0/blib/lib/AnyEvent/Subprocess/Types.pm line 0
	eval {...} called at /mnt/cpan_build_dir/bar/AnyEvent-Subprocess-1.102912-0/blib/lib/AnyEvent/Subprocess/Types.pm line 0
t/handle-leftovers.t ........ ok
Passing a list of values to enum is deprecated. Enum values should be wrapped in an arrayref. at /mnt/cpan_build_dir/bar/AnyEvent-Subprocess-1.102912-0/blib/lib/AnyEvent/Subprocess/Types.pm line 42.
	require AnyEvent/Subprocess/Types.pm called at /mnt/cpan_build_dir/bar/AnyEvent-Subprocess-1.102912-0/blib/lib/AnyEvent/Subprocess/Job/Delegate/Handle.pm line 12
	AnyEvent::Subprocess::Job::Delegate::Handle::BEGIN() called at /mnt/cpan_build_dir/bar/AnyEvent-Subprocess-1.102912-0/blib/lib/AnyEvent/Subprocess/Types.pm line 0
	eval {...} called at /mnt/cpan_build_dir/bar/AnyEvent-Subprocess-1.102912-0/blib/lib/AnyEvent/Subprocess/Types.pm line 0
	require AnyEvent/Subprocess/Job/Delegate/Handle.pm called at /mnt/cpan_build_dir/bar/AnyEvent-Subprocess-1.102912-0/blib/lib/AnyEvent/Subprocess/DefaultDelegates.pm line 16
	AnyEvent::Subprocess::DefaultDelegates::BEGIN() called at /mnt/cpan_build_dir/bar/AnyEvent-Subprocess-1.102912-0/blib/lib/AnyEvent/Subprocess/Types.pm line 0
	eval {...} called at /mnt/cpan_build_dir/bar/AnyEvent-Subprocess-1.102912-0/blib/lib/AnyEvent/Subprocess/Types.pm line 0
	require AnyEvent/Subprocess/DefaultDelegates.pm called at /mnt/cpan_build_dir/bar/AnyEvent-Subprocess-1.102912-0/blib/lib/AnyEvent/Subprocess.pm line 11
	AnyEvent::Subprocess::BEGIN() called at /mnt/cpan_build_dir/bar/AnyEvent-Subprocess-1.102912-0/blib/lib/AnyEvent/Subprocess/Types.pm line 0
	eval {...} called at /mnt/cpan_build_dir/bar/AnyEvent-Subprocess-1.102912-0/blib/lib/AnyEvent/Subprocess/Types.pm line 0
	require AnyEvent/Subprocess.pm called at t/kill.t line 5
	main::BEGIN() called at /mnt/cpan_build_dir/bar/AnyEvent-Subprocess-1.102912-0/blib/lib/AnyEvent/Subprocess/Types.pm line 0
	eval {...} called at /mnt/cpan_build_dir/bar/AnyEvent-Subprocess-1.102912-0/blib/lib/AnyEvent/Subprocess/Types.pm line 0
t/kill.t .................... ok
Passing a list of values to enum is deprecated. Enum values should be wrapped in an arrayref. at /mnt/cpan_build_dir/bar/AnyEvent-Subprocess-1.102912-0/blib/lib/AnyEvent/Subprocess/Types.pm line 42.
	require AnyEvent/Subprocess/Types.pm called at /mnt/cpan_build_dir/bar/AnyEvent-Subprocess-1.102912-0/blib/lib/AnyEvent/Subprocess/Job/Delegate/Handle.pm line 12
	AnyEvent::Subprocess::Job::Delegate::Handle::BEGIN() called at /mnt/cpan_build_dir/bar/AnyEvent-Subprocess-1.102912-0/blib/lib/AnyEvent/Subprocess/Types.pm line 0
	eval {...} called at /mnt/cpan_build_dir/bar/AnyEvent-Subprocess-1.102912-0/blib/lib/AnyEvent/Subprocess/Types.pm line 0
	require AnyEvent/Subprocess/Job/Delegate/Handle.pm called at /mnt/cpan_build_dir/bar/AnyEvent-Subprocess-1.102912-0/blib/lib/AnyEvent/Subprocess/DefaultDelegates.pm line 16
	AnyEvent::Subprocess::DefaultDelegates::BEGIN() called at /mnt/cpan_build_dir/bar/AnyEvent-Subprocess-1.102912-0/blib/lib/AnyEvent/Subprocess/Types.pm line 0
	eval {...} called at /mnt/cpan_build_dir/bar/AnyEvent-Subprocess-1.102912-0/blib/lib/AnyEvent/Subprocess/Types.pm line 0
	require AnyEvent/Subprocess/DefaultDelegates.pm called at /mnt/cpan_build_dir/bar/AnyEvent-Subprocess-1.102912-0/blib/lib/AnyEvent/Subprocess.pm line 11
	AnyEvent::Subprocess::BEGIN() called at /mnt/cpan_build_dir/bar/AnyEvent-Subprocess-1.102912-0/blib/lib/AnyEvent/Subprocess/Types.pm line 0
	eval {...} called at /mnt/cpan_build_dir/bar/AnyEvent-Subprocess-1.102912-0/blib/lib/AnyEvent/Subprocess/Types.pm line 0
	require AnyEvent/Subprocess.pm called at t/monitorhandle.t line 5
	main::BEGIN() called at /mnt/cpan_build_dir/bar/AnyEvent-Subprocess-1.102912-0/blib/lib/AnyEvent/Subprocess/Types.pm line 0
	eval {...} called at /mnt/cpan_build_dir/bar/AnyEvent-Subprocess-1.102912-0/blib/lib/AnyEvent/Subprocess/Types.pm line 0
t/monitorhandle.t ........... ok
Passing a list of values to enum is deprecated. Enum values should be wrapped in an arrayref. at /mnt/cpan_build_dir/bar/AnyEvent-Subprocess-1.102912-0/blib/lib/AnyEvent/Subprocess/Types.pm line 42.
	require AnyEvent/Subprocess/Types.pm called at /mnt/cpan_build_dir/bar/AnyEvent-Subprocess-1.102912-0/blib/lib/AnyEvent/Subprocess/Done.pm line 9
	AnyEvent::Subprocess::Done::BEGIN() called at /mnt/cpan_build_dir/bar/AnyEvent-Subprocess-1.102912-0/blib/lib/AnyEvent/Subprocess/Types.pm line 0
	eval {...} called at /mnt/cpan_build_dir/bar/AnyEvent-Subprocess-1.102912-0/blib/lib/AnyEvent/Subprocess/Types.pm line 0
	require AnyEvent/Subprocess/Done.pm called at t/negative-one.t line 4
	main::BEGIN() called at /mnt/cpan_build_dir/bar/AnyEvent-Subprocess-1.102912-0/blib/lib/AnyEvent/Subprocess/Types.pm line 0
	eval {...} called at /mnt/cpan_build_dir/bar/AnyEvent-Subprocess-1.102912-0/blib/lib/AnyEvent/Subprocess/Types.pm line 0
t/negative-one.t ............ ok
Passing a list of values to enum is deprecated. Enum values should be wrapped in an arrayref. at /mnt/cpan_build_dir/bar/AnyEvent-Subprocess-1.102912-0/blib/lib/AnyEvent/Subprocess/Types.pm line 42.
	require AnyEvent/Subprocess/Types.pm called at /mnt/cpan_build_dir/bar/AnyEvent-Subprocess-1.102912-0/blib/lib/AnyEvent/Subprocess/Job/Delegate/Handle.pm line 12
	AnyEvent::Subprocess::Job::Delegate::Handle::BEGIN() called at /mnt/cpan_build_dir/bar/AnyEvent-Subprocess-1.102912-0/blib/lib/AnyEvent/Subprocess/Types.pm line 0
	eval {...} called at /mnt/cpan_build_dir/bar/AnyEvent-Subprocess-1.102912-0/blib/lib/AnyEvent/Subprocess/Types.pm line 0
	require AnyEvent/Subprocess/Job/Delegate/Handle.pm called at /mnt/cpan_build_dir/bar/AnyEvent-Subprocess-1.102912-0/blib/lib/AnyEvent/Subprocess/DefaultDelegates.pm line 16
	AnyEvent::Subprocess::DefaultDelegates::BEGIN() called at /mnt/cpan_build_dir/bar/AnyEvent-Subprocess-1.102912-0/blib/lib/AnyEvent/Subprocess/Types.pm line 0
	eval {...} called at /mnt/cpan_build_dir/bar/AnyEvent-Subprocess-1.102912-0/blib/lib/AnyEvent/Subprocess/Types.pm line 0
	require AnyEvent/Subprocess/DefaultDelegates.pm called at /mnt/cpan_build_dir/bar/AnyEvent-Subprocess-1.102912-0/blib/lib/AnyEvent/Subprocess.pm line 11
	AnyEvent::Subprocess::BEGIN() called at /mnt/cpan_build_dir/bar/AnyEvent-Subprocess-1.102912-0/blib/lib/AnyEvent/Subprocess/Types.pm line 0
	eval {...} called at /mnt/cpan_build_dir/bar/AnyEvent-Subprocess-1.102912-0/blib/lib/AnyEvent/Subprocess/Types.pm line 0
	require AnyEvent/Subprocess.pm called at t/open-to-fd.t line 5
	main::BEGIN() called at /mnt/cpan_build_dir/bar/AnyEvent-Subprocess-1.102912-0/blib/lib/AnyEvent/Subprocess/Types.pm line 0
	eval {...} called at /mnt/cpan_build_dir/bar/AnyEvent-Subprocess-1.102912-0/blib/lib/AnyEvent/Subprocess/Types.pm line 0
t/open-to-fd.t .............. ok
Passing a list of values to enum is deprecated. Enum values should be wrapped in an arrayref. at /mnt/cpan_build_dir/bar/AnyEvent-Subprocess-1.102912-0/blib/lib/AnyEvent/Subprocess/Types.pm line 42.
	require AnyEvent/Subprocess/Types.pm called at /mnt/cpan_build_dir/bar/AnyEvent-Subprocess-1.102912-0/blib/lib/AnyEvent/Subprocess/Job/Delegate/Handle.pm line 12
	AnyEvent::Subprocess::Job::Delegate::Handle::BEGIN() called at /mnt/cpan_build_dir/bar/AnyEvent-Subprocess-1.102912-0/blib/lib/AnyEvent/Subprocess/Types.pm line 0
	eval {...} called at /mnt/cpan_build_dir/bar/AnyEvent-Subprocess-1.102912-0/blib/lib/AnyEvent/Subprocess/Types.pm line 0
	require AnyEvent/Subprocess/Job/Delegate/Handle.pm called at /mnt/cpan_build_dir/bar/AnyEvent-Subprocess-1.102912-0/blib/lib/AnyEvent/Subprocess/DefaultDelegates.pm line 16
	AnyEvent::Subprocess::DefaultDelegates::BEGIN() called at /mnt/cpan_build_dir/bar/AnyEvent-Subprocess-1.102912-0/blib/lib/AnyEvent/Subprocess/Types.pm line 0
	eval {...} called at /mnt/cpan_build_dir/bar/AnyEvent-Subprocess-1.102912-0/blib/lib/AnyEvent/Subprocess/Types.pm line 0
	require AnyEvent/Subprocess/DefaultDelegates.pm called at /mnt/cpan_build_dir/bar/AnyEvent-Subprocess-1.102912-0/blib/lib/AnyEvent/Subprocess.pm line 11
	AnyEvent::Subprocess::BEGIN() called at /mnt/cpan_build_dir/bar/AnyEvent-Subprocess-1.102912-0/blib/lib/AnyEvent/Subprocess/Types.pm line 0
	eval {...} called at /mnt/cpan_build_dir/bar/AnyEvent-Subprocess-1.102912-0/blib/lib/AnyEvent/Subprocess/Types.pm line 0
	require AnyEvent/Subprocess.pm called at t/pty-basic.t line 5
	main::BEGIN() called at /mnt/cpan_build_dir/bar/AnyEvent-Subprocess-1.102912-0/blib/lib/AnyEvent/Subprocess/Types.pm line 0
	eval {...} called at /mnt/cpan_build_dir/bar/AnyEvent-Subprocess-1.102912-0/blib/lib/AnyEvent/Subprocess/Types.pm line 0
EV: error in callback (ignoring): sysread() on closed filehandle $fh1 at /home/bar/perl5/perlbrew/perls/perl-5.24.3/lib/site_perl/5.24.3/OpenBSD.amd64-openbsd/AnyEvent/Handle.pm line 2005.
t/pty-basic.t ............... ok
Passing a list of values to enum is deprecated. Enum values should be wrapped in an arrayref. at /mnt/cpan_build_dir/bar/AnyEvent-Subprocess-1.102912-0/blib/lib/AnyEvent/Subprocess/Types.pm line 42.
	require AnyEvent/Subprocess/Types.pm called at /mnt/cpan_build_dir/bar/AnyEvent-Subprocess-1.102912-0/blib/lib/AnyEvent/Subprocess/Job/Delegate/Handle.pm line 12
	AnyEvent::Subprocess::Job::Delegate::Handle::BEGIN() called at /mnt/cpan_build_dir/bar/AnyEvent-Subprocess-1.102912-0/blib/lib/AnyEvent/Subprocess/Types.pm line 0
	eval {...} called at /mnt/cpan_build_dir/bar/AnyEvent-Subprocess-1.102912-0/blib/lib/AnyEvent/Subprocess/Types.pm line 0
	require AnyEvent/Subprocess/Job/Delegate/Handle.pm called at /mnt/cpan_build_dir/bar/AnyEvent-Subprocess-1.102912-0/blib/lib/AnyEvent/Subprocess/DefaultDelegates.pm line 16
	AnyEvent::Subprocess::DefaultDelegates::BEGIN() called at /mnt/cpan_build_dir/bar/AnyEvent-Subprocess-1.102912-0/blib/lib/AnyEvent/Subprocess/Types.pm line 0
	eval {...} called at /mnt/cpan_build_dir/bar/AnyEvent-Subprocess-1.102912-0/blib/lib/AnyEvent/Subprocess/Types.pm line 0
	require AnyEvent/Subprocess/DefaultDelegates.pm called at /mnt/cpan_build_dir/bar/AnyEvent-Subprocess-1.102912-0/blib/lib/AnyEvent/Subprocess.pm line 11
	AnyEvent::Subprocess::BEGIN() called at /mnt/cpan_build_dir/bar/AnyEvent-Subprocess-1.102912-0/blib/lib/AnyEvent/Subprocess/Types.pm line 0
	eval {...} called at /mnt/cpan_build_dir/bar/AnyEvent-Subprocess-1.102912-0/blib/lib/AnyEvent/Subprocess/Types.pm line 0
	require AnyEvent/Subprocess.pm called at t/pty-control.t line 4
	main::BEGIN() called at /mnt/cpan_build_dir/bar/AnyEvent-Subprocess-1.102912-0/blib/lib/AnyEvent/Subprocess/Types.pm line 0
	eval {...} called at /mnt/cpan_build_dir/bar/AnyEvent-Subprocess-1.102912-0/blib/lib/AnyEvent/Subprocess/Types.pm line 0
t/pty-control.t ............. ok
t/release-pod-syntax.t ...... skipped: these tests are for release candidate testing
Passing a list of values to enum is deprecated. Enum values should be wrapped in an arrayref. at /mnt/cpan_build_dir/bar/AnyEvent-Subprocess-1.102912-0/blib/lib/AnyEvent/Subprocess/Types.pm line 42.
	require AnyEvent/Subprocess/Types.pm called at /mnt/cpan_build_dir/bar/AnyEvent-Subprocess-1.102912-0/blib/lib/AnyEvent/Subprocess/Job/Delegate/Handle.pm line 12
	AnyEvent::Subprocess::Job::Delegate::Handle::BEGIN() called at /mnt/cpan_build_dir/bar/AnyEvent-Subprocess-1.102912-0/blib/lib/AnyEvent/Subprocess/Types.pm line 0
	eval {...} called at /mnt/cpan_build_dir/bar/AnyEvent-Subprocess-1.102912-0/blib/lib/AnyEvent/Subprocess/Types.pm line 0
	require AnyEvent/Subprocess/Job/Delegate/Handle.pm called at /mnt/cpan_build_dir/bar/AnyEvent-Subprocess-1.102912-0/blib/lib/AnyEvent/Subprocess/DefaultDelegates.pm line 16
	AnyEvent::Subprocess::DefaultDelegates::BEGIN() called at /mnt/cpan_build_dir/bar/AnyEvent-Subprocess-1.102912-0/blib/lib/AnyEvent/Subprocess/Types.pm line 0
	eval {...} called at /mnt/cpan_build_dir/bar/AnyEvent-Subprocess-1.102912-0/blib/lib/AnyEvent/Subprocess/Types.pm line 0
	require AnyEvent/Subprocess/DefaultDelegates.pm called at /mnt/cpan_build_dir/bar/AnyEvent-Subprocess-1.102912-0/blib/lib/AnyEvent/Subprocess.pm line 11
	AnyEvent::Subprocess::BEGIN() called at /mnt/cpan_build_dir/bar/AnyEvent-Subprocess-1.102912-0/blib/lib/AnyEvent/Subprocess/Types.pm line 0
	eval {...} called at /mnt/cpan_build_dir/bar/AnyEvent-Subprocess-1.102912-0/blib/lib/AnyEvent/Subprocess/Types.pm line 0
	require AnyEvent/Subprocess.pm called at t/socket.t line 5
	main::BEGIN() called at /mnt/cpan_build_dir/bar/AnyEvent-Subprocess-1.102912-0/blib/lib/AnyEvent/Subprocess/Types.pm line 0
	eval {...} called at /mnt/cpan_build_dir/bar/AnyEvent-Subprocess-1.102912-0/blib/lib/AnyEvent/Subprocess/Types.pm line 0
t/socket.t .................. ok
Passing a list of values to enum is deprecated. Enum values should be wrapped in an arrayref. at /mnt/cpan_build_dir/bar/AnyEvent-Subprocess-1.102912-0/blib/lib/AnyEvent/Subprocess/Types.pm line 42.
	require AnyEvent/Subprocess/Types.pm called at /mnt/cpan_build_dir/bar/AnyEvent-Subprocess-1.102912-0/blib/lib/AnyEvent/Subprocess/Job/Delegate/Handle.pm line 12
	AnyEvent::Subprocess::Job::Delegate::Handle::BEGIN() called at /mnt/cpan_build_dir/bar/AnyEvent-Subprocess-1.102912-0/blib/lib/AnyEvent/Subprocess/Types.pm line 0
	eval {...} called at /mnt/cpan_build_dir/bar/AnyEvent-Subprocess-1.102912-0/blib/lib/AnyEvent/Subprocess/Types.pm line 0
	require AnyEvent/Subprocess/Job/Delegate/Handle.pm called at /mnt/cpan_build_dir/bar/AnyEvent-Subprocess-1.102912-0/blib/lib/AnyEvent/Subprocess/DefaultDelegates.pm line 16
	AnyEvent::Subprocess::DefaultDelegates::BEGIN() called at /mnt/cpan_build_dir/bar/AnyEvent-Subprocess-1.102912-0/blib/lib/AnyEvent/Subprocess/Types.pm line 0
	eval {...} called at /mnt/cpan_build_dir/bar/AnyEvent-Subprocess-1.102912-0/blib/lib/AnyEvent/Subprocess/Types.pm line 0
	require AnyEvent/Subprocess/DefaultDelegates.pm called at /mnt/cpan_build_dir/bar/AnyEvent-Subprocess-1.102912-0/blib/lib/AnyEvent/Subprocess.pm line 11
	AnyEvent::Subprocess::BEGIN() called at /mnt/cpan_build_dir/bar/AnyEvent-Subprocess-1.102912-0/blib/lib/AnyEvent/Subprocess/Types.pm line 0
	eval {...} called at /mnt/cpan_build_dir/bar/AnyEvent-Subprocess-1.102912-0/blib/lib/AnyEvent/Subprocess/Types.pm line 0
	require AnyEvent/Subprocess.pm called at /mnt/cpan_build_dir/bar/AnyEvent-Subprocess-1.102912-0/blib/lib/AnyEvent/Subprocess/Easy.pm line 10
	AnyEvent::Subprocess::Easy::BEGIN() called at /mnt/cpan_build_dir/bar/AnyEvent-Subprocess-1.102912-0/blib/lib/AnyEvent/Subprocess/Types.pm line 0
	eval {...} called at /mnt/cpan_build_dir/bar/AnyEvent-Subprocess-1.102912-0/blib/lib/AnyEvent/Subprocess/Types.pm line 0
	require AnyEvent/Subprocess/Easy.pm called at t/system.t line 5
	main::BEGIN() called at /mnt/cpan_build_dir/bar/AnyEvent-Subprocess-1.102912-0/blib/lib/AnyEvent/Subprocess/Types.pm line 0
	eval {...} called at /mnt/cpan_build_dir/bar/AnyEvent-Subprocess-1.102912-0/blib/lib/AnyEvent/Subprocess/Types.pm line 0
t/system.t .................. ok
Passing a list of values to enum is deprecated. Enum values should be wrapped in an arrayref. at /mnt/cpan_build_dir/bar/AnyEvent-Subprocess-1.102912-0/blib/lib/AnyEvent/Subprocess/Types.pm line 42.
	require AnyEvent/Subprocess/Types.pm called at /mnt/cpan_build_dir/bar/AnyEvent-Subprocess-1.102912-0/blib/lib/AnyEvent/Subprocess/Job/Delegate/Handle.pm line 12
	AnyEvent::Subprocess::Job::Delegate::Handle::BEGIN() called at /mnt/cpan_build_dir/bar/AnyEvent-Subprocess-1.102912-0/blib/lib/AnyEvent/Subprocess/Types.pm line 0
	eval {...} called at /mnt/cpan_build_dir/bar/AnyEvent-Subprocess-1.102912-0/blib/lib/AnyEvent/Subprocess/Types.pm line 0
	require AnyEvent/Subprocess/Job/Delegate/Handle.pm called at /mnt/cpan_build_dir/bar/AnyEvent-Subprocess-1.102912-0/blib/lib/AnyEvent/Subprocess/DefaultDelegates.pm line 16
	AnyEvent::Subprocess::DefaultDelegates::BEGIN() called at /mnt/cpan_build_dir/bar/AnyEvent-Subprocess-1.102912-0/blib/lib/AnyEvent/Subprocess/Types.pm line 0
	eval {...} called at /mnt/cpan_build_dir/bar/AnyEvent-Subprocess-1.102912-0/blib/lib/AnyEvent/Subprocess/Types.pm line 0
	require AnyEvent/Subprocess/DefaultDelegates.pm called at /mnt/cpan_build_dir/bar/AnyEvent-Subprocess-1.102912-0/blib/lib/AnyEvent/Subprocess.pm line 11
	AnyEvent::Subprocess::BEGIN() called at /mnt/cpan_build_dir/bar/AnyEvent-Subprocess-1.102912-0/blib/lib/AnyEvent/Subprocess/Types.pm line 0
	eval {...} called at /mnt/cpan_build_dir/bar/AnyEvent-Subprocess-1.102912-0/blib/lib/AnyEvent/Subprocess/Types.pm line 0
	require AnyEvent/Subprocess.pm called at t/timeout.t line 5
	main::BEGIN() called at /mnt/cpan_build_dir/bar/AnyEvent-Subprocess-1.102912-0/blib/lib/AnyEvent/Subprocess/Types.pm line 0
	eval {...} called at /mnt/cpan_build_dir/bar/AnyEvent-Subprocess-1.102912-0/blib/lib/AnyEvent/Subprocess/Types.pm line 0
t/timeout.t ................. ok
Passing a list of values to enum is deprecated. Enum values should be wrapped in an arrayref. at /mnt/cpan_build_dir/bar/AnyEvent-Subprocess-1.102912-0/blib/lib/AnyEvent/Subprocess/Types.pm line 42.
	require AnyEvent/Subprocess/Types.pm called at /mnt/cpan_build_dir/bar/AnyEvent-Subprocess-1.102912-0/blib/lib/AnyEvent/Subprocess/Job/Delegate/Handle.pm line 12
	AnyEvent::Subprocess::Job::Delegate::Handle::BEGIN() called at /mnt/cpan_build_dir/bar/AnyEvent-Subprocess-1.102912-0/blib/lib/AnyEvent/Subprocess/Types.pm line 0
	eval {...} called at /mnt/cpan_build_dir/bar/AnyEvent-Subprocess-1.102912-0/blib/lib/AnyEvent/Subprocess/Types.pm line 0
	require AnyEvent/Subprocess/Job/Delegate/Handle.pm called at /mnt/cpan_build_dir/bar/AnyEvent-Subprocess-1.102912-0/blib/lib/AnyEvent/Subprocess/DefaultDelegates.pm line 16
	AnyEvent::Subprocess::DefaultDelegates::BEGIN() called at /mnt/cpan_build_dir/bar/AnyEvent-Subprocess-1.102912-0/blib/lib/AnyEvent/Subprocess/Types.pm line 0
	eval {...} called at /mnt/cpan_build_dir/bar/AnyEvent-Subprocess-1.102912-0/blib/lib/AnyEvent/Subprocess/Types.pm line 0
	require AnyEvent/Subprocess/DefaultDelegates.pm called at /mnt/cpan_build_dir/bar/AnyEvent-Subprocess-1.102912-0/blib/lib/AnyEvent/Subprocess.pm line 11
	AnyEvent::Subprocess::BEGIN() called at /mnt/cpan_build_dir/bar/AnyEvent-Subprocess-1.102912-0/blib/lib/AnyEvent/Subprocess/Types.pm line 0
	eval {...} called at /mnt/cpan_build_dir/bar/AnyEvent-Subprocess-1.102912-0/blib/lib/AnyEvent/Subprocess/Types.pm line 0
	require AnyEvent/Subprocess.pm called at t/trivial.t line 4
	main::BEGIN() called at /mnt/cpan_build_dir/bar/AnyEvent-Subprocess-1.102912-0/blib/lib/AnyEvent/Subprocess/Types.pm line 0
	eval {...} called at /mnt/cpan_build_dir/bar/AnyEvent-Subprocess-1.102912-0/blib/lib/AnyEvent/Subprocess/Types.pm line 0
t/trivial.t ................. ok
Passing a list of values to enum is deprecated. Enum values should be wrapped in an arrayref. at /mnt/cpan_build_dir/bar/AnyEvent-Subprocess-1.102912-0/blib/lib/AnyEvent/Subprocess/Types.pm line 42.
	require AnyEvent/Subprocess/Types.pm called at /mnt/cpan_build_dir/bar/AnyEvent-Subprocess-1.102912-0/blib/lib/AnyEvent/Subprocess/Job/Delegate/Handle.pm line 12
	AnyEvent::Subprocess::Job::Delegate::Handle::BEGIN() called at /mnt/cpan_build_dir/bar/AnyEvent-Subprocess-1.102912-0/blib/lib/AnyEvent/Subprocess/Types.pm line 0
	eval {...} called at /mnt/cpan_build_dir/bar/AnyEvent-Subprocess-1.102912-0/blib/lib/AnyEvent/Subprocess/Types.pm line 0
	require AnyEvent/Subprocess/Job/Delegate/Handle.pm called at /mnt/cpan_build_dir/bar/AnyEvent-Subprocess-1.102912-0/blib/lib/AnyEvent/Subprocess/DefaultDelegates.pm line 16
	AnyEvent::Subprocess::DefaultDelegates::BEGIN() called at /mnt/cpan_build_dir/bar/AnyEvent-Subprocess-1.102912-0/blib/lib/AnyEvent/Subprocess/Types.pm line 0
	eval {...} called at /mnt/cpan_build_dir/bar/AnyEvent-Subprocess-1.102912-0/blib/lib/AnyEvent/Subprocess/Types.pm line 0
	require AnyEvent/Subprocess/DefaultDelegates.pm called at /mnt/cpan_build_dir/bar/AnyEvent-Subprocess-1.102912-0/blib/lib/AnyEvent/Subprocess.pm line 11
	AnyEvent::Subprocess::BEGIN() called at /mnt/cpan_build_dir/bar/AnyEvent-Subprocess-1.102912-0/blib/lib/AnyEvent/Subprocess/Types.pm line 0
	eval {...} called at /mnt/cpan_build_dir/bar/AnyEvent-Subprocess-1.102912-0/blib/lib/AnyEvent/Subprocess/Types.pm line 0
	require AnyEvent/Subprocess.pm called at t/userhooks.t line 5
	main::BEGIN() called at /mnt/cpan_build_dir/bar/AnyEvent-Subprocess-1.102912-0/blib/lib/AnyEvent/Subprocess/Types.pm line 0
	eval {...} called at /mnt/cpan_build_dir/bar/AnyEvent-Subprocess-1.102912-0/blib/lib/AnyEvent/Subprocess/Types.pm line 0
t/userhooks.t ............... ok
Passing a list of values to enum is deprecated. Enum values should be wrapped in an arrayref. at /mnt/cpan_build_dir/bar/AnyEvent-Subprocess-1.102912-0/blib/lib/AnyEvent/Subprocess/Types.pm line 42.
	require AnyEvent/Subprocess/Types.pm called at /mnt/cpan_build_dir/bar/AnyEvent-Subprocess-1.102912-0/blib/lib/AnyEvent/Subprocess/Job/Delegate/Handle.pm line 12
	AnyEvent::Subprocess::Job::Delegate::Handle::BEGIN() called at /mnt/cpan_build_dir/bar/AnyEvent-Subprocess-1.102912-0/blib/lib/AnyEvent/Subprocess/Types.pm line 0
	eval {...} called at /mnt/cpan_build_dir/bar/AnyEvent-Subprocess-1.102912-0/blib/lib/AnyEvent/Subprocess/Types.pm line 0
	require AnyEvent/Subprocess/Job/Delegate/Handle.pm called at /mnt/cpan_build_dir/bar/AnyEvent-Subprocess-1.102912-0/blib/lib/AnyEvent/Subprocess/DefaultDelegates.pm line 16
	AnyEvent::Subprocess::DefaultDelegates::BEGIN() called at /mnt/cpan_build_dir/bar/AnyEvent-Subprocess-1.102912-0/blib/lib/AnyEvent/Subprocess/Types.pm line 0
	eval {...} called at /mnt/cpan_build_dir/bar/AnyEvent-Subprocess-1.102912-0/blib/lib/AnyEvent/Subprocess/Types.pm line 0
	require AnyEvent/Subprocess/DefaultDelegates.pm called at /mnt/cpan_build_dir/bar/AnyEvent-Subprocess-1.102912-0/blib/lib/AnyEvent/Subprocess.pm line 11
	AnyEvent::Subprocess::BEGIN() called at /mnt/cpan_build_dir/bar/AnyEvent-Subprocess-1.102912-0/blib/lib/AnyEvent/Subprocess/Types.pm line 0
	eval {...} called at /mnt/cpan_build_dir/bar/AnyEvent-Subprocess-1.102912-0/blib/lib/AnyEvent/Subprocess/Types.pm line 0
	require AnyEvent/Subprocess.pm called at t/watchers-are-destroyed.t line 7
	main::BEGIN() called at /mnt/cpan_build_dir/bar/AnyEvent-Subprocess-1.102912-0/blib/lib/AnyEvent/Subprocess/Types.pm line 0
	eval {...} called at /mnt/cpan_build_dir/bar/AnyEvent-Subprocess-1.102912-0/blib/lib/AnyEvent/Subprocess/Types.pm line 0
t/watchers-are-destroyed.t .. ok
All tests successful.

Test Summary Report
-------------------
t/negative-one.t          (Wstat: 0 Tests: 5 Failed: 0)
  TODO passed:   1
Files=22, Tests=116, 32 wallclock secs ( 0.14 usr  0.14 sys + 18.83 cusr  5.38 csys = 24.49 CPU)
Result: PASS

------------------------------
PREREQUISITES
------------------------------

Prerequisite modules loaded:

requires:

    Module                      Need Have    
    --------------------------- ---- --------
    AnyEvent                    0    7.14    
    AnyEvent::Handle            0    7.14    
    AnyEvent::Util              0    7.14    
    Carp                        0    1.40    
    EV                          4.0  4.22    
    Event::Join                 0.05 0.06    
    IO::Pty                     0    1.12    
    JSON                        2    2.97000 
    Moose                       1.15 2.2008  
    Moose::Role                 0    2.2008  
    MooseX::Clone               0    0.06    
    MooseX::Role::Parameterized 0    1.10    
    MooseX::StrictConstructor   0    0.21    
    MooseX::Types               0    0.50    
    MooseX::Types::Moose        0    0.50    
    MooseX::Types::Signal       0    1.101932
    namespace::autoclean        0    0.28    
    namespace::clean            0    0.27    
    POSIX                       0    1.65_01 
    Sub::Exporter               0    0.987   
    Try::Tiny                   0    0.28    

build_requires:

    Module                      Need Have    
    --------------------------- ---- --------
    ok                          0    1.302116
    Scalar::Util                0    1.49    
    Test::Exception             0    0.43    
    Test::More                  0    1.302116

configure_requires:

    Module                      Need Have    
    --------------------------- ---- --------
    ExtUtils::MakeMaker         6.31 7.31_05 


------------------------------
ENVIRONMENT AND OTHER CONTEXT
------------------------------

Environment variables:

    AUTOMATED_TESTING = 1
    PATH = /home/bar/perl5/perlbrew/bin:/home/bar/perl5/perlbrew/perls/perl-5.24.3/bin:/home/bar/bin:/sbin:/usr/sbin:/bin:/usr/bin:/usr/X11R6/bin:/usr/local/sbin:/usr/local/bin
    PERL5LIB = 
    PERL5OPT = 
    PERL5_CPANPLUS_IS_RUNNING = 37077
    PERL5_CPAN_IS_RUNNING = 37077
    PERL5_CPAN_IS_RUNNING_IN_RECURSION = 33141,37077
    PERLBREW_BASHRC_VERSION = 0.80
    PERLBREW_HOME = /home/bar/.perlbrew
    PERLBREW_MANPATH = /home/bar/perl5/perlbrew/perls/perl-5.24.3/man
    PERLBREW_PATH = /home/bar/perl5/perlbrew/bin:/home/bar/perl5/perlbrew/perls/perl-5.24.3/bin
    PERLBREW_PERL = perl-5.24.3
    PERLBREW_ROOT = /home/bar/perl5/perlbrew
    PERLBREW_VERSION = 0.80
    PERL_CR_SMOKER_CURRENT = AI-MicroStructure-0.20
    PERL_EXTUTILS_AUTOINSTALL = --defaultdeps
    PERL_MM_USE_DEFAULT = 1
    PERL_USE_UNSAFE_INC = 1
    SHELL = /usr/local/bin/bash
    TERM = xterm

Perl special variables (and OS-specific diagnostics, for MSWin32):

    $^X = /home/bar/perl5/perlbrew/perls/perl-5.24.3/bin/perl
    $UID/$EUID = 1002 / 1002
    $GID = 1002 1002 1001
    $EGID = 1002 1002 1001

Perl module toolchain versions installed:

    Module              Have    
    ------------------- --------
    CPAN                2.20    
    CPAN::Meta          2.150010
    Cwd                 3.62    
    ExtUtils::CBuilder  0.280230
    ExtUtils::Command   7.31_05 
    ExtUtils::Install   2.14    
    ExtUtils::MakeMaker 7.31_05 
    ExtUtils::Manifest  1.70    
    ExtUtils::ParseXS   3.35    
    File::Spec          3.62    
    JSON                2.97000 
    JSON::PP            2.97000 
    Module::Build       0.4224  
    Module::Signature   0.81    
    Parse::CPAN::Meta   2.150010
    Test::Harness       3.39    
    Test::More          1.302116
    YAML                1.24    
    YAML::Syck          1.30    
    version             0.9918  


--

Summary of my perl5 (revision 5 version 24 subversion 3) configuration:
   
  Platform:
    osname=openbsd, osvers=6.1, archname=OpenBSD.amd64-openbsd
    uname='openbsd cpansmoker.my.domain 6.1 generic.mp#20 amd64 '
    config_args='-de -Dprefix=/home/bar/perl5/perlbrew/perls/perl-5.24.3 -Aeval:scriptdir=/home/bar/perl5/perlbrew/perls/perl-5.24.3/bin'
    hint=recommended, useposix=true, d_sigaction=define
    useithreads=undef, usemultiplicity=undef
    use64bitint=define, use64bitall=define, uselongdouble=undef
    usemymalloc=n, bincompat5005=undef
  Compiler:
    cc='cc', ccflags ='-fno-strict-aliasing -pipe -fstack-protector-strong -I/usr/local/include -D_FORTIFY_SOURCE=2',
    optimize='-O2',
    cppflags='-fno-strict-aliasing -pipe -fstack-protector-strong -I/usr/local/include'
    ccversion='', gccversion='4.2.1 20070719 ', gccosandvers='openbsd6.1'
    intsize=4, longsize=8, ptrsize=8, doublesize=8, byteorder=12345678, doublekind=3
    d_longlong=define, longlongsize=8, d_longdbl=define, longdblsize=16, longdblkind=3
    ivtype='long', ivsize=8, nvtype='double', nvsize=8, Off_t='off_t', lseeksize=8
    alignbytes=8, prototype=define
  Linker and Libraries:
    ld='cc', ldflags ='-Wl,-E  -fstack-protector-strong -L/usr/local/lib'
    libpth=/usr/lib /usr/local/lib
    libs=-lpthread -lm -lutil -lc
    perllibs=-lpthread -lm -lutil -lc
    libc=/usr/lib/libc.so.89.3, so=so, useshrplib=false, libperl=libperl.a
    gnulibc_version=''
  Dynamic Linking:
    dlsrc=dl_dlopen.xs, dlext=so, d_dlsymun=undef, ccdlflags=' '
    cccdlflags='-DPIC -fPIC ', lddlflags='-shared -fPIC  -L/usr/local/lib -fstack-protector-strong'


Characteristics of this binary (from libperl): 
  Compile-time options: HAS_TIMES PERLIO_LAYERS PERL_COPY_ON_WRITE
                        PERL_DONT_CREATE_GVSV
                        PERL_HASH_FUNC_ONE_AT_A_TIME_HARD PERL_MALLOC_WRAP
                        PERL_PRESERVE_IVUV USE_64_BIT_ALL USE_64_BIT_INT
                        USE_LARGE_FILES USE_LOCALE USE_LOCALE_COLLATE
                        USE_LOCALE_CTYPE USE_LOCALE_NUMERIC USE_LOCALE_TIME
                        USE_PERLIO USE_PERL_ATOF
  Locally applied patches:
	Devel::PatchPerl 1.48
  Built under openbsd
  Compiled at Nov 10 2017 21:17:21
  %ENV:
    PERL5LIB=""
    PERL5OPT=""
    PERL5_CPANPLUS_IS_RUNNING="37077"
    PERL5_CPAN_IS_RUNNING="37077"
    PERL5_CPAN_IS_RUNNING_IN_RECURSION="33141,37077"
    PERLBREW_BASHRC_VERSION="0.80"
    PERLBREW_HOME="/home/bar/.perlbrew"
    PERLBREW_MANPATH="/home/bar/perl5/perlbrew/perls/perl-5.24.3/man"
    PERLBREW_PATH="/home/bar/perl5/perlbrew/bin:/home/bar/perl5/perlbrew/perls/perl-5.24.3/bin"
    PERLBREW_PERL="perl-5.24.3"
    PERLBREW_ROOT="/home/bar/perl5/perlbrew"
    PERLBREW_VERSION="0.80"
    PERL_CR_SMOKER_CURRENT="AI-MicroStructure-0.20"
    PERL_EXTUTILS_AUTOINSTALL="--defaultdeps"
    PERL_MM_USE_DEFAULT="1"
    PERL_USE_UNSAFE_INC="1"
  @INC:
    /home/bar/perl5/perlbrew/perls/perl-5.24.3/lib/site_perl/5.24.3/OpenBSD.amd64-openbsd
    /home/bar/perl5/perlbrew/perls/perl-5.24.3/lib/site_perl/5.24.3
    /home/bar/perl5/perlbrew/perls/perl-5.24.3/lib/5.24.3/OpenBSD.amd64-openbsd
    /home/bar/perl5/perlbrew/perls/perl-5.24.3/lib/5.24.3
    .