String-Random v0.30 Perl 5 v5.26.2 OpenBSD.amd64-openbsd
- Status
- Pass
- From
- Nigel Horne
- Dist
-
String-Random v0.30
- Platform
- Perl 5 v5.26.2 OpenBSD.amd64-openbsd
- Date
- 2018-07-01 20:58:11
- ID
- 7730ef76-7d71-11e8-8fb1-ef5133556b3f
This distribution has been tested as part of the CPAN Testers
project, supporting the Perl programming language. See
http://wiki.cpantesters.org/ for more information or email
questions to cpan-testers-discuss@perl.org
--
Dear Shlomi Fish,
This is a computer-generated report for String-Random-0.30
on perl 5.26.2, created by CPAN-Reporter-1.2018.
Thank you for uploading your work to CPAN. Congratulations!
All tests were successful.
Sections of this report:
* Tester comments
* Program output
* Prerequisites
* Environment and other context
------------------------------
TESTER COMMENTS
------------------------------
Additional comments from tester:
this report is from an automated smoke testing program
and was not reviewed by a human for accuracy
------------------------------
PROGRAM OUTPUT
------------------------------
Output from './Build test':
t/00-compile.t ........ ok
t/01_use.t ............ ok
t/02_new.t ............ ok
t/03_random_string.t .. ok
t/04_randpattern.t .... ok
t/05_randregex.t ...... ok
t/06_random_regex.t ... ok
t/07_rand_gen.t ....... ok
All tests successful.
Files=8, Tests=165, 8 wallclock secs ( 0.22 usr 0.20 sys + 2.91 cusr 1.04 csys = 4.37 CPU)
Result: PASS
------------------------------
PREREQUISITES
------------------------------
Prerequisite modules loaded:
requires:
Module Need Have
------------- --------- --------
Carp 0 1.42
Exporter 0 5.72
parent 0 0.236
perl 5.006_001 5.026002
strict 0 1.11
warnings 0 1.37
build_requires:
Module Need Have
------------- --------- --------
File::Spec 0 3.67
IO::Handle 0 1.36
IPC::Open3 0 1.20
Module::Build 0.28 0.4224
Test::More 0.88 1.302136
vars 0 1.03
configure_requires:
Module Need Have
------------- --------- --------
Module::Build 0.28 0.4224
------------------------------
ENVIRONMENT AND OTHER CONTEXT
------------------------------
Environment variables:
AUTOMATED_TESTING = 1
PATH = /home/njh/perl5/perlbrew/bin:/home/njh/perl5/perlbrew/perls/perl-5.26.2/bin:/usr/bin:/bin:/usr/sbin:/sbin:/usr/X11R6/bin:/usr/local/bin:/usr/local/sbin:src/njh/smoker/bin
PERL5LIB = /tmp/build/ExtUtils-PkgConfig-1.16-1/blib/arch:/tmp/build/ExtUtils-PkgConfig-1.16-1/blib/lib:/tmp/build/Class-Accessor-Grouped-0.10014-2/blib/arch:/tmp/build/Class-Accessor-Grouped-0.10014-2/blib/lib
PERL5OPT =
PERL5_CPANPLUS_IS_RUNNING = 71029
PERL5_CPAN_IS_RUNNING = 71029
PERLBREW_HOME = /home/njh/.perlbrew
PERLBREW_MANPATH = /home/njh/perl5/perlbrew/perls/perl-5.26.2/man
PERLBREW_PATH = /home/njh/perl5/perlbrew/bin:/home/njh/perl5/perlbrew/perls/perl-5.26.2/bin
PERLBREW_PERL = perl-5.26.2
PERLBREW_ROOT = /home/njh/perl5/perlbrew
PERLBREW_SHELLRC_VERSION = 0.82
PERLBREW_VERSION = 0.82
PERL_USE_UNSAFE_INC = 1
SHELL = /bin/sh
TMPDIR = /tmp/testwrapper.39715
Perl special variables (and OS-specific diagnostics, for MSWin32):
$^X = /home/njh/perl5/perlbrew/perls/perl-5.26.2/bin/perl
$UID/$EUID = 1000 / 1000
$GID = 1000 1000 0
$EGID = 1000 1000 0
Perl module toolchain versions installed:
Module Have
------------------- ----------
CPAN 2.18
CPAN::Meta 2.150010
Cwd 3.67
ExtUtils::CBuilder 0.280225
ExtUtils::Command 7.34
ExtUtils::Install 2.06
ExtUtils::MakeMaker 7.34
ExtUtils::Manifest 1.70
ExtUtils::ParseXS 3.34
File::Spec 3.67
JSON 2.97001
JSON::PP 2.27400_02
Module::Build 0.4224
Module::Signature n/a
Parse::CPAN::Meta 2.150010
Test::Harness 3.38
Test::More 1.302136
YAML 1.26
YAML::Syck 1.30
version 0.9917
--
Summary of my perl5 (revision 5 version 26 subversion 2) configuration:
Platform:
osname=openbsd
osvers=6.2
archname=OpenBSD.amd64-openbsd
uname='openbsd netgate1.bandsman.co.uk 6.2 generic.mp#5 amd64 '
config_args='-de -Dprefix=/home/njh/perl5/perlbrew/perls/perl-5.26.2 -Aeval:scriptdir=/home/njh/perl5/perlbrew/perls/perl-5.26.2/bin'
hint=recommended
useposix=true
d_sigaction=define
useithreads=undef
usemultiplicity=undef
use64bitint=define
use64bitall=define
uselongdouble=undef
usemymalloc=n
default_inc_excludes_dot=define
bincompat5005=undef
Compiler:
cc='cc'
ccflags ='-fno-strict-aliasing -pipe -fstack-protector-strong -I/usr/local/include -D_FORTIFY_SOURCE=2'
optimize='-O2'
cppflags='-fno-strict-aliasing -pipe -fstack-protector-strong -I/usr/local/include'
ccversion=''
gccversion='4.2.1 Compatible OpenBSD Clang 4.0.0 (tags/RELEASE_400/final)'
gccosandvers=''
intsize=4
longsize=8
ptrsize=8
doublesize=8
byteorder=12345678
doublekind=3
d_longlong=define
longlongsize=8
d_longdbl=define
longdblsize=16
longdblkind=3
ivtype='long'
ivsize=8
nvtype='double'
nvsize=8
Off_t='off_t'
lseeksize=8
alignbytes=8
prototype=define
Linker and Libraries:
ld='cc'
ldflags ='-Wl,-E -fstack-protector-strong -L/usr/local/lib'
libpth=/usr/lib /usr/local/lib
libs=-lpthread -lm -lutil -lc
perllibs=-lpthread -lm -lutil -lc
libc=/usr/lib/libc.so.90.0
so=so
useshrplib=false
libperl=libperl.a
gnulibc_version=''
Dynamic Linking:
dlsrc=dl_dlopen.xs
dlext=so
d_dlsymun=undef
ccdlflags=' '
cccdlflags='-DPIC -fPIC '
lddlflags='-shared -fPIC -L/usr/local/lib -fstack-protector-strong'
Characteristics of this binary (from libperl):
Compile-time options:
HAS_TIMES
PERLIO_LAYERS
PERL_COPY_ON_WRITE
PERL_DONT_CREATE_GVSV
PERL_MALLOC_WRAP
PERL_OP_PARENT
PERL_PRESERVE_IVUV
USE_64_BIT_ALL
USE_64_BIT_INT
USE_LARGE_FILES
USE_LOCALE
USE_LOCALE_COLLATE
USE_LOCALE_CTYPE
USE_LOCALE_NUMERIC
USE_LOCALE_TIME
USE_PERLIO
USE_PERL_ATOF
Locally applied patches:
Devel::PatchPerl 1.48
Built under openbsd
Compiled at Apr 23 2018 02:35:24
%ENV:
PERL5LIB="/tmp/build/ExtUtils-PkgConfig-1.16-1/blib/arch:/tmp/build/ExtUtils-PkgConfig-1.16-1/blib/lib:/tmp/build/Class-Accessor-Grouped-0.10014-2/blib/arch:/tmp/build/Class-Accessor-Grouped-0.10014-2/blib/lib"
PERL5OPT=""
PERL5_CPANPLUS_IS_RUNNING="71029"
PERL5_CPAN_IS_RUNNING="71029"
PERLBREW_HOME="/home/njh/.perlbrew"
PERLBREW_MANPATH="/home/njh/perl5/perlbrew/perls/perl-5.26.2/man"
PERLBREW_PATH="/home/njh/perl5/perlbrew/bin:/home/njh/perl5/perlbrew/perls/perl-5.26.2/bin"
PERLBREW_PERL="perl-5.26.2"
PERLBREW_ROOT="/home/njh/perl5/perlbrew"
PERLBREW_SHELLRC_VERSION="0.82"
PERLBREW_VERSION="0.82"
PERL_USE_UNSAFE_INC="1"
@INC:
/tmp/build/ExtUtils-PkgConfig-1.16-1/blib/arch
/tmp/build/ExtUtils-PkgConfig-1.16-1/blib/lib
/tmp/build/Class-Accessor-Grouped-0.10014-2/blib/arch
/tmp/build/Class-Accessor-Grouped-0.10014-2/blib/lib
/home/njh/perl5/perlbrew/perls/perl-5.26.2/lib/site_perl/5.26.2/OpenBSD.amd64-openbsd
/home/njh/perl5/perlbrew/perls/perl-5.26.2/lib/site_perl/5.26.2
/home/njh/perl5/perlbrew/perls/perl-5.26.2/lib/5.26.2/OpenBSD.amd64-openbsd
/home/njh/perl5/perlbrew/perls/perl-5.26.2/lib/5.26.2
.