HTML-Rebase v0.05 Perl 5 v5.30.1 OpenBSD.amd64-openbsd-thread-multi
- Status
- Pass
- From
- Alceu Rodrigues de Freitas Junior
- Dist
-
HTML-Rebase v0.05
- Platform
- Perl 5 v5.30.1 OpenBSD.amd64-openbsd-thread-multi
- Date
- 2019-12-08 10:21:15
- ID
- 773b2b50-19a4-11ea-972b-ef706694f557
This distribution has been tested as part of the CPAN Testers
project, supporting the Perl programming language. See
http://wiki.cpantesters.org/ for more information or email
questions to cpan-testers-discuss@perl.org
--
Dear Max Maischein,
This is a computer-generated report for HTML-Rebase-0.05
on perl 5.30.1, created by CPAN-Reporter-1.2018.
Thank you for uploading your work to CPAN. Congratulations!
All tests were successful.
Sections of this report:
* Tester comments
* Program output
* Prerequisites
* Environment and other context
------------------------------
TESTER COMMENTS
------------------------------
Additional comments from tester:
this report is from an automated smoke testing program
and was not reviewed by a human for accuracy
------------------------------
PROGRAM OUTPUT
------------------------------
Output from '/usr/bin/make test':
PERL_DL_NONLAZY=1 "/home/goku/perl5/perlbrew/perls/perl-5.30.1/bin/perl" "-MExtUtils::Command::MM" "-MTest::Harness" "-e" "undef *Test::Harness::Switches; test_harness(0, 'blib/lib', 'blib/arch')" t/00-load.t t/01-synopsis.t t/02-quotes.t t/03-base.t t/04-case.t t/05-rebase-css.t t/06-relative-url.t
# Testing HTML::Rebase 0.05, Perl 5.030001
# Carp 1.50
# Config 5.030001
# Cwd 3.78
# Encode 3.01
# Encode::Alias 2.24
# Encode::Config 2.05
# Encode::Encoding 2.08
# Encode::MIME::Name 1.03
# Exporter 5.73
# Exporter::Heavy 5.73
# ExtUtils::Liblist 7.38
# ExtUtils::Liblist::Kid 7.38
# ExtUtils::MM 7.38
# ExtUtils::MM_Any 7.38
# ExtUtils::MM_Unix 7.38
# ExtUtils::MY 7.38
# ExtUtils::MakeMaker 7.38
# ExtUtils::MakeMaker::Config 7.38
# ExtUtils::MakeMaker::Locale 7.38
# ExtUtils::MakeMaker::version 7.38
# Fcntl 1.13
# File::Basename 2.85
# File::Glob 1.32
# File::Path 2.16
# File::Spec 3.78
# File::Spec::Unix 3.78
# HTML::Rebase 0.05
# I18N::Langinfo 0.18
# List::Util 1.53
# POSIX 1.88
# PerlIO 1.10
# Scalar::Util 1.53
# Storable 3.15
# Test::Builder 1.302170
# Test::Builder::Formatter 1.302170
# Test::Builder::Module 1.302170
# Test::Builder::TodoDiag 1.302170
# Test::More 1.302170
# Test2::API 1.302170
# Test2::API::Context 1.302170
# Test2::API::Instance 1.302170
# Test2::API::Stack 1.302170
# Test2::Event 1.302170
# Test2::Event::Bail 1.302170
# Test2::Event::Diag 1.302170
# Test2::Event::Exception 1.302170
# Test2::Event::Fail 1.302170
# Test2::Event::Note 1.302170
# Test2::Event::Ok 1.302170
# Test2::Event::Pass 1.302170
# Test2::Event::Plan 1.302170
# Test2::Event::Skip 1.302170
# Test2::Event::Subtest 1.302170
# Test2::Event::V2 1.302170
# Test2::Event::Waiting 1.302170
# Test2::EventFacet 1.302170
# Test2::EventFacet::About 1.302170
# Test2::EventFacet::Amnesty 1.302170
# Test2::EventFacet::Assert 1.302170
# Test2::EventFacet::Control 1.302170
# Test2::EventFacet::Error 1.302170
# Test2::EventFacet::Hub 1.302170
# Test2::EventFacet::Info 1.302170
# Test2::EventFacet::Meta 1.302170
# Test2::EventFacet::Parent 1.302170
# Test2::EventFacet::Plan 1.302170
# Test2::EventFacet::Trace 1.302170
# Test2::Formatter 1.302170
# Test2::Formatter::TAP 1.302170
# Test2::Hub 1.302170
# Test2::Hub::Interceptor 1.302170
# Test2::Hub::Interceptor::Terminator 1.302170
# Test2::Hub::Subtest 1.302170
# Test2::Util 1.302170
# Test2::Util::ExternalMeta 1.302170
# Test2::Util::Facets2Legacy 1.302170
# Test2::Util::HashBase 1.302170
# Test2::Util::Trace 1.302170
# Tie::Hash 1.05
# URI 1.76
# URI::Escape 3.31
# URI::URL 5.04
# URI::WithBase 2.20
# XSLoader 0.30
# base 2.27
# bytes 1.07
# constant 1.33
# mro 1.22
# overload 1.30
# overloading 0.02
# parent 0.237
# re 0.37
# strict 1.11
# vars 1.05
# version 0.9924
# version::regex 0.9924
# warnings 1.44
# warnings::register 1.04
t/00-load.t .......... ok
t/01-synopsis.t ...... ok
t/02-quotes.t ........ ok
t/03-base.t .......... ok
t/04-case.t .......... ok
t/05-rebase-css.t .... ok
t/06-relative-url.t .. ok
All tests successful.
Files=7, Tests=12, 1 wallclock secs ( 0.04 usr 0.05 sys + 0.76 cusr 0.36 csys = 1.21 CPU)
Result: PASS
------------------------------
PREREQUISITES
------------------------------
Prerequisite modules loaded:
requires:
Module Need Have
------------------- ----- --------
Carp 0 1.50
Exporter 5 5.73
perl 5.006 5.030001
URI::URL 0 5.04
URI::WithBase 0 2.20
build_requires:
Module Need Have
------------------- ----- --------
ExtUtils::MakeMaker 0 7.38
Test::More 0 1.302170
configure_requires:
Module Need Have
------------------- ----- --------
ExtUtils::MakeMaker 0 7.38
------------------------------
ENVIRONMENT AND OTHER CONTEXT
------------------------------
Environment variables:
AUTOMATED_TESTING = 1
DBD_MYSQL_TESTDB = test
DBD_MYSQL_TESTHOST = localhost
DBD_MYSQL_TESTPASSWORD =
DBD_MYSQL_TESTPORT = 3306
DBD_MYSQL_TESTUSER = goku
EXTENDED_TESTING = 1
PATH = /home/goku/perl5/perlbrew/bin:/home/goku/perl5/perlbrew/perls/perl-5.30.1/bin:/home/goku/bin:/usr/bin:/bin:/usr/sbin:/sbin:/usr/X11R6/bin:/usr/local/bin:/usr/local/sbin
PERL5LIB =
PERL5OPT =
PERL5_CPANPLUS_IS_RUNNING = 92
PERL5_CPAN_IS_RUNNING = 92
PERL5_CPAN_IS_RUNNING_IN_RECURSION = 51981,92
PERLBREW_HOME = /home/goku/.perlbrew
PERLBREW_MANPATH = /home/goku/perl5/perlbrew/perls/perl-5.30.1/man
PERLBREW_PATH = /home/goku/perl5/perlbrew/bin:/home/goku/perl5/perlbrew/perls/perl-5.30.1/bin
PERLBREW_PERL = perl-5.30.1
PERLBREW_ROOT = /home/goku/perl5/perlbrew
PERLBREW_SHELLRC_VERSION = 0.87
PERLBREW_VERSION = 0.87
PERL_CR_SMOKER_CURRENT = HTML-Rebase-0.05
PERL_EXTUTILS_AUTOINSTALL = --defaultdeps
PERL_MM_USE_DEFAULT = 1
PERL_USE_UNSAFE_INC = 1
SHELL = /usr/local/bin/bash
TERM = xterm-256color
Perl special variables (and OS-specific diagnostics, for MSWin32):
$^X = /home/goku/perl5/perlbrew/perls/perl-5.30.1/bin/perl
$UID/$EUID = 1001 / 1001
$GID = 999 999 1001
$EGID = 999 999 1001
Perl module toolchain versions installed:
Module Have
------------------- --------
CPAN 2.27
CPAN::Meta 2.150010
Cwd 3.78
ExtUtils::CBuilder 0.280231
ExtUtils::Command 7.38
ExtUtils::Install 2.14
ExtUtils::MakeMaker 7.38
ExtUtils::Manifest 1.72
ExtUtils::ParseXS 3.40
File::Spec 3.78
JSON 4.02
JSON::PP 4.04
Module::Build 0.4229
Module::Signature n/a
Parse::CPAN::Meta 2.150010
Test::Harness 3.42
Test::More 1.302170
YAML 1.29
YAML::Syck n/a
version 0.9924
--
Summary of my perl5 (revision 5 version 30 subversion 1) configuration:
Platform:
osname=openbsd
osvers=6.6
archname=OpenBSD.amd64-openbsd-thread-multi
uname='openbsd cpan-smoker-openbsd 6.6 generic.mp#372 amd64 '
config_args='-de -Dprefix=/home/goku/perl5/perlbrew/perls/perl-5.30.1 -Dman1dir=none -Dman3dir=none -Duse64bitint -Duse64bitall -Dusethreads -Dusemultiplicity -Aeval:scriptdir=/home/goku/perl5/perlbrew/perls/perl-5.30.1/bin'
hint=recommended
useposix=true
d_sigaction=define
useithreads=define
usemultiplicity=define
use64bitint=define
use64bitall=define
uselongdouble=undef
usemymalloc=n
default_inc_excludes_dot=define
bincompat5005=undef
Compiler:
cc='cc'
ccflags ='-pthread -fno-strict-aliasing -pipe -fstack-protector-strong -I/usr/local/include -D_FORTIFY_SOURCE=2'
optimize='-O2'
cppflags='-pthread -fno-strict-aliasing -pipe -fstack-protector-strong -I/usr/local/include'
ccversion=''
gccversion='4.2.1 Compatible OpenBSD Clang 8.0.1 (tags/RELEASE_801/final)'
gccosandvers=''
intsize=4
longsize=8
ptrsize=8
doublesize=8
byteorder=12345678
doublekind=3
d_longlong=define
longlongsize=8
d_longdbl=define
longdblsize=16
longdblkind=3
ivtype='long'
ivsize=8
nvtype='double'
nvsize=8
Off_t='off_t'
lseeksize=8
alignbytes=8
prototype=define
Linker and Libraries:
ld='cc'
ldflags ='-pthread -Wl,-E -fstack-protector-strong -L/usr/local/lib'
libpth=/usr/lib /usr/local/lib
libs=-lpthread -lm -lutil -lc
perllibs=-lpthread -lm -lutil -lc
libc=/usr/lib/libc.so.95.1
so=so
useshrplib=false
libperl=libperl.a
gnulibc_version=''
Dynamic Linking:
dlsrc=dl_dlopen.xs
dlext=so
d_dlsymun=undef
ccdlflags=' '
cccdlflags='-DPIC -fPIC '
lddlflags='-shared -fPIC -L/usr/local/lib -fstack-protector-strong'
Characteristics of this binary (from libperl):
Compile-time options:
HAS_TIMES
MULTIPLICITY
PERLIO_LAYERS
PERL_COPY_ON_WRITE
PERL_DONT_CREATE_GVSV
PERL_IMPLICIT_CONTEXT
PERL_MALLOC_WRAP
PERL_OP_PARENT
PERL_PRESERVE_IVUV
USE_64_BIT_ALL
USE_64_BIT_INT
USE_ITHREADS
USE_LARGE_FILES
USE_LOCALE
USE_LOCALE_COLLATE
USE_LOCALE_CTYPE
USE_LOCALE_NUMERIC
USE_LOCALE_TIME
USE_PERLIO
USE_PERL_ATOF
USE_REENTRANT_API
Locally applied patches:
Devel::PatchPerl 1.80
Built under openbsd
Compiled at Nov 21 2019 11:57:41
%ENV:
PERL5LIB=""
PERL5OPT=""
PERL5_CPANPLUS_IS_RUNNING="92"
PERL5_CPAN_IS_RUNNING="92"
PERL5_CPAN_IS_RUNNING_IN_RECURSION="51981,92"
PERLBREW_HOME="/home/goku/.perlbrew"
PERLBREW_MANPATH="/home/goku/perl5/perlbrew/perls/perl-5.30.1/man"
PERLBREW_PATH="/home/goku/perl5/perlbrew/bin:/home/goku/perl5/perlbrew/perls/perl-5.30.1/bin"
PERLBREW_PERL="perl-5.30.1"
PERLBREW_ROOT="/home/goku/perl5/perlbrew"
PERLBREW_SHELLRC_VERSION="0.87"
PERLBREW_VERSION="0.87"
PERL_CR_SMOKER_CURRENT="HTML-Rebase-0.05"
PERL_EXTUTILS_AUTOINSTALL="--defaultdeps"
PERL_MM_USE_DEFAULT="1"
PERL_USE_UNSAFE_INC="1"
@INC:
/home/goku/perl5/perlbrew/perls/perl-5.30.1/lib/site_perl/5.30.1/OpenBSD.amd64-openbsd-thread-multi
/home/goku/perl5/perlbrew/perls/perl-5.30.1/lib/site_perl/5.30.1
/home/goku/perl5/perlbrew/perls/perl-5.30.1/lib/5.30.1/OpenBSD.amd64-openbsd-thread-multi
/home/goku/perl5/perlbrew/perls/perl-5.30.1/lib/5.30.1
.