Report for Dancer-Plugin-FontSubset-0.1.2

Back
From: metabase:user:320bfe00-2aae-11df-837a-5e0a49663a4f
Subject: PASS Dancer-Plugin-FontSubset-0.1.2 v5.26.0 RC1 GNU/Linux
Date: 2017-05-16T09:45:59Z

This distribution has been tested as part of the CPAN Testers
project, supporting the Perl programming language.  See
http://wiki.cpantesters.org/ for more information or email
questions to cpan-testers-discuss@perl.org


--
Dear Yanick Champoux,

This is a computer-generated report for Dancer-Plugin-FontSubset-0.1.2
on perl 5.26.0, created by CPAN-Reporter-1.2018.

Thank you for uploading your work to CPAN.  Congratulations!
All tests were successful.

Sections of this report:

    * Tester comments
    * Program output
    * Prerequisites
    * Environment and other context

------------------------------
TESTER COMMENTS
------------------------------

Additional comments from tester:

this report is from an automated smoke testing program
and was not reviewed by a human for accuracy

------------------------------
PROGRAM OUTPUT
------------------------------

Output from './Build test':

t/00-compile.t ................ ok
# 
# 
# Generated by Dist::Zilla::Plugin::ReportVersions::Tiny v1.08
# perl: 5.026000 (wanted v5.12.0) on linux from /home/sand/src/perl/repoperls/installed-perls/host/k93msid/v5.26.0-RC1/89ad/bin/perl
# 
# Dancer                                        => 1.3202     (want any version)
# Dancer::Plugin                                => 1.3202     (want any version)
# Dancer::Plugin::Cache::CHI                    => module not found. (want any version)
# Dancer::Test                                  => 1.3202     (want any version)
# File::Find                                    => 1.34       (want any version)
# File::Temp                                    => 0.2304     (want any version)
# Font::TTF::Font                               => 0.39       (want any version)
# Font::TTF::Scripts::Name                      => <undef>    (want any version)
# List::AllUtils                                => 0.14       (want any version)
# Module::Build                                 => 0.4223     (want 0.3601) 
# Moo                                           => 2.003002   (want any version)
# MooX::Singleton                               => 1.20       (want any version)
# Test::More                                    => 1.302085   (want 0.88)   
# strict                                        => 1.11       (want any version)
# version                                       => 0.9917     (want 0.9901) 
# warnings                                      => 1.37       (want any version)
# 
# Thanks for using my code.  I hope it works for you.
# If not, please try and include this output in the bug report.
# That will help me reproduce the issue and solve your problem.
# 
t/000-report-versions-tiny.t .. ok
t/basic.t ..................... ok
t/cache.t ..................... skipped: Dancer::Plugin::Cache::CHI required
All tests successful.
Files=4, Tests=7,  2 wallclock secs ( 0.01 usr  0.04 sys +  0.90 cusr  0.19 csys =  1.14 CPU)
Result: PASS

------------------------------
PREREQUISITES
------------------------------

Prerequisite modules loaded:

requires:

    Module                     Need    Have    
    -------------------------- ------- --------
    Dancer                     0       1.3202  
    Dancer::Plugin             0       1.3202  
    Font::TTF::Font            0       0.39    
    Font::TTF::Scripts::Name   0       0       
    List::AllUtils             0       0.14    
    Moo                        0       2.003002
    MooX::Singleton            0       1.20    
    perl                       v5.12.0 5.026000
    warnings                   0       1.37    

build_requires:

    Module                     Need    Have    
    -------------------------- ------- --------
  ! Dancer::Plugin::Cache::CHI 0       n/a     
    Dancer::Test               0       1.3202  
    File::Find                 0       1.34    
    File::Temp                 0       0.2304  
    Module::Build              0.3601  0.42_23 
    strict                     0       1.11    
    Test::More                 0.88    1.302085

configure_requires:

    Module                     Need    Have    
    -------------------------- ------- --------
    Module::Build              0.3601  0.42_23 


------------------------------
ENVIRONMENT AND OTHER CONTEXT
------------------------------

Environment variables:

    AUTOMATED_TESTING = 1
    LANG = en_US.UTF-8
    PATH = /home/sand/bin:/usr/local/bin:/usr/bin:/bin:/usr/games:/usr/local/perl/bin:/usr/X11/bin:/sbin:/usr/sbin
    PERL5LIB = 
    PERL5OPT = 
    PERL5_CPANPLUS_IS_RUNNING = 23281
    PERL5_CPAN_IS_RUNNING = 23281
    PERL_CANARY_STABILITY_NOPROMPT = 1
    PERL_MM_USE_DEFAULT = 1
    PERL_USE_UNSAFE_INC = 1
    SHELL = /usr/bin/zsh
    TERM = screen

Perl special variables (and OS-specific diagnostics, for MSWin32):

    $^X = /home/sand/src/perl/repoperls/installed-perls/host/k93msid/v5.26.0-RC1/89ad/bin/perl
    $UID/$EUID = 1005 / 1005
    $GID = 1005 1005
    $EGID = 1005 1005

Perl module toolchain versions installed:

    Module              Have    
    ------------------- --------
    CPAN                2.18    
    CPAN::Meta          2.150010
    Cwd                 3.67    
    ExtUtils::CBuilder  0.280225
    ExtUtils::Command   7.24    
    ExtUtils::Install   2.04    
    ExtUtils::MakeMaker 7.24    
    ExtUtils::Manifest  1.70    
    ExtUtils::ParseXS   3.34    
    File::Spec          3.67    
    JSON                2.90    
    JSON::PP            2.93    
    Module::Build       0.42_23 
    Module::Signature   0.81    
    Parse::CPAN::Meta   2.150010
    Test::Harness       3.39    
    Test::More          1.302085
    YAML                1.23    
    YAML::Syck          1.30    
    version             0.9917  


--

Summary of my perl5 (revision 5 version 26 subversion 0) configuration:
  Commit id: c2948cede0ea855128028a060fd05ca82187b290
  Platform:
    osname=linux
    osvers=4.9.0-2-amd64
    archname=x86_64-linux
    uname='linux k93msid 4.9.0-2-amd64 #1 smp debian 4.9.18-1 (2017-03-30) x86_64 gnulinux '
    config_args='-Dprefix=/home/sand/src/perl/repoperls/installed-perls/host/k93msid/v5.26.0-RC1/89ad -Dmyhostname=k93msid -Dinstallusrbinperl=n -Uversiononly -Dusedevel -des -Ui_db -Dlibswanted=cl pthread socket inet nsl gdbm dbm malloc dl ld sun m crypt sec util c cposix posix ucb BSD gdbm_compat -Uuseithreads -Uuselongdouble -DDEBUGGING=-g'
    hint=recommended
    useposix=true
    d_sigaction=define
    useithreads=undef
    usemultiplicity=undef
    use64bitint=define
    use64bitall=define
    uselongdouble=undef
    usemymalloc=n
    default_inc_excludes_dot=define
    bincompat5005=undef
  Compiler:
    cc='cc'
    ccflags ='-fwrapv -fno-strict-aliasing -pipe -fstack-protector-strong -I/usr/local/include -D_LARGEFILE_SOURCE -D_FILE_OFFSET_BITS=64'
    optimize='-O2 -g'
    cppflags='-fwrapv -fno-strict-aliasing -pipe -fstack-protector-strong -I/usr/local/include'
    ccversion=''
    gccversion='6.3.0 20170406'
    gccosandvers=''
    intsize=4
    longsize=8
    ptrsize=8
    doublesize=8
    byteorder=12345678
    doublekind=3
    d_longlong=define
    longlongsize=8
    d_longdbl=define
    longdblsize=16
    longdblkind=3
    ivtype='long'
    ivsize=8
    nvtype='double'
    nvsize=8
    Off_t='off_t'
    lseeksize=8
    alignbytes=8
    prototype=define
  Linker and Libraries:
    ld='cc'
    ldflags =' -fstack-protector-strong -L/usr/local/lib'
    libpth=/usr/local/lib /usr/lib/gcc/x86_64-linux-gnu/6/include-fixed /usr/include/x86_64-linux-gnu /usr/lib /lib/x86_64-linux-gnu /lib/../lib /usr/lib/x86_64-linux-gnu /usr/lib/../lib /lib
    libs=-lpthread -lnsl -ldl -lm -lcrypt -lutil -lc
    perllibs=-lpthread -lnsl -ldl -lm -lcrypt -lutil -lc
    libc=libc-2.24.so
    so=so
    useshrplib=false
    libperl=libperl.a
    gnulibc_version='2.24'
  Dynamic Linking:
    dlsrc=dl_dlopen.xs
    dlext=so
    d_dlsymun=undef
    ccdlflags='-Wl,-E'
    cccdlflags='-fPIC'
    lddlflags='-shared -O2 -g -L/usr/local/lib -fstack-protector-strong'


Characteristics of this binary (from libperl): 
  Compile-time options:
    HAS_TIMES
    PERLIO_LAYERS
    PERL_COPY_ON_WRITE
    PERL_DONT_CREATE_GVSV
    PERL_MALLOC_WRAP
    PERL_OP_PARENT
    PERL_PRESERVE_IVUV
    PERL_USE_DEVEL
    USE_64_BIT_ALL
    USE_64_BIT_INT
    USE_LARGE_FILES
    USE_LOCALE
    USE_LOCALE_COLLATE
    USE_LOCALE_CTYPE
    USE_LOCALE_NUMERIC
    USE_LOCALE_TIME
    USE_PERLIO
    USE_PERL_ATOF
  Locally applied patches:
    RC1
  Built under linux
  Compiled at May 13 2017 03:08:48
  %ENV:
    PERL5LIB=""
    PERL5OPT=""
    PERL5_CPANPLUS_IS_RUNNING="23281"
    PERL5_CPAN_IS_RUNNING="23281"
    PERL_CANARY_STABILITY_NOPROMPT="1"
    PERL_MM_USE_DEFAULT="1"
    PERL_USE_UNSAFE_INC="1"
  @INC:
    /home/sand/src/perl/repoperls/installed-perls/host/k93msid/v5.26.0-RC1/89ad/lib/site_perl/5.26.0/x86_64-linux
    /home/sand/src/perl/repoperls/installed-perls/host/k93msid/v5.26.0-RC1/89ad/lib/site_perl/5.26.0
    /home/sand/src/perl/repoperls/installed-perls/host/k93msid/v5.26.0-RC1/89ad/lib/5.26.0/x86_64-linux
    /home/sand/src/perl/repoperls/installed-perls/host/k93msid/v5.26.0-RC1/89ad/lib/5.26.0
    .