Report for Filter-Crypto-2.07

Back
From: metabase:user:314402c4-2aae-11df-837a-5e0a49663a4f
Subject: PASS Filter-Crypto-2.07 v5.24.1 GNU/Linux
Date: 2017-03-04T20:23:45Z

This distribution has been tested as part of the CPAN Testers
project, supporting the Perl programming language.  See
http://wiki.cpantesters.org/ for more information or email
questions to cpan-testers-discuss@perl.org


--
Dear Steve Hay,

This is a computer-generated report for Filter-Crypto-2.07
on perl 5.24.1, created by CPAN-Reporter-1.2018.

Thank you for uploading your work to CPAN.  Congratulations!
All tests were successful.

Sections of this report:

    * Tester comments
    * Program output
    * Prerequisites
    * Environment and other context

------------------------------
TESTER COMMENTS
------------------------------

Additional comments from tester:

none provided

------------------------------
PROGRAM OUTPUT
------------------------------

Output from '/usr/bin/make test':

make[1]: Entering directory `/home/cpansand/.cpan/build/2017030421/Filter-Crypto-2.07-0/CryptFile'
"/opt/perl-5.24.1t/bin/perl" -MExtUtils::Command::MM -e 'cp_nonempty' -- CryptFile.bs ../blib/arch/auto/Filter/Crypto/CryptFile/CryptFile.bs 644
Manifying 1 pod document
make[1]: Leaving directory `/home/cpansand/.cpan/build/2017030421/Filter-Crypto-2.07-0/CryptFile'
make[1]: Entering directory `/home/cpansand/.cpan/build/2017030421/Filter-Crypto-2.07-0/Decrypt'
"/opt/perl-5.24.1t/bin/perl" -MExtUtils::Command::MM -e 'cp_nonempty' -- Decrypt.bs ../blib/arch/auto/Filter/Crypto/Decrypt/Decrypt.bs 644
Manifying 1 pod document
make[1]: Leaving directory `/home/cpansand/.cpan/build/2017030421/Filter-Crypto-2.07-0/Decrypt'
PERL_DL_NONLAZY=1 "/opt/perl-5.24.1t/bin/perl" "-MExtUtils::Command::MM" "-MTest::Harness" "-e" "undef *Test::Harness::Switches; test_harness(0, 'blib/lib', 'blib/arch')" t/*.t
t/01_imports_01.t .... ok
t/01_imports_02.t .... ok
t/01_imports_03.t .... ok
t/01_imports_04.t .... ok
t/02_function.t ...... ok
t/03_script.t ........ ok
t/04_par.t ........... skipped: PAR::Filter required to test PAR::Filter::Crypto
t/05_errstr.t ........ ok
t/06_changes.t ....... skipped: Author testing only
t/07_critic.t ........ skipped: Author testing only
t/08_pod.t ........... skipped: Author testing only
t/09_pod_coverage.t .. skipped: Author testing only
All tests successful.
Files=12, Tests=432, 17 wallclock secs ( 0.13 usr  0.04 sys + 14.35 cusr  2.65 csys = 17.17 CPU)
Result: PASS

------------------------------
PREREQUISITES
------------------------------

Prerequisite modules loaded:

requires:

    Module                Need     Have     
    --------------------- -------- ---------
    Carp                  0        1.40     
    Config                0        5.024001 
    constant              0        1.33     
    Cwd                   0        3.63_01  
    Exporter              0        5.72     
    ExtUtils::MakeMaker   6.66     7.24     
    Fcntl                 0        1.13     
    File::Basename        0        2.85     
    File::Copy            0        2.31     
    File::Find            0        1.34     
    File::Spec::Functions 0        3.63_01  
    File::Temp            0        0.2304   
    Getopt::Long          0        2.48     
    perl                  5.008001 5.024001 
    Pod::Usage            1.15     1.68     
    Scalar::Util          0        1.47     
    strict                0        1.11     
    Text::ParseWords      0        3.30     
    Text::Wrap            0        2013.0523
    warnings              0        1.36     
    XSLoader              0        0.22     

build_requires:

    Module                Need     Have     
    --------------------- -------- ---------
    blib                  0        1.06     
    ExtUtils::MakeMaker   0        7.24     
    FindBin               0        1.51     
    Test::More            0        1.302078 

configure_requires:

    Module                Need     Have     
    --------------------- -------- ---------
    Carp                  0        1.40     
    Config                0        5.024001 
    constant              0        1.33     
    Cwd                   0        3.63_01  
    ExtUtils::MakeMaker   6.66     7.24     
    Fcntl                 0        1.13     
    File::Basename        0        2.85     
    File::Copy            0        2.31     
    File::Spec::Functions 0        3.63_01  
    Getopt::Long          0        2.48     
    perl                  5.008001 5.024001 
    Pod::Usage            1.15     1.68     
    strict                0        1.11     
    Text::Wrap            0        2013.0523
    warnings              0        1.36     


------------------------------
ENVIRONMENT AND OTHER CONTEXT
------------------------------

Environment variables:

    LANG = en_US.UTF-8
    PATH = /usr/local/bin:/usr/bin:/bin:/usr/local/sbin:/usr/sbin:/sbin:/home/cpansand/bin/linux-gnu:/home/cpansand/bin/sh:/home/cpansand/bin:/usr/games:/home/cpansand/devel:/home/eserte/src/srezic-misc/scripts
    PERL5LIB = /home/cpansand/.cpan/build/2017030421/Digest-SHA3-0.25-0/blib/arch:/home/cpansand/.cpan/build/2017030421/Digest-SHA3-0.25-0/blib/lib:/home/cpansand/.cpan/build/2017030421/Crypt-Argon2-0.002-0/blib/arch:/home/cpansand/.cpan/build/2017030421/Crypt-Argon2-0.002-0/blib/lib:/home/cpansand/.cpan/build/2017030421/Convert-Ascii85-0.01-0/blib/arch:/home/cpansand/.cpan/build/2017030421/Convert-Ascii85-0.01-0/blib/lib:/home/cpansand/.cpan/build/2017030421/CBOR-XS-1.6-0/blib/arch:/home/cpansand/.cpan/build/2017030421/CBOR-XS-1.6-0/blib/lib:/home/cpansand/.cpan/build/2017030421/BerkeleyDB-0.55-0/blib/arch:/home/cpansand/.cpan/build/2017030421/BerkeleyDB-0.55-0/blib/lib:/home/cpansand/.cpan/build/2017030421/B-Hooks-AtRuntime-4-0/blib/arch:/home/cpansand/.cpan/build/2017030421/B-Hooks-AtRuntime-4-0/blib/lib:/home/cpansand/.cpan/build/2017030421/Test-Exports-1-0/blib/arch:/home/cpansand/.cpan/build/2017030421/Test-Exports-1-0/blib/lib
    PERL5OPT = 
    PERL5_CPANPLUS_IS_RUNNING = 28309
    PERL5_CPAN_IS_RUNNING = 28309
    PERL5_CPAN_IS_RUNNING_IN_RECURSION = 28259,28309
    PERLDOC = -MPod::Perldoc::ToTextOverstrike
    PERL_BATCH = yes
    PERL_CANARY_STABILITY_NOPROMPT = 1
    PERL_CPAN_REPORTER_CONFIG = /var/tmp/cpansmoker-1002/2017030421/cpanreporter_000_config.ini
    PERL_EXTUTILS_AUTOINSTALL = --defaultdeps
    SHELL = /bin/zsh
    TERM = screen
    TMPDIR = /var/tmp/cpansmoker-1002/2017030421

Perl special variables (and OS-specific diagnostics, for MSWin32):

    $^X = /opt/perl-5.24.1t/bin/perl
    $UID/$EUID = 1002 / 1002
    $GID = 1002 1002
    $EGID = 1002 1002

Perl module toolchain versions installed:

    Module              Have      
    ------------------- ----------
    CPAN                2.16      
    CPAN::Meta          2.150005  
    Cwd                 3.63_01   
    ExtUtils::CBuilder  0.280225  
    ExtUtils::Command   7.24      
    ExtUtils::Install   2.04      
    ExtUtils::MakeMaker 7.24      
    ExtUtils::Manifest  1.70      
    ExtUtils::ParseXS   3.31      
    File::Spec          3.63_01   
    JSON                2.90      
    JSON::PP            2.27400   
    Module::Build       0.4220    
    Module::Signature   0.81      
    Parse::CPAN::Meta   1.4417_001
    Test::Harness       3.36_01   
    Test::More          1.302078  
    YAML                1.23      
    YAML::Syck          1.29      
    version             0.9916    


--

Summary of my perl5 (revision 5 version 24 subversion 1) configuration:
   
  Platform:
    osname=linux, osvers=3.10.0-514.6.2.el7.x86_64, archname=x86_64-linux-thread-multi
    uname='linux prod5 3.10.0-514.6.2.el7.x86_64 #1 smp thu feb 23 03:04:39 utc 2017 x86_64 x86_64 x86_64 gnulinux '
    config_args='-ds -e -Dprefix=/opt/perl-5.24.1t -Dusethreads -Dcf_email=srezic@cpan.org'
    hint=recommended, useposix=true, d_sigaction=define
    useithreads=define, usemultiplicity=define
    use64bitint=define, use64bitall=define, uselongdouble=undef
    usemymalloc=n, bincompat5005=undef
  Compiler:
    cc='cc', ccflags ='-D_REENTRANT -D_GNU_SOURCE -fwrapv -fno-strict-aliasing -pipe -fstack-protector-strong -I/usr/local/include -D_LARGEFILE_SOURCE -D_FILE_OFFSET_BITS=64 -D_FORTIFY_SOURCE=2',
    optimize='-O2',
    cppflags='-D_REENTRANT -D_GNU_SOURCE -fwrapv -fno-strict-aliasing -pipe -fstack-protector-strong -I/usr/local/include'
    ccversion='', gccversion='4.8.5 20150623 (Red Hat 4.8.5-11)', gccosandvers=''
    intsize=4, longsize=8, ptrsize=8, doublesize=8, byteorder=12345678, doublekind=3
    d_longlong=define, longlongsize=8, d_longdbl=define, longdblsize=16, longdblkind=3
    ivtype='long', ivsize=8, nvtype='double', nvsize=8, Off_t='off_t', lseeksize=8
    alignbytes=8, prototype=define
  Linker and Libraries:
    ld='cc', ldflags =' -fstack-protector-strong -L/usr/local/lib'
    libpth=/usr/local/lib /usr/lib /lib/../lib64 /usr/lib/../lib64 /lib /lib64 /usr/lib64 /usr/local/lib64
    libs=-lpthread -lnsl -lgdbm -ldb -ldl -lm -lcrypt -lutil -lc -lgdbm_compat
    perllibs=-lpthread -lnsl -ldl -lm -lcrypt -lutil -lc
    libc=libc-2.17.so, so=so, useshrplib=false, libperl=libperl.a
    gnulibc_version='2.17'
  Dynamic Linking:
    dlsrc=dl_dlopen.xs, dlext=so, d_dlsymun=undef, ccdlflags='-Wl,-E'
    cccdlflags='-fPIC', lddlflags='-shared -O2 -L/usr/local/lib -fstack-protector-strong'


Characteristics of this binary (from libperl): 
  Compile-time options: HAS_TIMES MULTIPLICITY PERLIO_LAYERS
                        PERL_COPY_ON_WRITE PERL_DONT_CREATE_GVSV
                        PERL_HASH_FUNC_ONE_AT_A_TIME_HARD
                        PERL_IMPLICIT_CONTEXT PERL_MALLOC_WRAP
                        PERL_PRESERVE_IVUV USE_64_BIT_ALL USE_64_BIT_INT
                        USE_ITHREADS USE_LARGE_FILES USE_LOCALE
                        USE_LOCALE_COLLATE USE_LOCALE_CTYPE
                        USE_LOCALE_NUMERIC USE_LOCALE_TIME USE_PERLIO
                        USE_PERL_ATOF USE_REENTRANT_API
  Built under linux
  Compiled at Feb 23 2017 21:20:48
  %ENV:
    PERL5LIB="/home/cpansand/.cpan/build/2017030421/Digest-SHA3-0.25-0/blib/arch:/home/cpansand/.cpan/build/2017030421/Digest-SHA3-0.25-0/blib/lib:/home/cpansand/.cpan/build/2017030421/Crypt-Argon2-0.002-0/blib/arch:/home/cpansand/.cpan/build/2017030421/Crypt-Argon2-0.002-0/blib/lib:/home/cpansand/.cpan/build/2017030421/Convert-Ascii85-0.01-0/blib/arch:/home/cpansand/.cpan/build/2017030421/Convert-Ascii85-0.01-0/blib/lib:/home/cpansand/.cpan/build/2017030421/CBOR-XS-1.6-0/blib/arch:/home/cpansand/.cpan/build/2017030421/CBOR-XS-1.6-0/blib/lib:/home/cpansand/.cpan/build/2017030421/BerkeleyDB-0.55-0/blib/arch:/home/cpansand/.cpan/build/2017030421/BerkeleyDB-0.55-0/blib/lib:/home/cpansand/.cpan/build/2017030421/B-Hooks-AtRuntime-4-0/blib/arch:/home/cpansand/.cpan/build/2017030421/B-Hooks-AtRuntime-4-0/blib/lib:/home/cpansand/.cpan/build/2017030421/Test-Exports-1-0/blib/arch:/home/cpansand/.cpan/build/2017030421/Test-Exports-1-0/blib/lib"
    PERL5OPT=""
    PERL5_CPANPLUS_IS_RUNNING="28309"
    PERL5_CPAN_IS_RUNNING="28309"
    PERL5_CPAN_IS_RUNNING_IN_RECURSION="28259,28309"
    PERLDOC="-MPod::Perldoc::ToTextOverstrike"
    PERL_BATCH="yes"
    PERL_CANARY_STABILITY_NOPROMPT="1"
    PERL_CPAN_REPORTER_CONFIG="/var/tmp/cpansmoker-1002/2017030421/cpanreporter_000_config.ini"
    PERL_EXTUTILS_AUTOINSTALL="--defaultdeps"
  @INC:
    /home/cpansand/.cpan/build/2017030421/Digest-SHA3-0.25-0/blib/arch
    /home/cpansand/.cpan/build/2017030421/Digest-SHA3-0.25-0/blib/lib
    /home/cpansand/.cpan/build/2017030421/Crypt-Argon2-0.002-0/blib/arch
    /home/cpansand/.cpan/build/2017030421/Crypt-Argon2-0.002-0/blib/lib
    /home/cpansand/.cpan/build/2017030421/Convert-Ascii85-0.01-0/blib/arch
    /home/cpansand/.cpan/build/2017030421/Convert-Ascii85-0.01-0/blib/lib
    /home/cpansand/.cpan/build/2017030421/CBOR-XS-1.6-0/blib/arch
    /home/cpansand/.cpan/build/2017030421/CBOR-XS-1.6-0/blib/lib
    /home/cpansand/.cpan/build/2017030421/BerkeleyDB-0.55-0/blib/arch
    /home/cpansand/.cpan/build/2017030421/BerkeleyDB-0.55-0/blib/lib
    /home/cpansand/.cpan/build/2017030421/B-Hooks-AtRuntime-4-0/blib/arch
    /home/cpansand/.cpan/build/2017030421/B-Hooks-AtRuntime-4-0/blib/lib
    /home/cpansand/.cpan/build/2017030421/Test-Exports-1-0/blib/arch
    /home/cpansand/.cpan/build/2017030421/Test-Exports-1-0/blib/lib
    /opt/perl-5.24.1t/lib/site_perl/5.24.1/x86_64-linux-thread-multi
    /opt/perl-5.24.1t/lib/site_perl/5.24.1
    /opt/perl-5.24.1t/lib/5.24.1/x86_64-linux-thread-multi
    /opt/perl-5.24.1t/lib/5.24.1
    .