Config-Perl-V v0.33 Perl 5 v5.32.0 i686-linux
- Status
- Pass
- From
- Nigel Horne
- Dist
-
Config-Perl-V v0.33
- Platform
- Perl 5 v5.32.0 i686-linux
- Date
- 2021-01-13 20:11:05
- ID
- 7781cd66-55db-11eb-b9db-b6c7a8faccfa
This distribution has been tested as part of the CPAN Testers
project, supporting the Perl programming language. See
http://wiki.cpantesters.org/ for more information or email
questions to cpan-testers-discuss@perl.org
--
Dear H.Merijn Brand,
This is a computer-generated report for Config-Perl-V-0.33
on perl 5.32.0, created by CPAN-Reporter-1.2018.
Thank you for uploading your work to CPAN. Congratulations!
All tests were successful.
Sections of this report:
* Tester comments
* Program output
* Prerequisites
* Environment and other context
------------------------------
TESTER COMMENTS
------------------------------
Additional comments from tester:
none provided
------------------------------
PROGRAM OUTPUT
------------------------------
Output from '/usr/bin/make test':
PERL_DL_NONLAZY=1 "/home/njh/perl5/perlbrew/perls/perl-5.32.0/bin/perl5.32.0" "-MExtUtils::Command::MM" "-MTest::Harness" "-e" "undef *Test::Harness::Switches; test_harness(0, 'blib/lib', 'blib/arch')" t/*.t
t/20_plv56.t ....... ok
t/10_base.t ........ ok
t/21_plv58.t ....... ok
t/22_plv510.t ...... ok
t/23_plv512.t ...... ok
t/24_plv514.t ...... ok
t/25_plv516.t ...... ok
t/25_plv5162.t ..... ok
t/26_plv518.t ...... ok
t/26_plv5182.t ..... ok
t/27_plv5200.t ..... ok
t/27_plv5202.t ..... ok
t/28_plv5220.t ..... ok
t/28_plv52201w.t ... ok
t/29_plv5235w.t .... ok
t/30_plv5240.t ..... ok
t/31_plv52511.t .... ok
t/32_plv5261rc1.t .. ok
t/33_plv52711r.t ... ok
t/34_plv5280.t ..... ok
t/35_plv52910g.t ... ok
t/36_plv5300.t ..... ok
t/37_plv53111qm.t .. ok
t/38_plv5320tld.t .. ok
All tests successful.
Files=24, Tests=2814, 7 wallclock secs ( 0.67 usr 0.13 sys + 5.57 cusr 0.50 csys = 6.87 CPU)
Result: PASS
------------------------------
PREREQUISITES
------------------------------
Prerequisite modules loaded:
requires:
Module Need Have
------------------- ---- --------
Config 0 5.032000
build_requires:
Module Need Have
------------------- ---- --------
ExtUtils::MakeMaker 0 7.52
Test::More 0 1.302183
Test::NoWarnings 0 1.04
configure_requires:
Module Need Have
------------------- ---- --------
ExtUtils::MakeMaker 0 7.52
------------------------------
ENVIRONMENT AND OTHER CONTEXT
------------------------------
Environment variables:
HARNESS_OPTIONS = c:j2
LANG = en_GB.UTF-8
LANGUAGE = en_GB:en
PATH = /home/njh/perl5/perlbrew/bin:/home/njh/perl5/perlbrew/perls/perl-5.32.0/bin:/home/njh/perl5/perlbrew/bin:/usr/bin:/bin
PERL5LIB =
PERL5OPT =
PERL5_CPANPLUS_IS_RUNNING = 8495
PERL5_CPAN_IS_RUNNING = 8495
PERLBREW_HOME = /home/njh/.perlbrew
PERLBREW_LIB =
PERLBREW_MANPATH = /home/njh/perl5/perlbrew/perls/perl-5.32.0/man
PERLBREW_PATH = /home/njh/perl5/perlbrew/bin:/home/njh/perl5/perlbrew/perls/perl-5.32.0/bin
PERLBREW_PERL = perl-5.32.0
PERLBREW_ROOT = /home/njh/perl5/perlbrew
PERLBREW_SHELLRC_VERSION = 0.88
PERLBREW_VERSION = 0.88
PERL_LOCAL_LIB_ROOT =
PERL_USE_UNSAFE_INC = 1
SHELL = /bin/sh
TEMP = /tmp/user/1000
TMPDIR = /tmp/user/1000
Perl special variables (and OS-specific diagnostics, for MSWin32):
$^X = /home/njh/perl5/perlbrew/perls/perl-5.32.0/bin/perl5.32.0
$UID/$EUID = 1000 / 1000
$GID = 1000 4 24 25 29 30 44 46 103 107 108 1000
$EGID = 1000 4 24 25 29 30 44 46 103 107 108 1000
Perl module toolchain versions installed:
Module Have
------------------- --------
CPAN 2.28
CPAN::Meta 2.150010
Cwd 3.78
ExtUtils::CBuilder 0.280235
ExtUtils::Command 7.52
ExtUtils::Install 2.18
ExtUtils::MakeMaker 7.52
ExtUtils::Manifest 1.72
ExtUtils::ParseXS 3.40
File::Spec 3.78
JSON 4.02
JSON::PP 4.05
Module::Build 0.4231
Module::Signature n/a
Parse::CPAN::Meta 2.150010
Test::Harness 3.42
Test::More 1.302183
YAML 1.30
YAML::Syck n/a
version 0.9928
--
Summary of my perl5 (revision 5 version 32 subversion 0) configuration:
Platform:
osname=linux
osvers=5.7.0-3-686-pae
archname=i686-linux
uname='linux philips 5.7.0-3-686-pae #1 smp debian 5.7.17-1 (2020-08-23) i686 gnulinux '
config_args='-de -Dprefix=/home/njh/perl5/perlbrew/perls/perl-5.32.0 -Dusedevel -Accflags= -Aeval:scriptdir=/home/njh/perl5/perlbrew/perls/perl-5.32.0/bin'
hint=recommended
useposix=true
d_sigaction=define
useithreads=undef
usemultiplicity=undef
use64bitint=undef
use64bitall=undef
uselongdouble=undef
usemymalloc=n
default_inc_excludes_dot=define
bincompat5005=undef
Compiler:
cc='cc'
ccflags ='-fwrapv -fno-strict-aliasing -pipe -fstack-protector-strong -I/usr/local/include -D_LARGEFILE_SOURCE -D_FILE_OFFSET_BITS=64 -D_FORTIFY_SOURCE=2'
optimize='-O2'
cppflags='-fwrapv -fno-strict-aliasing -pipe -fstack-protector-strong -I/usr/local/include'
ccversion=''
gccversion='10.2.0'
gccosandvers=''
intsize=4
longsize=4
ptrsize=4
doublesize=8
byteorder=1234
doublekind=3
d_longlong=define
longlongsize=8
d_longdbl=define
longdblsize=12
longdblkind=3
ivtype='long'
ivsize=4
nvtype='double'
nvsize=8
Off_t='off_t'
lseeksize=8
alignbytes=4
prototype=define
Linker and Libraries:
ld='cc'
ldflags =' -fstack-protector-strong -L/usr/local/lib'
libpth=/usr/local/lib /usr/include/i386-linux-gnu /usr/lib /lib/i386-linux-gnu /lib/../lib /usr/lib/i386-linux-gnu /usr/lib/../lib /lib /lib64 /usr/lib64
libs=-lpthread -lnsl -lgdbm -ldb -ldl -lm -lcrypt -lutil -lc
perllibs=-lpthread -lnsl -ldl -lm -lcrypt -lutil -lc
libc=libc-2.31.so
so=so
useshrplib=false
libperl=libperl.a
gnulibc_version='2.31'
Dynamic Linking:
dlsrc=dl_dlopen.xs
dlext=so
d_dlsymun=undef
ccdlflags='-Wl,-E'
cccdlflags='-fPIC'
lddlflags='-shared -O2 -L/usr/local/lib -fstack-protector-strong'
Characteristics of this binary (from libperl):
Compile-time options:
HAS_TIMES
PERLIO_LAYERS
PERL_COPY_ON_WRITE
PERL_DONT_CREATE_GVSV
PERL_MALLOC_WRAP
PERL_OP_PARENT
PERL_PRESERVE_IVUV
PERL_USE_DEVEL
USE_LARGE_FILES
USE_LOCALE
USE_LOCALE_COLLATE
USE_LOCALE_CTYPE
USE_LOCALE_NUMERIC
USE_LOCALE_TIME
USE_PERLIO
USE_PERL_ATOF
Built under linux
Compiled at Oct 19 2020 10:07:23
%ENV:
PERL5LIB=""
PERL5OPT=""
PERL5_CPANPLUS_IS_RUNNING="8495"
PERL5_CPAN_IS_RUNNING="8495"
PERLBREW_HOME="/home/njh/.perlbrew"
PERLBREW_LIB=""
PERLBREW_MANPATH="/home/njh/perl5/perlbrew/perls/perl-5.32.0/man"
PERLBREW_PATH="/home/njh/perl5/perlbrew/bin:/home/njh/perl5/perlbrew/perls/perl-5.32.0/bin"
PERLBREW_PERL="perl-5.32.0"
PERLBREW_ROOT="/home/njh/perl5/perlbrew"
PERLBREW_SHELLRC_VERSION="0.88"
PERLBREW_VERSION="0.88"
PERL_LOCAL_LIB_ROOT=""
PERL_USE_UNSAFE_INC="1"
@INC:
/home/njh/perl5/perlbrew/perls/perl-5.32.0/lib/site_perl/5.32.0/i686-linux
/home/njh/perl5/perlbrew/perls/perl-5.32.0/lib/site_perl/5.32.0
/home/njh/perl5/perlbrew/perls/perl-5.32.0/lib/5.32.0/i686-linux
/home/njh/perl5/perlbrew/perls/perl-5.32.0/lib/5.32.0
.