Back
From: metabase:user:314402c4-2aae-11df-837a-5e0a49663a4f
Subject: PASS Gtk2-Ex-WidgetBits-48 v5.22.2 GNU/Linux
Date: 2016-11-01T07:04:44Z
This distribution has been tested as part of the CPAN Testers
project, supporting the Perl programming language. See
http://wiki.cpantesters.org/ for more information or email
questions to cpan-testers-discuss@perl.org
--
Dear Kevin Ryde,
This is a computer-generated report for Gtk2-Ex-WidgetBits-48
on perl 5.22.2, created by CPAN-Reporter-1.2018.
Thank you for uploading your work to CPAN. Congratulations!
All tests were successful.
Sections of this report:
* Tester comments
* Program output
* Prerequisites
* Environment and other context
------------------------------
TESTER COMMENTS
------------------------------
Additional comments from tester:
none provided
------------------------------
PROGRAM OUTPUT
------------------------------
Output from '/usr/bin/make test':
PERL_DL_NONLAZY=1 "/bbbike/perl-5.22.2t/bin/perl" "-MExtUtils::Command::MM" "-MTest::Harness" "-e" "undef *Test::Harness::Switches; test_harness(0, 'blib/lib', 'blib/arch')" t/*.t
# Perl-Gtk2 version 1.2499
# Perl-Glib version 1.323
# Compiled against Glib version 2.42.1.
# Running on Glib version 2.42.1.
# Compiled against Gtk version 2.24.25.
# Running on Gtk version 2.24.25.
t/ActionTooltips-import.t .............. ok
Xlib: extension "RANDR" missing on display ":17".
# Perl-Gtk2 version 1.2499
# Perl-Glib version 1.323
# Compiled against Glib version 2.42.1.
# Running on Glib version 2.42.1.
# Compiled against Gtk version 2.24.25.
# Running on Gtk version 2.24.25.
t/ActionTooltips.t ..................... ok
# Perl-Gtk2 version 1.2499
# Perl-Glib version 1.323
# Compiled against Glib version 2.42.1.
# Running on Glib version 2.42.1.
# Compiled against Gtk version 2.24.25.
# Running on Gtk version 2.24.25.
# notify page_size
# changed
# value_changed
# notify value
# notify lower
# notify upper
# changed
# value_changed
# notify lower
# notify value
# changed
# value_changed
# notify upper
# notify step_increment
# notify page_size
# notify lower
# notify value
# notify page_increment
# changed
t/AdjustmentBits.t ..................... ok
t/ContainerBits-import.t ............... ok
t/ContainerBits-subclass.t ............. ok
# Perl-Gtk2 version 1.2499
# Perl-Glib version 1.323
# Compiled against Glib version 2.42.1.
# Running on Glib version 2.42.1.
# Compiled against Gtk version 2.24.25.
# Running on Gtk version 2.24.25.
t/ContainerBits.t ...................... ok
Xlib: extension "RANDR" missing on display ":17".
# Perl-Gtk2 version 1.2499
# Perl-Glib version 1.323
# Compiled against Glib version 2.42.1.
# Running on Glib version 2.42.1.
# Compiled against Gtk version 2.24.25.
# Running on Gtk version 2.24.25.
# [ sensitive parent-sensitive can-focus double-buffered ]
# [ sensitive parent-sensitive double-buffered ]
t/EntryBits.t .......................... ok
# Perl-Gtk2 version 1.2499
# Perl-Glib version 1.323
# Compiled against Glib version 2.42.1.
# Running on Glib version 2.42.1.
# Compiled against Gtk version 2.24.25.
# Running on Gtk version 2.24.25.
t/FreezeChildNotify.t .................. ok
Xlib: extension "RANDR" missing on display ":17".
t/GdkBits-import.t ..................... ok
Xlib: extension "RANDR" missing on display ":17".
# Perl-Gtk2 version 1.2499
# Perl-Glib version 1.323
# Compiled against Glib version 2.42.1.
# Running on Glib version 2.42.1.
# Compiled against Gtk version 2.24.25.
# Running on Gtk version 2.24.25.
t/GdkBits.t ............................ ok
Xlib: extension "RANDR" missing on display ":17".
# Perl-Gtk2 version 1.2499
# Perl-Glib version 1.323
# Compiled against Glib version 2.42.1.
# Running on Glib version 2.42.1.
# Compiled against Gtk version 2.24.25.
# Running on Gtk version 2.24.25.
t/KeySnooper.t ......................... ok
Xlib: extension "RANDR" missing on display ":17".
t/LayoutBits.t ......................... ok
Xlib: extension "RANDR" missing on display ":17".
t/MenuBits-import.t .................... ok
t/MenuBits-load.t ...................... ok
Xlib: extension "RANDR" missing on display ":17".
t/MenuBits.t ........................... ok
Xlib: extension "RANDR" missing on display ":17".
# Gtk2::Ex::MenuItem::Subclass Glib::Object::Subclass Gtk2::CheckMenuItem Glib::Object::_Unregistered::AtkImplementorIface Gtk2::Buildable Gtk2::Activatable
# subclass CODE(0x1317770)
# gobject CODE(0x144da20)
# testwidg CODE(0x1317770)
t/MenuItem-Subclass.t .................. ok
t/PixbufBits-load.t .................... ok
# Perl-Gtk2 version 1.2499
# Perl-Glib version 1.323
# Compiled against Glib version 2.42.1.
# Running on Glib version 2.42.1.
# Compiled against Gtk version 2.24.25.
# Running on Gtk version 2.24.25.
t/PixbufBits.t ......................... ok
# re-create id 2 str Gtk2::Ex::Statusbar::DynamicContext.2
t/Statusbar-DynamicContext.t ........... ok
Xlib: extension "RANDR" missing on display ":17".
# Perl-Gtk2 version 1.2499
# Perl-Glib version 1.323
# Compiled against Glib version 2.42.1.
# Running on Glib version 2.42.1.
# Compiled against Gtk version 2.24.25.
# Running on Gtk version 2.24.25.
# main_iterations(): ran 7 events/iterations
t/Statusbar-Message.t .................. ok
Xlib: extension "RANDR" missing on display ":17".
t/Statusbar-MessageUntilKey.t .......... ok
Xlib: extension "RANDR" missing on display ":17".
# Perl-Gtk2 version 1.2499
# Perl-Glib version 1.323
# Compiled against Glib version 2.42.1.
# Running on Glib version 2.42.1.
# Compiled against Gtk version 2.24.25.
# Running on Gtk version 2.24.25.
t/SyncCall.t ........................... ok
# Perl-Gtk2 version 1.2499
# Perl-Glib version 1.323
# Compiled against Glib version 2.42.1.
# Running on Glib version 2.42.1.
# Compiled against Gtk version 2.24.25.
# Running on Gtk version 2.24.25.
t/TableBits.t .......................... ok
Xlib: extension "RANDR" missing on display ":17".
t/Test-Weaken-Gtk2-ignore-display.t .... ok
Xlib: extension "RANDR" missing on display ":17".
t/Test-Weaken-Gtk2-ignore-root.t ....... ok
Xlib: extension "RANDR" missing on display ":17".
t/Test-Weaken-Gtk2-ignore-screen.t ..... ok
t/Test-Weaken-Gtk2-load.t .............. ok
# Perl-Gtk2 version 1.2499
# Perl-Glib version 1.323
# Compiled against Glib version 2.42.1.
# Running on Glib version 2.42.1.
# Compiled against Gtk version 2.24.25.
# Running on Gtk version 2.24.25.
Xlib: extension "RANDR" missing on display ":17".
t/Test-Weaken-Gtk2.t ................... ok
Test::Without::Gtk2Things -- without Gtk2::Gdk::Display warp_pointer() method, per Gtk before 2.8
Test::Without::Gtk2Things -- without Gtk2::Builder and Buildable interface, per Gtk before 2.12
Test::Without::Gtk2Things -- without Gtk2::Widget tooltips, per Gtk before 2.12
Test::Without::Gtk2Things -- without ListStore,TreeStore insert_with_values(), per Gtk before 2.6
Test::Without::Gtk2Things -- without Gdk2::Gdk::Display and Gtk2::Gdk::Screen, per Gtk 2.0.x
Test::Without::Gtk2Things -- without Gtk2::CellLayout get_cells() method, per Gtk before 2.12
Test::Without::Gtk2Things -- without CursorType blank-cursor, per Gtk before 2.16
Test::Without::Gtk2Things -- without Gtk2::CheckMenuItem/ToggleAction draw-as-radio property, per Gtk before 2.4
Test::Without::Gtk2Things -- without Gtk2::MenuItem label and use-underline properties, per Gtk before 2.16
Test::Without::Gtk2Things -- count without 9 things
t/Test-Without-Gtk2Things.t ............ ok
t/TextBufferBits.t ..................... ok
t/ToolbarBits-load.t ................... ok
# Perl-Gtk2 version 1.2499
# Perl-Glib version 1.323
# Compiled against Glib version 2.42.1.
# Running on Glib version 2.42.1.
# Compiled against Gtk version 2.24.25.
# Running on Gtk version 2.24.25.
t/ToolItem-CheckButton-builder.t ....... ok
t/ToolItem-CheckButton-load.t .......... ok
Xlib: extension "RANDR" missing on display ":17".
t/ToolItem-CheckButton-weaken.t ........ skipped: due to Test::Weaken 3 not available -- Can't locate Test/Weaken.pm in @INC (you may need to install the Test::Weaken module) (@INC contains: t /tmpfs/.cpan-build-cpansand/2016110106/Gtk2-Ex-WidgetBits-48-SDlQJK/blib/lib /tmpfs/.cpan-build-cpansand/2016110106/Gtk2-Ex-WidgetBits-48-SDlQJK/blib/arch /home/cpansand/.cpan/build/2016110106/Gtk2-1.2499-qFEVNT/blib/arch /home/cpansand/.cpan/build/2016110106/Gtk2-1.2499-qFEVNT/blib/lib /home/cpansand/.cpan/build/2016110106/Pango-1.227-qH9OWy/blib/arch /home/cpansand/.cpan/build/2016110106/Pango-1.227-qH9OWy/blib/lib /home/cpansand/.cpan/build/2016110106/Glib-Ex-ObjectBits-16-Jb2cNg/blib/arch /home/cpansand/.cpan/build/2016110106/Glib-Ex-ObjectBits-16-Jb2cNg/blib/lib /home/cpansand/.cpan/build/2016110106/Glib-1.323-Yf_yh_/blib/arch /home/cpansand/.cpan/build/2016110106/Glib-1.323-Yf_yh_/blib/lib /opt/perl-5.22.2t/lib/site_perl/5.22.2/x86_64-linux-thread-multi /opt/perl-5.22.2t/lib/site_perl/5.22.2 /opt/perl-5.22.2t/lib/5.22.2/x86_64-linux-thread-multi /opt/perl-5.22.2t/lib/5.22.2 .) at (eval 10) line 1.
Xlib: extension "RANDR" missing on display ":17".
# Perl-Gtk2 version 1.2499
# Perl-Glib version 1.323
# Compiled against Glib version 2.42.1.
# Running on Glib version 2.42.1.
# Compiled against Gtk version 2.24.25.
# Running on Gtk version 2.24.25.
t/ToolItem-CheckButton.t ............... ok
Xlib: extension "RANDR" missing on display ":17".
t/ToolItem-OverflowToDialog-builder.t .. ok
Xlib: extension "RANDR" missing on display ":17".
t/ToolItem-OverflowToDialog-weaken.t ... skipped: due to Test::Weaken 3 not available -- Can't locate Test/Weaken.pm in @INC (you may need to install the Test::Weaken module) (@INC contains: t /tmpfs/.cpan-build-cpansand/2016110106/Gtk2-Ex-WidgetBits-48-SDlQJK/blib/lib /tmpfs/.cpan-build-cpansand/2016110106/Gtk2-Ex-WidgetBits-48-SDlQJK/blib/arch /home/cpansand/.cpan/build/2016110106/Gtk2-1.2499-qFEVNT/blib/arch /home/cpansand/.cpan/build/2016110106/Gtk2-1.2499-qFEVNT/blib/lib /home/cpansand/.cpan/build/2016110106/Pango-1.227-qH9OWy/blib/arch /home/cpansand/.cpan/build/2016110106/Pango-1.227-qH9OWy/blib/lib /home/cpansand/.cpan/build/2016110106/Glib-Ex-ObjectBits-16-Jb2cNg/blib/arch /home/cpansand/.cpan/build/2016110106/Glib-Ex-ObjectBits-16-Jb2cNg/blib/lib /home/cpansand/.cpan/build/2016110106/Glib-1.323-Yf_yh_/blib/arch /home/cpansand/.cpan/build/2016110106/Glib-1.323-Yf_yh_/blib/lib /opt/perl-5.22.2t/lib/site_perl/5.22.2/x86_64-linux-thread-multi /opt/perl-5.22.2t/lib/site_perl/5.22.2 /opt/perl-5.22.2t/lib/5.22.2/x86_64-linux-thread-multi /opt/perl-5.22.2t/lib/5.22.2 .) at (eval 10) line 1.
Xlib: extension "RANDR" missing on display ":17".
# main_iterations(): ran 2 events/iterations
# main_iterations(): ran 1 events/iterations
# main_iterations(): ran 1 events/iterations
# main_iterations(): ran 13 events/iterations
t/ToolItem-OverflowToDialog.t .......... ok
t/TreeModel-ImplBits-import.t .......... ok
t/TreeModel-ImplBits.t ................. ok
t/TreeModelBits-import.t ............... ok
# Perl-Gtk2 version 1.2499
# Perl-Glib version 1.323
# Compiled against Glib version 2.42.1.
# Running on Glib version 2.42.1.
# Compiled against Gtk version 2.24.25.
# Running on Gtk version 2.24.25.
t/TreeModelBits.t ...................... ok
# MyOneRemovesAll remove() all
t/TreeModelFilter-Change.t ............. ok
t/TreeViewBits.t ....................... ok
Xlib: extension "RANDR" missing on display ":17".
t/Units-import.t ....................... ok
Xlib: extension "RANDR" missing on display ":17".
# Perl-Gtk2 version 1.2499
# Perl-Glib version 1.323
# Compiled against Glib version 2.42.1.
# Running on Glib version 2.42.1.
# Compiled against Gtk version 2.24.25.
# Running on Gtk version 2.24.25.
# em=9, ex=5, char=4.9541015625, digit=6
t/Units.t .............................. ok
Xlib: extension "RANDR" missing on display ":17".
# Perl-Gtk2 version 1.2499
# Perl-Glib version 1.323
# Compiled against Glib version 2.42.1.
# Running on Glib version 2.42.1.
# Compiled against Gtk version 2.24.25.
# Running on Gtk version 2.24.25.
# wait_for_event(): 'map-event' ran 2 events/iterations
# toplevel at 0, 0
# wait_for_event(): 'size-allocate' ran 3 events/iterations
# layout win relative position 0,0
# toplevel at 0, 0
# layout at 0, 0
# main_iterations(): ran 1 events/iterations
# toplevel at 0, 0
# label at 20, 30
# wait_for_event(): 'map-event' ran 6 events/iterations
t/WidgetBits.t ......................... ok
# Perl-Gtk2 version 1.2499
# Perl-Glib version 1.323
# Compiled against Glib version 2.42.1.
# Running on Glib version 2.42.1.
# Compiled against Gtk version 2.24.25.
# Running on Gtk version 2.24.25.
Xlib: extension "RANDR" missing on display ":17".
t/WidgetEvents.t ....................... ok
All tests successful.
Files=48, Tests=783, 5 wallclock secs ( 0.11 usr 0.19 sys + 1.99 cusr 0.75 csys = 3.04 CPU)
Result: PASS
------------------------------
PREREQUISITES
------------------------------
Prerequisite modules loaded:
requires:
Module Need Have
---------------------- ----- --------
Glib 0 1.323
Glib::Ex::FreezeNotify 1 16
Glib::Ex::SignalIds 1 16
Glib::Object::Subclass 0 1.323
Gtk2 1.200 1.2499
Gtk2::Pango 0 0.01
perl 5.008 5.022002
Scope::Guard 0 0.21
build_requires:
Module Need Have
---------------------- ----- --------
ExtUtils::MakeMaker 0 7.04_01
configure_requires:
Module Need Have
---------------------- ----- --------
ExtUtils::MakeMaker 0 7.04_01
------------------------------
ENVIRONMENT AND OTHER CONTEXT
------------------------------
Environment variables:
LANG = C
PATH = /usr/local/bin:/usr/bin:/bin:/usr/local/sbin:/usr/sbin:/sbin:/home/cpansand/bin/linux-gnu:/home/cpansand/bin/sh:/home/cpansand/bin:/usr/games:/home/cpansand/devel:/home/eserte/src/srezic-misc/scripts
PERL5LIB = /home/cpansand/.cpan/build/2016110106/Gtk2-1.2499-qFEVNT/blib/arch:/home/cpansand/.cpan/build/2016110106/Gtk2-1.2499-qFEVNT/blib/lib:/home/cpansand/.cpan/build/2016110106/Pango-1.227-qH9OWy/blib/arch:/home/cpansand/.cpan/build/2016110106/Pango-1.227-qH9OWy/blib/lib:/home/cpansand/.cpan/build/2016110106/Glib-Ex-ObjectBits-16-Jb2cNg/blib/arch:/home/cpansand/.cpan/build/2016110106/Glib-Ex-ObjectBits-16-Jb2cNg/blib/lib:/home/cpansand/.cpan/build/2016110106/Glib-1.323-Yf_yh_/blib/arch:/home/cpansand/.cpan/build/2016110106/Glib-1.323-Yf_yh_/blib/lib
PERL5OPT =
PERL5_CPANPLUS_IS_RUNNING = 29665
PERL5_CPAN_IS_RUNNING = 29665
PERL5_CPAN_IS_RUNNING_IN_RECURSION = 8451,29665
PERLDOC = -MPod::Perldoc::ToTextOverstrike
PERL_BATCH = yes
PERL_CANARY_STABILITY_NOPROMPT = 1
PERL_CPAN_REPORTER_CONFIG = /run/user/1023/cpansmoker/2016110106/cpanreporter_005_config.ini
PERL_EXTUTILS_AUTOINSTALL = --defaultdeps
PERL_USE_UNSAFE_INC = 1
SHELL = /bin/zsh
TERM = screen
TMPDIR = /run/user/1023/cpansmoker/2016110106
Perl special variables (and OS-specific diagnostics, for MSWin32):
$^X = /bbbike/perl-5.22.2t/bin/perl
$UID/$EUID = 1023 / 1023
$GID = 1023 1023
$EGID = 1023 1023
Perl module toolchain versions installed:
Module Have
------------------- --------
CPAN 2.11
CPAN::Meta 2.150001
Cwd 3.56_01
ExtUtils::CBuilder 0.280221
ExtUtils::Command 1.20
ExtUtils::Install 2.04
ExtUtils::MakeMaker 7.04_01
ExtUtils::Manifest 1.70
ExtUtils::ParseXS 3.28
File::Spec 3.56_01
JSON 2.90
JSON::PP 2.27300
Module::Build 0.4218
Module::Signature n/a
Parse::CPAN::Meta 1.4422
Test::Harness 3.35
Test::More 1.001014
YAML 1.15
YAML::Syck 1.29
version 0.9909
--
Summary of my perl5 (revision 5 version 22 subversion 2) configuration:
Platform:
osname=linux, osvers=3.16.0-4-amd64, archname=x86_64-linux-thread-multi
uname='linux eserte 3.16.0-4-amd64 #1 smp debian 3.16.7-ckt25-2 (2016-04-08) x86_64 gnulinux '
config_args='-ds -e -Dprefix=/opt/perl-5.22.2t -Dusethreads -Dcf_email=srezic@cpan.org'
hint=recommended, useposix=true, d_sigaction=define
useithreads=define, usemultiplicity=define
use64bitint=define, use64bitall=define, uselongdouble=undef
usemymalloc=n, bincompat5005=undef
Compiler:
cc='cc', ccflags ='-D_REENTRANT -D_GNU_SOURCE -fwrapv -fno-strict-aliasing -pipe -fstack-protector-strong -I/usr/local/include -D_LARGEFILE_SOURCE -D_FILE_OFFSET_BITS=64 -D_FORTIFY_SOURCE=2',
optimize='-O2',
cppflags='-D_REENTRANT -D_GNU_SOURCE -fwrapv -fno-strict-aliasing -pipe -fstack-protector-strong -I/usr/local/include'
ccversion='', gccversion='4.9.2', gccosandvers=''
intsize=4, longsize=8, ptrsize=8, doublesize=8, byteorder=12345678, doublekind=3
d_longlong=define, longlongsize=8, d_longdbl=define, longdblsize=16, longdblkind=3
ivtype='long', ivsize=8, nvtype='double', nvsize=8, Off_t='off_t', lseeksize=8
alignbytes=8, prototype=define
Linker and Libraries:
ld='cc', ldflags =' -fstack-protector-strong -L/usr/local/lib'
libpth=/usr/local/lib /usr/lib/gcc/x86_64-linux-gnu/4.9/include-fixed /usr/include/x86_64-linux-gnu /usr/lib /lib/x86_64-linux-gnu /lib/../lib /usr/lib/x86_64-linux-gnu /usr/lib/../lib /lib
libs=-lpthread -lnsl -lgdbm -ldb -ldl -lm -lcrypt -lutil -lc -lgdbm_compat
perllibs=-lpthread -lnsl -ldl -lm -lcrypt -lutil -lc
libc=libc-2.19.so, so=so, useshrplib=false, libperl=libperl.a
gnulibc_version='2.19'
Dynamic Linking:
dlsrc=dl_dlopen.xs, dlext=so, d_dlsymun=undef, ccdlflags='-Wl,-E'
cccdlflags='-fPIC', lddlflags='-shared -O2 -L/usr/local/lib -fstack-protector-strong'
Characteristics of this binary (from libperl):
Compile-time options: HAS_TIMES MULTIPLICITY PERLIO_LAYERS
PERL_DONT_CREATE_GVSV
PERL_HASH_FUNC_ONE_AT_A_TIME_HARD
PERL_IMPLICIT_CONTEXT PERL_MALLOC_WRAP
PERL_NEW_COPY_ON_WRITE PERL_PRESERVE_IVUV
USE_64_BIT_ALL USE_64_BIT_INT USE_ITHREADS
USE_LARGE_FILES USE_LOCALE USE_LOCALE_COLLATE
USE_LOCALE_CTYPE USE_LOCALE_NUMERIC USE_LOCALE_TIME
USE_PERLIO USE_PERL_ATOF USE_REENTRANT_API
Built under linux
Compiled at May 7 2016 14:08:21
%ENV:
PERL5LIB="/home/cpansand/.cpan/build/2016110106/Gtk2-1.2499-qFEVNT/blib/arch:/home/cpansand/.cpan/build/2016110106/Gtk2-1.2499-qFEVNT/blib/lib:/home/cpansand/.cpan/build/2016110106/Pango-1.227-qH9OWy/blib/arch:/home/cpansand/.cpan/build/2016110106/Pango-1.227-qH9OWy/blib/lib:/home/cpansand/.cpan/build/2016110106/Glib-Ex-ObjectBits-16-Jb2cNg/blib/arch:/home/cpansand/.cpan/build/2016110106/Glib-Ex-ObjectBits-16-Jb2cNg/blib/lib:/home/cpansand/.cpan/build/2016110106/Glib-1.323-Yf_yh_/blib/arch:/home/cpansand/.cpan/build/2016110106/Glib-1.323-Yf_yh_/blib/lib"
PERL5OPT=""
PERL5_CPANPLUS_IS_RUNNING="29665"
PERL5_CPAN_IS_RUNNING="29665"
PERL5_CPAN_IS_RUNNING_IN_RECURSION="8451,29665"
PERLDOC="-MPod::Perldoc::ToTextOverstrike"
PERL_BATCH="yes"
PERL_CANARY_STABILITY_NOPROMPT="1"
PERL_CPAN_REPORTER_CONFIG="/run/user/1023/cpansmoker/2016110106/cpanreporter_005_config.ini"
PERL_EXTUTILS_AUTOINSTALL="--defaultdeps"
PERL_USE_UNSAFE_INC="1"
@INC:
/home/cpansand/.cpan/build/2016110106/Gtk2-1.2499-qFEVNT/blib/arch
/home/cpansand/.cpan/build/2016110106/Gtk2-1.2499-qFEVNT/blib/lib
/home/cpansand/.cpan/build/2016110106/Pango-1.227-qH9OWy/blib/arch
/home/cpansand/.cpan/build/2016110106/Pango-1.227-qH9OWy/blib/lib
/home/cpansand/.cpan/build/2016110106/Glib-Ex-ObjectBits-16-Jb2cNg/blib/arch
/home/cpansand/.cpan/build/2016110106/Glib-Ex-ObjectBits-16-Jb2cNg/blib/lib
/home/cpansand/.cpan/build/2016110106/Glib-1.323-Yf_yh_/blib/arch
/home/cpansand/.cpan/build/2016110106/Glib-1.323-Yf_yh_/blib/lib
/opt/perl-5.22.2t/lib/site_perl/5.22.2/x86_64-linux-thread-multi
/opt/perl-5.22.2t/lib/site_perl/5.22.2
/opt/perl-5.22.2t/lib/5.22.2/x86_64-linux-thread-multi
/opt/perl-5.22.2t/lib/5.22.2
.