Report for Dist-Zilla-PluginBundle-Author-Celogeek-1.1

Back
From: metabase:user:314402c4-2aae-11df-837a-5e0a49663a4f
Subject: PASS Dist-Zilla-PluginBundle-Author-Celogeek-1.1 v5.24.0 GNU/Linux
Date: 2017-01-28T09:52:23Z

This distribution has been tested as part of the CPAN Testers
project, supporting the Perl programming language.  See
http://wiki.cpantesters.org/ for more information or email
questions to cpan-testers-discuss@perl.org


--
Dear celogeek,

This is a computer-generated report for Dist-Zilla-PluginBundle-Author-Celogeek-1.1
on perl 5.24.0, created by CPAN-Reporter-1.2018.

Thank you for uploading your work to CPAN.  Congratulations!
All tests were successful.

Sections of this report:

    * Tester comments
    * Program output
    * Prerequisites
    * Environment and other context

------------------------------
TESTER COMMENTS
------------------------------

Additional comments from tester:

none provided

------------------------------
PROGRAM OUTPUT
------------------------------

Output from './Build test':

t/00-compile.t ............ ok
# Testing with Perl 5.024000, /opt/perl-5.24.0/bin/perl5.24.0
#     Carp version is 1.40
#     Class::MOP version is 2.1807
#     Dist::Zilla::App::Command::cover version is 1.101001
#     Dist::Zilla::Plugin::AutoPrereqs version is 6.008
#     Dist::Zilla::Plugin::CheckChangeLog version is 0.02
#     Dist::Zilla::Plugin::Git::NextVersion version is 2.041
#     Dist::Zilla::Plugin::MetaConfig version is 6.008
#     Dist::Zilla::Plugin::MetaJSON version is 6.008
#     Dist::Zilla::Plugin::MetaResourcesFromGit version is 1.103620
#     Dist::Zilla::Plugin::MinimumPerl version is 1.006
#     Dist::Zilla::Plugin::ModuleBuild version is 6.008
#     Dist::Zilla::Plugin::NextRelease version is 6.008
#     Dist::Zilla::Plugin::OurPkgVersion version is 0.10
#     Dist::Zilla::Plugin::PerlTidy version is 0.21
#     Dist::Zilla::Plugin::PodCoverageTests version is 6.008
#     Dist::Zilla::Plugin::PodWeaver version is 4.008
#     Dist::Zilla::Plugin::Prepender version is 2.003
#     Dist::Zilla::Plugin::Prereqs version is 6.008
#     Dist::Zilla::Plugin::PruneFiles version is 6.008
#     Dist::Zilla::Plugin::ReadmeMarkdownFromPod version is 0.141140
#     Dist::Zilla::Plugin::ReportVersions version is 1.110730
#     Dist::Zilla::Plugin::Run::BeforeRelease version is 0.043
#     Dist::Zilla::Plugin::Test::Compile version is 2.056
#     Dist::Zilla::Plugin::Test::Perl::Critic version is 3.000
#     Dist::Zilla::Plugin::Test::UnusedVars version is 2.000007
#     Dist::Zilla::PluginBundle::Filter version is 6.008
#     Dist::Zilla::PluginBundle::Git version is 2.041
#     Dist::Zilla::Role::PluginBundle::Easy version is 6.008
#     Dist::Zilla::Role::PluginBundle::PluginRemover version is 0.104
#     File::Spec version is 3.63
#     IO::All version is 0.86
#     IO::Handle version is 1.36
#     IPC::Open3 version is 1.20
#     Module::Build version is 0.422
#     Moose version is 2.1807
#     Pod::Coverage::TrustPod version is 0.100003
#     Pod::Weaver::Config::Assembler version is 4.015
#     Scalar::Util version is 1.47
#     Test::More version is 1.302075
#     Test::Perl::Critic version is 1.03
#     namespace::autoclean version is 0.28
#     strict version is 1.11
#     warnings version is 1.36
t/000-report-versions.t ... ok
t/author-critic.t ......... skipped: these tests are for testing by the author
t/release-pod-coverage.t .. skipped: these tests are for release candidate testing
t/release-unused-vars.t ... skipped: these tests are for release candidate testing
All tests successful.
Files=5, Tests=45,  4 wallclock secs ( 0.04 usr  0.01 sys +  3.35 cusr  0.28 csys =  3.68 CPU)
Result: PASS

------------------------------
PREREQUISITES
------------------------------

Prerequisite modules loaded:

requires:

    Module                                         Need   Have    
    ---------------------------------------------- ------ --------
    Class::MOP                                     0      2.1807  
    Devel::Cover                                   0      1.23    
    Dist::Zilla::App::Command::cover               0      1.101001
    Dist::Zilla::Plugin::AutoPrereqs               0      6.008   
    Dist::Zilla::Plugin::CheckChangeLog            0      0.02    
    Dist::Zilla::Plugin::Git::NextVersion          0      2.041   
    Dist::Zilla::Plugin::MetaConfig                0      6.008   
    Dist::Zilla::Plugin::MetaJSON                  0      6.008   
    Dist::Zilla::Plugin::MetaResourcesFromGit      0      1.103620
    Dist::Zilla::Plugin::MinimumPerl               0      1.006   
    Dist::Zilla::Plugin::ModuleBuild               0      6.008   
    Dist::Zilla::Plugin::NextRelease               0      6.008   
    Dist::Zilla::Plugin::OurPkgVersion             0      0.10    
    Dist::Zilla::Plugin::PerlTidy                  0      0.21    
    Dist::Zilla::Plugin::PodCoverageTests          0      6.008   
    Dist::Zilla::Plugin::PodWeaver                 0      4.008   
    Dist::Zilla::Plugin::Prepender                 0      2.003   
    Dist::Zilla::Plugin::Prereqs                   0      6.008   
    Dist::Zilla::Plugin::PruneFiles                0      6.008   
    Dist::Zilla::Plugin::ReadmeMarkdownFromPod     0      0.141140
    Dist::Zilla::Plugin::ReportVersions            0      1.110730
    Dist::Zilla::Plugin::Run::BeforeRelease        0      0.043   
    Dist::Zilla::Plugin::Test::Compile             0      2.056   
    Dist::Zilla::Plugin::Test::Perl::Critic        0      3.000   
    Dist::Zilla::Plugin::Test::UnusedVars          0      2.000007
    Dist::Zilla::PluginBundle::Filter              0      6.008   
    Dist::Zilla::PluginBundle::Git                 0      2.041   
    Dist::Zilla::Role::PluginBundle::Easy          0      6.008   
    Dist::Zilla::Role::PluginBundle::PluginRemover 0      0.104   
    IO::All                                        0.45   0.86    
    Moose                                          0      2.1807  
    namespace::autoclean                           0      0.28    
    perl                                           5.006  5.024000
    Pod::Coverage::TrustPod                        0      0.100003
    Pod::Weaver::Config::Assembler                 0      4.015   
    strict                                         0      1.11    
    Test::Perl::Critic                             0      1.03    
    Test::Pod::Coverage                            1.08   1.10    
    warnings                                       0      1.36    

build_requires:

    Module                                         Need   Have    
    ---------------------------------------------- ------ --------
    Carp                                           0      1.40    
    File::Spec                                     0      3.63    
    IO::Handle                                     0      1.36    
    IPC::Open3                                     0      1.20    
    Module::Build                                  0.3601 0.4220  
    perl                                           5.006  5.024000
    Scalar::Util                                   0      1.47    
    Test::More                                     0.94   1.302075

configure_requires:

    Module                                         Need   Have    
    ---------------------------------------------- ------ --------
    Module::Build                                  0.3601 0.4220  


------------------------------
ENVIRONMENT AND OTHER CONTEXT
------------------------------

Environment variables:

    LANG = en_US.UTF-8
    LANGUAGE = en_US:en
    PATH = /usr/local/bin:/usr/bin:/bin:/usr/local/sbin:/usr/sbin:/sbin:/home/cpansand/bin/linux-gnu:/home/cpansand/bin/sh:/home/cpansand/bin:/usr/games:/home/cpansand/devel:/home/eserte/src/srezic-misc/scripts
    PERL5LIB = 
    PERL5OPT = 
    PERL5_CPANPLUS_IS_RUNNING = 31210
    PERL5_CPAN_IS_RUNNING = 31210
    PERL5_CPAN_IS_RUNNING_IN_RECURSION = 17303,31210
    PERLDOC = -MPod::Perldoc::ToTextOverstrike
    PERL_BATCH = yes
    PERL_CANARY_STABILITY_NOPROMPT = 1
    PERL_CPAN_REPORTER_CONFIG = /var/tmp/cpansmoker-1002/2017012718/cpanreporter_000_config.ini
    PERL_EXTUTILS_AUTOINSTALL = --defaultdeps
    PERL_USE_UNSAFE_INC = 1
    SHELL = /bin/zsh
    TERM = screen
    TMPDIR = /var/tmp/cpansmoker-1002/2017012718

Perl special variables (and OS-specific diagnostics, for MSWin32):

    $^X = /opt/perl-5.24.0/bin/perl5.24.0
    $UID/$EUID = 1002 / 1002
    $GID = 1002 1002
    $EGID = 1002 1002

Perl module toolchain versions installed:

    Module              Have    
    ------------------- --------
    CPAN                2.14    
    CPAN::Meta          2.150010
    Cwd                 3.63    
    ExtUtils::CBuilder  0.280224
    ExtUtils::Command   7.24    
    ExtUtils::Install   2.04    
    ExtUtils::MakeMaker 7.24    
    ExtUtils::Manifest  1.70    
    ExtUtils::ParseXS   3.30    
    File::Spec          3.63    
    JSON                2.90    
    JSON::PP            2.27400 
    Module::Build       0.4220  
    Module::Signature   0.81    
    Parse::CPAN::Meta   2.150010
    Test::Harness       3.36    
    Test::More          1.302075
    YAML                1.21    
    YAML::Syck          1.29    
    version             0.9917  


--

Summary of my perl5 (revision 5 version 24 subversion 0) configuration:
   
  Platform:
    osname=linux, osvers=4.8.0-2-amd64, archname=x86_64-linux
    uname='linux prod4 4.8.0-2-amd64 #1 smp debian 4.8.15-2 (2017-01-04) x86_64 gnulinux '
    config_args='-ds -e -Dprefix=/opt/perl-5.24.0 -Dcf_email=srezic@cpan.org'
    hint=recommended, useposix=true, d_sigaction=define
    useithreads=undef, usemultiplicity=undef
    use64bitint=define, use64bitall=define, uselongdouble=undef
    usemymalloc=n, bincompat5005=undef
  Compiler:
    cc='cc', ccflags ='-fwrapv -fno-strict-aliasing -pipe -fstack-protector-strong -I/usr/local/include -D_LARGEFILE_SOURCE -D_FILE_OFFSET_BITS=64',
    optimize='-O2',
    cppflags='-fwrapv -fno-strict-aliasing -pipe -fstack-protector-strong -I/usr/local/include'
    ccversion='', gccversion='6.2.1 20161124', gccosandvers=''
    intsize=4, longsize=8, ptrsize=8, doublesize=8, byteorder=12345678, doublekind=3
    d_longlong=define, longlongsize=8, d_longdbl=define, longdblsize=16, longdblkind=3
    ivtype='long', ivsize=8, nvtype='double', nvsize=8, Off_t='off_t', lseeksize=8
    alignbytes=8, prototype=define
  Linker and Libraries:
    ld='cc', ldflags =' -fstack-protector-strong -L/usr/local/lib'
    libpth=/usr/local/lib /usr/lib/gcc/x86_64-linux-gnu/6/include-fixed /usr/include/x86_64-linux-gnu /usr/lib /lib/x86_64-linux-gnu /lib/../lib /usr/lib/x86_64-linux-gnu /usr/lib/../lib /lib
    libs=-lpthread -lnsl -lgdbm -ldb -ldl -lm -lcrypt -lutil -lc -lgdbm_compat
    perllibs=-lpthread -lnsl -ldl -lm -lcrypt -lutil -lc
    libc=libc-2.24.so, so=so, useshrplib=false, libperl=libperl.a
    gnulibc_version='2.24'
  Dynamic Linking:
    dlsrc=dl_dlopen.xs, dlext=so, d_dlsymun=undef, ccdlflags='-Wl,-E'
    cccdlflags='-fPIC', lddlflags='-shared -O2 -L/usr/local/lib -fstack-protector-strong'


Characteristics of this binary (from libperl): 
  Compile-time options: HAS_TIMES PERLIO_LAYERS PERL_COPY_ON_WRITE
                        PERL_DONT_CREATE_GVSV
                        PERL_HASH_FUNC_ONE_AT_A_TIME_HARD PERL_MALLOC_WRAP
                        PERL_PRESERVE_IVUV USE_64_BIT_ALL USE_64_BIT_INT
                        USE_LARGE_FILES USE_LOCALE USE_LOCALE_COLLATE
                        USE_LOCALE_CTYPE USE_LOCALE_NUMERIC USE_LOCALE_TIME
                        USE_PERLIO USE_PERL_ATOF
  Built under linux
  Compiled at Jan 22 2017 18:33:18
  %ENV:
    PERL5LIB=""
    PERL5OPT=""
    PERL5_CPANPLUS_IS_RUNNING="31210"
    PERL5_CPAN_IS_RUNNING="31210"
    PERL5_CPAN_IS_RUNNING_IN_RECURSION="17303,31210"
    PERLDOC="-MPod::Perldoc::ToTextOverstrike"
    PERL_BATCH="yes"
    PERL_CANARY_STABILITY_NOPROMPT="1"
    PERL_CPAN_REPORTER_CONFIG="/var/tmp/cpansmoker-1002/2017012718/cpanreporter_000_config.ini"
    PERL_EXTUTILS_AUTOINSTALL="--defaultdeps"
    PERL_USE_UNSAFE_INC="1"
  @INC:
    /opt/perl-5.24.0/lib/site_perl/5.24.0/x86_64-linux
    /opt/perl-5.24.0/lib/site_perl/5.24.0
    /opt/perl-5.24.0/lib/5.24.0/x86_64-linux
    /opt/perl-5.24.0/lib/5.24.0
    .