Data-Report v1.001 Perl 5 v5.18.4 x86_64-linux-thread-multi

Status
Pass
From
David Cantrell (DCANTRELL)
Dist
Data-Report v1.001
Platform
Perl 5 v5.18.4 x86_64-linux-thread-multi
Date
2020-02-11 03:13:26
ID
77fb8c3c-4c7c-11ea-8e9c-f72c052d0de1
This distribution has been tested as part of the CPAN Testers
project, supporting the Perl programming language.  See
http://wiki.cpantesters.org/ for more information or email
questions to cpan-testers-discuss@perl.org


--
Dear Johan Vromans,

This is a computer-generated report for Data-Report-1.001
on perl 5.18.4, created by CPAN-Reporter-1.2018.

Thank you for uploading your work to CPAN.  Congratulations!
All tests were successful.

Sections of this report:

    * Tester comments
    * Program output
    * Prerequisites
    * Environment and other context

------------------------------
TESTER COMMENTS
------------------------------

Additional comments from tester:

this report is from an automated smoke testing program
and was not reviewed by a human for accuracy

------------------------------
PROGRAM OUTPUT
------------------------------

Output from '/usr/bin/make test':

PERL_DL_NONLAZY=1 "/home/david/cpantesting/perl-5.18.4/bin/perl" "-MExtUtils::Command::MM" "-MTest::Harness" "-e" "undef *Test::Harness::Switches; test_harness(0, 'blib/lib', 'blib/arch')" t/*.t
# Testing Data::Report 1.001, Perl 5.018004, /home/david/cpantesting/perl-5.18.4/bin/perl
t/00basic.t ... ok
t/01text01.t .. ok
t/01text02.t .. ok
t/01text03.t .. ok
t/01text04.t .. ok
t/01text05.t .. ok
t/01text06.t .. ok
t/01text07.t .. ok
t/02html01.t .. ok
t/02html02.t .. ok
t/02html03.t .. ok
# CSV plugin uses Text::CSV 2.00, PP version 2.00
t/03csv01.t ... ok
# CSV plugin uses Text::CSV 2.00, PP version 2.00
# CSV plugin uses Text::CSV 2.00, PP version 2.00
# CSV plugin uses built-in CSV packer
t/03csv02.t ... ok
# CSV plugin uses Text::CSV 2.00, PP version 2.00
t/03csv03.t ... ok
# CSV plugin uses built-in CSV packer
t/03csv04.t ... ok
# CSV plugin uses Text::CSV 2.00, PP version 2.00
t/03csv05.t ... ok
# CSV plugin uses built-in CSV packer
t/03csv06.t ... ok
t/09poc01.t ... ok
t/09poc02.t ... ok
t/09poc03.t ... ok
t/09poc04.t ... ok
t/09poc05.t ... ok
t/09poc06.t ... ok
All tests successful.
Files=23, Tests=50, 20 wallclock secs ( 0.08 usr  0.04 sys +  2.24 cusr  0.30 csys =  2.66 CPU)
Result: PASS

------------------------------
PREREQUISITES
------------------------------

Prerequisite modules loaded:

requires:

    Module              Need     Have    
    ------------------- -------- --------
    ExtUtils::MakeMaker 6.46     7.44    
    perl                5.010001 5.018004
    Test::More          0        1.302162
    Text::CSV           1        2.00    

build_requires:

    Module              Need     Have    
    ------------------- -------- --------
    ExtUtils::MakeMaker 0        7.44    
    Text::CSV           1        2.00    

configure_requires:

    Module              Need     Have    
    ------------------- -------- --------
    ExtUtils::MakeMaker 0        7.44    


------------------------------
ENVIRONMENT AND OTHER CONTEXT
------------------------------

Environment variables:

    AUTOMATED_TESTING = 1
    LANG = en_US.UTF-8
    NONINTERACTIVE_TESTING = 1
    PATH = /usr/local/bin:/usr/bin:/bin:/usr/local/games:/usr/games
    PERL = 5.18.4
    PERL5LIB = 
    PERL5OPT = 
    PERL5_CPANPLUS_IS_RUNNING = 10556
    PERL5_CPAN_IS_RUNNING = 10556
    PERLVER = 5.18.4
    PERL_INLINE_DIRECTORY = /home/david/.Inline-5.18.4
    PERL_MM_USE_DEFAULT = 1
    PERL_USE_UNSAFE_INC = 0
    SHELL = /bin/bash
    TERM = screen

Perl special variables (and OS-specific diagnostics, for MSWin32):

    $^X = /home/david/cpantesting/perl-5.18.4/bin/perl
    $UID/$EUID = 1000 / 1000
    $GID = 1000 27 1000
    $EGID = 1000 27 1000

Perl module toolchain versions installed:

    Module              Have    
    ------------------- --------
    CPAN                2.00    
    CPAN::Meta          2.150010
    Cwd                 3.40    
    ExtUtils::CBuilder  0.280234
    ExtUtils::Command   7.44    
    ExtUtils::Install   2.06    
    ExtUtils::MakeMaker 7.44    
    ExtUtils::Manifest  1.70    
    ExtUtils::ParseXS   3.35    
    File::Spec          3.40    
    JSON                4.02    
    JSON::PP            4.02    
    Module::Build       0.4231  
    Module::Signature   n/a     
    Parse::CPAN::Meta   2.150010
    Test::Harness       3.42    
    Test::More          1.302162
    YAML                n/a     
    YAML::Syck          n/a     
    version             0.9902  


--

Summary of my perl5 (revision 5 version 18 subversion 4) configuration:
   
  Platform:
    osname=linux, osvers=4.9.0-8-amd64, archname=x86_64-linux-thread-multi
    uname='linux pigsty 4.9.0-8-amd64 #1 smp debian 4.9.144-3 (2019-02-02) x86_64 gnulinux '
    config_args='-de -Duse64bitall -Dusethreads -Dprefix=/home/david/cpantesting/perl-5.18.4 -A ccflags=-fwrapv'
    hint=previous, useposix=true, d_sigaction=define
    useithreads=define, usemultiplicity=define
    useperlio=define, d_sfio=undef, uselargefiles=define, usesocks=undef
    use64bitint=define, use64bitall=define, uselongdouble=undef
    usemymalloc=n, bincompat5005=undef
  Compiler:
    cc='cc', ccflags ='-D_REENTRANT -D_GNU_SOURCE -fno-strict-aliasing -pipe -fstack-protector -I/usr/local/include -D_LARGEFILE_SOURCE -D_FILE_OFFSET_BITS=64 -fwrapv -fwrapv',
    optimize='-O2',
    cppflags='-D_REENTRANT -D_GNU_SOURCE -fno-strict-aliasing -pipe -fstack-protector -I/usr/local/include -D_REENTRANT -D_GNU_SOURCE -fno-strict-aliasing -pipe -fstack-protector -I/usr/local/include -D_LARGEFILE_SOURCE -D_FILE_OFFSET_BITS=64 -fwrapv -D_REENTRANT -D_GNU_SOURCE -fno-strict-aliasing -pipe -fstack-protector -I/usr/local/include -D_LARGEFILE_SOURCE -D_FILE_OFFSET_BITS=64 -fwrapv -fwrapv'
    ccversion='', gccversion='6.3.0 20170516', gccosandvers=''
    intsize=4, longsize=8, ptrsize=8, doublesize=8, byteorder=12345678
    d_longlong=define, longlongsize=8, d_longdbl=define, longdblsize=16
    ivtype='long', ivsize=8, nvtype='double', nvsize=8, Off_t='off_t', lseeksize=8
    alignbytes=8, prototype=define
  Linker and Libraries:
    ld='cc', ldflags =' -fstack-protector -L/usr/local/lib'
    libpth=/usr/local/lib /lib/x86_64-linux-gnu /lib/../lib /usr/lib/x86_64-linux-gnu /usr/lib/../lib /lib /usr/lib
    libs=-lnsl -ldb -ldl -lm -lcrypt -lutil -lpthread -lc
    perllibs=-lnsl -ldl -lm -lcrypt -lutil -lpthread -lc
    libc=libc-2.24.so, so=so, useshrplib=false, libperl=libperl.a
    gnulibc_version='2.24'
  Dynamic Linking:
    dlsrc=dl_dlopen.xs, dlext=so, d_dlsymun=undef, ccdlflags='-Wl,-E'
    cccdlflags='-fPIC', lddlflags='-shared -O2 -L/usr/local/lib -fstack-protector'


Characteristics of this binary (from libperl): 
  Compile-time options: HAS_TIMES MULTIPLICITY PERLIO_LAYERS
                        PERL_DONT_CREATE_GVSV
                        PERL_HASH_FUNC_ONE_AT_A_TIME_HARD
                        PERL_IMPLICIT_CONTEXT PERL_MALLOC_WRAP
                        PERL_PRESERVE_IVUV PERL_SAWAMPERSAND USE_64_BIT_ALL
                        USE_64_BIT_INT USE_ITHREADS USE_LARGE_FILES
                        USE_LOCALE USE_LOCALE_COLLATE USE_LOCALE_CTYPE
                        USE_LOCALE_NUMERIC USE_PERLIO USE_PERL_ATOF
                        USE_REENTRANT_API
  Locally applied patches:
	Devel::PatchPerl 1.56
  Built under linux
  Compiled at Apr 25 2019 17:34:00
  %ENV:
    PERL="5.18.4"
    PERL5LIB=""
    PERL5OPT=""
    PERL5_CPANPLUS_IS_RUNNING="10556"
    PERL5_CPAN_IS_RUNNING="10556"
    PERLVER="5.18.4"
    PERL_INLINE_DIRECTORY="/home/david/.Inline-5.18.4"
    PERL_MM_USE_DEFAULT="1"
    PERL_USE_UNSAFE_INC="0"
  @INC:
    /home/david/cpantesting/perl-5.18.4/lib/site_perl/5.18.4/x86_64-linux-thread-multi
    /home/david/cpantesting/perl-5.18.4/lib/site_perl/5.18.4
    /home/david/cpantesting/perl-5.18.4/lib/5.18.4/x86_64-linux-thread-multi
    /home/david/cpantesting/perl-5.18.4/lib/5.18.4
    .