Back
From: metabase:user:30977d10-2aae-11df-837a-5e0a49663a4f
Subject: PASS Capture-Tiny-Extended-0.114 v5.8.9 GNU/Linux
Date: 2011-08-07T02:03:39Z
This distribution has been tested as part of the CPAN Testers
project, supporting the Perl programming language. See
http://wiki.cpantesters.org/ for more information or email
questions to cpan-testers-discuss@perl.org
--
Dear Christian Walde,
This is a computer-generated report for Capture-Tiny-Extended-0.114
on perl 5.8.9, created by CPAN-Reporter-1.1902.
Thank you for uploading your work to CPAN. Congratulations!
All tests were successful.
Sections of this report:
* Tester comments
* Program output
* Prerequisites
* Environment and other context
------------------------------
TESTER COMMENTS
------------------------------
Additional comments from tester:
this report is from an automated smoke testing program
and was not reviewed by a human for accuracy
------------------------------
PROGRAM OUTPUT
------------------------------
Output from '/usr/bin/make test':
PERL_DL_NONLAZY=1 /home/trushel/perl/perl589m/bin/perl "-MExtUtils::Command::MM" "-e" "test_harness(0, 'blib/lib', 'blib/arch')" t/*.t
t/00-compile.t ............. ok
t/01-Capture-Tiny.t ........ ok
t/02-capture.t ............. ok
t/03-tee.t ................. ok
t/06-stdout-closed.t ....... ok
t/07-stderr-closed.t ....... ok
t/08-stdin-closed.t ........ ok
t/09-preserve-exit-code.t .. ok
t/10-stdout-string.t ....... ok
t/11-stderr-string.t ....... ok
t/12-stdin-string.t ........ ok
t/13-stdout-tied.t ......... ok
t/14-stderr-tied.t ......... ok
t/15-stdin-tied.t .......... ok
t/16-catch-errors.t ........ ok
All tests successful.
Test Summary Report
-------------------
t/13-stdout-tied.t (Wstat: 0 Tests: 489 Failed: 0)
TODO passed: 8-10, 18-19, 27-28, 35-37, 45-46, 54-55
58, 67, 80, 82, 91, 99-100, 107, 109, 118
126-127, 140-145, 160-162, 178-180, 194-199
214-216, 232-234, 244-247, 258, 270, 280-283
294, 306, 328, 330, 332-334, 336-337, 362-363
366-367, 389, 391-393, 395-397, 418, 420
422-424, 426-427, 452-453, 456-457, 479
481-483, 485-487
t/14-stderr-tied.t (Wstat: 0 Tests: 489 Failed: 0)
TODO passed: 8, 10, 17, 19, 26-28, 35, 37, 44, 46, 53-55
58, 61, 64, 67, 70, 73, 80-82, 89-91, 98-100
107-109, 116-118, 125-127, 140-141, 144
158-159, 162, 176-181, 194-195, 198, 212-213
216, 230-235, 244-245, 247, 256-257, 259
268-271, 280-281, 283, 292-293, 295, 304-307
328-337, 358-367, 388-397, 418-427, 448-457
478-487
Files=15, Tests=4904, 16 wallclock secs ( 0.56 usr 0.09 sys + 16.04 cusr 6.88 csys = 23.57 CPU)
Result: PASS
------------------------------
PREREQUISITES
------------------------------
Prerequisite modules loaded:
requires:
Module Need Have
------------------- ---- ----
Carp 0 1.10
Exporter 0 5.63
File::Spec 0 3.33
File::Temp 0 0.22
IO::Handle 0 1.28
build_requires:
Module Need Have
------------------- ---- ----
File::Find 0 1.13
Test::More 0.62 0.98
configure_requires:
Module Need Have
------------------- ---- ----
ExtUtils::MakeMaker 6.30 6.58
------------------------------
ENVIRONMENT AND OTHER CONTEXT
------------------------------
Environment variables:
AUTOMATED_TESTING = 1
LANG = en_US.UTF-8
LANGUAGE = en
LC_COLLATE = C
LC_MONETARY = C
LC_NUMERIC = C
LC_TIME = C
PATH = /usr/local/sbin:/usr/local/bin:/usr/sbin:/usr/bin:/sbin:/bin
PERL5LIB =
PERL5OPT =
PERL5_CPANPLUS_IS_RUNNING = 29613
PERL5_CPAN_IS_RUNNING = 29613
PERL5_CPAN_IS_RUNNING_IN_RECURSION = 2687,29613
PERL_CR_SMOKER_CURRENT = Capture-Tiny-Extended-0.114
PERL_EXTUTILS_AUTOINSTALL = --defaultdeps
PERL_MM_USE_DEFAULT = 1
SHELL = /bin/bash
TERM = xterm
Perl special variables (and OS-specific diagnostics, for MSWin32):
$^X = /home/trushel/perl/perl589m/bin/perl
$UID/$EUID = 138375 / 138375
$GID = 5762 4 20 21 24 25 26 30 44 46 104 105 119 122 431 5762
$EGID = 5762 4 20 21 24 25 26 30 44 46 104 105 119 122 431 5762
Perl module toolchain versions installed:
Module Have
------------------- --------
CPAN 1.97_51
Cwd 3.33
ExtUtils::CBuilder 0.280202
ExtUtils::Command 1.16
ExtUtils::Install 1.54
ExtUtils::MakeMaker 6.58
ExtUtils::Manifest 1.58
ExtUtils::ParseXS 3.02
File::Spec 3.33
Module::Build 0.39_01
Module::Signature n/a
Test::Harness 3.23
Test::More 0.98
YAML 0.73
YAML::Syck 1.17
version 0.93
--
Summary of my perl5 (revision 5 version 8 subversion 9) configuration:
Platform:
osname=linux, osvers=2.6.32-33-generic, archname=x86_64-linux-multi
uname='linux trushel-glaptop 2.6.32-33-generic #70-ubuntu smp thu jul 7 21:13:52 utc 2011 x86_64 gnulinux '
config_args=''
hint=recommended, useposix=true, d_sigaction=define
usethreads=undef use5005threads=undef useithreads=undef usemultiplicity=define
useperlio=define d_sfio=undef uselargefiles=define usesocks=undef
use64bitint=define use64bitall=define uselongdouble=undef
usemymalloc=n, bincompat5005=undef
Compiler:
cc='cc', ccflags ='-fno-strict-aliasing -pipe -I/usr/local/include -D_LARGEFILE_SOURCE -D_FILE_OFFSET_BITS=64',
optimize='-O2',
cppflags='-fno-strict-aliasing -pipe -I/usr/local/include'
ccversion='', gccversion='4.4.3', gccosandvers=''
intsize=4, longsize=8, ptrsize=8, doublesize=8, byteorder=12345678
d_longlong=define, longlongsize=8, d_longdbl=define, longdblsize=16
ivtype='long', ivsize=8, nvtype='double', nvsize=8, Off_t='off_t', lseeksize=8
alignbytes=8, prototype=define
Linker and Libraries:
ld='cc', ldflags =' -L/usr/local/lib'
libpth=/usr/local/lib /lib /usr/lib /lib64 /usr/lib64
libs=-lnsl -ldb -ldl -lm -lcrypt -lutil -lc
perllibs=-lnsl -ldl -lm -lcrypt -lutil -lc
libc=/lib/libc-2.11.1.so, so=so, useshrplib=false, libperl=libperl.a
gnulibc_version='2.11.1'
Dynamic Linking:
dlsrc=dl_dlopen.xs, dlext=so, d_dlsymun=undef, ccdlflags='-Wl,-E'
cccdlflags='-fPIC', lddlflags='-shared -O2 -L/usr/local/lib'
Characteristics of this binary (from libperl):
Compile-time options: MULTIPLICITY PERL_IMPLICIT_CONTEXT PERL_MALLOC_WRAP
USE_64_BIT_ALL USE_64_BIT_INT USE_FAST_STDIO
USE_LARGE_FILES USE_PERLIO
Built under linux
Compiled at Aug 1 2011 06:32:31
%ENV:
PERL5LIB=""
PERL5OPT=""
PERL5_CPANPLUS_IS_RUNNING="29613"
PERL5_CPAN_IS_RUNNING="29613"
PERL5_CPAN_IS_RUNNING_IN_RECURSION="2687,29613"
PERL_CR_SMOKER_CURRENT="Capture-Tiny-Extended-0.114"
PERL_EXTUTILS_AUTOINSTALL="--defaultdeps"
PERL_MM_USE_DEFAULT="1"
@INC:
/home/trushel/perl/perl589m/lib/5.8.9/x86_64-linux-multi
/home/trushel/perl/perl589m/lib/5.8.9
/home/trushel/perl/perl589m/lib/site_perl/5.8.9/x86_64-linux-multi
/home/trushel/perl/perl589m/lib/site_perl/5.8.9
.