Net-Statsd-Server v0.20 Perl 5 v5.33.4 x86_64-linux

Status
Pass
From
Andreas J. König (ANDK)
Dist
Net-Statsd-Server v0.20
Platform
Perl 5 v5.33.4 x86_64-linux
Date
2020-11-22 23:21:37
ID
7816a688-2d19-11eb-b31c-5d681f89268c
This distribution has been tested as part of the CPAN Testers
project, supporting the Perl programming language.  See
http://wiki.cpantesters.org/ for more information or email
questions to cpan-testers-discuss@perl.org


--
Dear Cosimo Streppone,

This is a computer-generated report for Net-Statsd-Server-0.20
on perl 5.33.4, created by CPAN-Reporter-1.2018.

Thank you for uploading your work to CPAN.  Congratulations!
All tests were successful.

Sections of this report:

    * Tester comments
    * Program output
    * Prerequisites
    * Environment and other context

------------------------------
TESTER COMMENTS
------------------------------

Additional comments from tester:

this report is from an automated smoke testing program
and was not reviewed by a human for accuracy

------------------------------
PROGRAM OUTPUT
------------------------------

Output from '/usr/bin/make test':

PERL_DL_NONLAZY=1 "/tmp/basesmoker-reloperl-YGPu/bin/perl" "-MExtUtils::Command::MM" "-MTest::Harness" "-e" "undef *Test::Harness::Switches; test_harness(0, 'blib/lib', 'blib/arch')" t/*.t t/integration-tests/*.t
t/000-sanity.t ............................. ok
t/config.t ................................. ok
t/graphite.t ............................... ok
2020-11-22 23:17:24.000000 +0000 note  Net::Statsd::Server: Initializing Net::Statsd::Server::Backend::Console backend
2020-11-22 23:17:24.000000 +0000 note  Net::Statsd::Server: Initializing Net::Statsd::Server::Backend::Graphite backend
2020-11-22 23:17:24.000000 +0000 info  AnyEvent: Autoloaded model 'AnyEvent::Impl::EV', using it.
2020-11-22 23:17:24.607969 +0000 note  Net::Statsd::Server: statsd server started on 0.0.0.0:40001 (v0.17)
2020-11-22 23:17:24.608001 +0000 note  Net::Statsd::Server: manager interface started on 0.0.0.0:40002
2020-11-22 23:17:24.608031 +0000 note  Net::Statsd::Server: metrics flush will happen every 1s
2020-11-22 23:17:25.041608 +0000 warn  Net::Statsd::Server: Bad line: 1 in msg "a_bad_test_value|z"
2020-11-22 23:17:25.610610 +0000 note  Net::Statsd::Server: flushing metrics
Flushing stats at Sun Nov 22 23:17:25 2020
{"timers":{},"counter_rates":{"statsd.bad_lines_seen":1,"statsd.packets_received":1},"gauges":{},"counters":{"statsd.bad_lines_seen":1,"statsd.packets_received":1},"pctThreshold":[90],"sets":null,"timer_data":{}}
t/integration-tests/bad-message.t .......... ok
2020-11-22 23:17:25.000000 +0000 note  Net::Statsd::Server: Initializing Net::Statsd::Server::Backend::Console backend
2020-11-22 23:17:25.000000 +0000 note  Net::Statsd::Server: Initializing Net::Statsd::Server::Backend::Graphite backend
2020-11-22 23:17:25.000000 +0000 info  AnyEvent: Autoloaded model 'AnyEvent::Impl::EV', using it.
2020-11-22 23:17:25.788469 +0000 note  Net::Statsd::Server: statsd server started on 0.0.0.0:40001 (v0.17)
2020-11-22 23:17:25.788501 +0000 note  Net::Statsd::Server: manager interface started on 0.0.0.0:40002
2020-11-22 23:17:25.788527 +0000 note  Net::Statsd::Server: metrics flush will happen every 1s
2020-11-22 23:17:26.791213 +0000 note  Net::Statsd::Server: flushing metrics
Flushing stats at Sun Nov 22 23:17:26 2020
{"pctThreshold":[90],"gauges":{},"sets":null,"timer_data":{},"counter_rates":{"statsd.packets_received":1,"a_test_value":100,"statsd.bad_lines_seen":0},"timers":{},"counters":{"statsd.bad_lines_seen":0,"a_test_value":100,"statsd.packets_received":1}}
# stats.counters.statsd.bad_lines_seen.rate 0.000000 1606087046
# stats.counters.statsd.bad_lines_seen.count 0 1606087046
# stats.counters.a_test_value.rate 100.000000 1606087046
# stats.counters.a_test_value.count 100 1606087046
# stats.counters.statsd.packets_received.rate 1.000000 1606087046
# stats.counters.statsd.packets_received.count 1 1606087046
# stats.statsd.numStats 3 1606087046
# stats.statsd.graphiteStats.calculationtime 0.030000 1606087046
# stats.statsd.processing_time 0.016 1606087046
# stats.statsd.graphiteStats.last_exception 93963739691680 1606087046
# stats.statsd.graphiteStats.last_flush 93963739691680 1606087046
t/integration-tests/counts-are-valid.t ..... ok
2020-11-22 23:17:26.000000 +0000 note  Net::Statsd::Server: Initializing Net::Statsd::Server::Backend::Graphite backend
2020-11-22 23:17:26.000000 +0000 info  AnyEvent: Autoloaded model 'AnyEvent::Impl::EV', using it.
2020-11-22 23:17:26.970473 +0000 note  Net::Statsd::Server: statsd server started on 0.0.0.0:40001 (v0.17)
2020-11-22 23:17:26.970504 +0000 note  Net::Statsd::Server: manager interface started on 0.0.0.0:40002
2020-11-22 23:17:26.970531 +0000 note  Net::Statsd::Server: metrics flush will happen every 1s
2020-11-22 23:17:27.972757 +0000 note  Net::Statsd::Server: flushing metrics
# First flush. Test gauge should be there.
2020-11-22 23:17:28.975656 +0000 note  Net::Statsd::Server: flushing metrics
# Second flush. deleteGauges=false should keep the test gauge.
t/integration-tests/delete-gauges-false.t .. ok
2020-11-22 23:17:29.000000 +0000 note  Net::Statsd::Server: Initializing Net::Statsd::Server::Backend::Graphite backend
2020-11-22 23:17:29.000000 +0000 info  AnyEvent: Autoloaded model 'AnyEvent::Impl::EV', using it.
2020-11-22 23:17:29.154656 +0000 note  Net::Statsd::Server: statsd server started on 0.0.0.0:40001 (v0.17)
2020-11-22 23:17:29.154689 +0000 note  Net::Statsd::Server: manager interface started on 0.0.0.0:40002
2020-11-22 23:17:29.154720 +0000 note  Net::Statsd::Server: metrics flush will happen every 1s
2020-11-22 23:17:30.157576 +0000 note  Net::Statsd::Server: flushing metrics
# First flush. Test gauge should be there.
2020-11-22 23:17:31.159424 +0000 note  Net::Statsd::Server: flushing metrics
# Second flush. deleteIdleStats should have cleared the test gauge.
t/integration-tests/delete-idle-stats.t .... ok
2020-11-22 23:17:31.000000 +0000 note  Net::Statsd::Server: Initializing Net::Statsd::Server::Backend::Console backend
2020-11-22 23:17:31.000000 +0000 note  Net::Statsd::Server: Initializing Net::Statsd::Server::Backend::Graphite backend
2020-11-22 23:17:31.000000 +0000 info  AnyEvent: Autoloaded model 'AnyEvent::Impl::EV', using it.
2020-11-22 23:17:31.335072 +0000 note  Net::Statsd::Server: statsd server started on 0.0.0.0:40001 (v0.17)
2020-11-22 23:17:31.335104 +0000 note  Net::Statsd::Server: manager interface started on 0.0.0.0:40002
2020-11-22 23:17:31.335134 +0000 note  Net::Statsd::Server: metrics flush will happen every 1s
2020-11-22 23:17:32.337515 +0000 note  Net::Statsd::Server: flushing metrics
Flushing stats at Sun Nov 22 23:17:32 2020
{"pctThreshold":[90],"sets":null,"gauges":{},"counters":{"statsd.packets_received":1,"a_test_value,category=web,severity=high":100,"statsd.bad_lines_seen":0},"counter_rates":{"statsd.packets_received":1,"a_test_value,category=web,severity=high":100,"statsd.bad_lines_seen":0},"timers":{},"timer_data":{}}
# stats.counters.statsd.packets_received.rate 1.000000 1606087052
# stats.counters.statsd.packets_received.count 1 1606087052
# stats.counters.a_test_value,category=web,severity=high.rate 100.000000 1606087052
# stats.counters.a_test_value,category=web,severity=high.count 100 1606087052
# stats.counters.statsd.bad_lines_seen.rate 0.000000 1606087052
# stats.counters.statsd.bad_lines_seen.count 0 1606087052
# stats.statsd.numStats 3 1606087052
# stats.statsd.graphiteStats.calculationtime 0.031000 1606087052
# stats.statsd.processing_time 0.016 1606087052
# stats.statsd.graphiteStats.last_exception 94695367228064 1606087052
# stats.statsd.graphiteStats.last_flush 94695367228064 1606087052
t/integration-tests/keys-with-tags.t ....... ok
2020-11-22 23:17:32.000000 +0000 note  Net::Statsd::Server: Initializing Net::Statsd::Server::Backend::Graphite backend
2020-11-22 23:17:32.000000 +0000 info  AnyEvent: Autoloaded model 'AnyEvent::Impl::EV', using it.
2020-11-22 23:17:32.515840 +0000 note  Net::Statsd::Server: statsd server started on 0.0.0.0:40001 (v0.17)
2020-11-22 23:17:32.515873 +0000 note  Net::Statsd::Server: manager interface started on 0.0.0.0:40002
2020-11-22 23:17:32.515906 +0000 note  Net::Statsd::Server: metrics flush will happen every 1s
# Expected mean value is 2063.39
2020-11-22 23:17:33.518584 +0000 note  Net::Statsd::Server: flushing metrics
# stats.counters.statsd.bad_lines_seen.rate 0.000000 1606087053
# stats.counters.statsd.bad_lines_seen.count 0 1606087053
# stats.counters.statsd.packets_received.rate 100.000000 1606087053
# stats.counters.statsd.packets_received.count 100 1606087053
# stats.timers.read_latency.sum 206339.000000 1606087053
# stats.timers.read_latency.sum_99 203347.000000 1606087053
# stats.timers.read_latency.sum_squares_99 450219203.000000 1606087053
# stats.timers.read_latency.mean_98 2044.520408 1606087053
# stats.timers.read_latency.mean_99 2054.010101 1606087053
# stats.timers.read_latency.count 100.000000 1606087053
# stats.timers.read_latency.count_95 95.000000 1606087053
# stats.timers.read_latency.sum_squares_98 441314947.000000 1606087053
# stats.timers.read_latency.upper_99 2984.000000 1606087053
# stats.timers.read_latency.mean 2063.390000 1606087053
# stats.timers.read_latency.count_98 98.000000 1606087053
# stats.timers.read_latency.lower 1013.000000 1606087053
# stats.timers.read_latency.std 578.043578 1606087053
# stats.timers.read_latency.median 2059.000000 1606087053
# stats.timers.read_latency.sum_squares 459171267.000000 1606087053
# stats.timers.read_latency.sum_squares_95 415005689.000000 1606087053
# stats.timers.read_latency.upper 2992.000000 1606087053
# stats.timers.read_latency.upper_95 2894.000000 1606087053
# stats.timers.read_latency.count_99 99.000000 1606087053
# stats.timers.read_latency.sum_95 191479.000000 1606087053
# stats.timers.read_latency.mean_95 2015.568421 1606087053
# stats.timers.read_latency.count_ps 100.000000 1606087053
# stats.timers.read_latency.upper_98 2976.000000 1606087053
# stats.timers.read_latency.sum_98 200363.000000 1606087053
# stats.statsd.numStats 3 1606087053
# stats.statsd.graphiteStats.calculationtime 0.069000 1606087053
# stats.statsd.processing_time 0.183 1606087053
# stats.statsd.graphiteStats.last_exception 94553169869472 1606087053
# stats.statsd.graphiteStats.last_flush 94553169869472 1606087053
t/integration-tests/percent-threshold.t .... ok
2020-11-22 23:17:33.000000 +0000 note  Net::Statsd::Server: Initializing Net::Statsd::Server::Backend::Console backend
2020-11-22 23:17:33.000000 +0000 note  Net::Statsd::Server: Initializing Net::Statsd::Server::Backend::Graphite backend
2020-11-22 23:17:33.000000 +0000 info  AnyEvent: Autoloaded model 'AnyEvent::Impl::EV', using it.
2020-11-22 23:17:33.700206 +0000 note  Net::Statsd::Server: statsd server started on 0.0.0.0:40001 (v0.17)
2020-11-22 23:17:33.700239 +0000 note  Net::Statsd::Server: manager interface started on 0.0.0.0:40002
2020-11-22 23:17:33.700272 +0000 note  Net::Statsd::Server: metrics flush will happen every 1s
2020-11-22 23:17:34.701554 +0000 note  Net::Statsd::Server: flushing metrics
Flushing stats at Sun Nov 22 23:17:34 2020
{"timer_data":{"a_test_value":{"count_90":1,"lower":"100","sum_90":"100","mean_90":"100","mean":100,"upper":"100","median":"100","sum":"100","sum_squares":10000,"count_ps":1,"upper_90":"100","std":0,"count":1,"sum_squares_90":10000}},"counters":{"statsd.bad_lines_seen":0,"statsd.packets_received":1},"timers":{"a_test_value":["100"]},"counter_rates":{"statsd.packets_received":1,"statsd.bad_lines_seen":0},"pctThreshold":["90"],"sets":null,"gauges":{}}
# stats.counters.statsd.bad_lines_seen.rate 0.000000 1606087054
# stats.counters.statsd.bad_lines_seen.count 0 1606087054
# stats.counters.statsd.packets_received.rate 1.000000 1606087054
# stats.counters.statsd.packets_received.count 1 1606087054
# stats.timers.a_test_value.count_90 1.000000 1606087054
# stats.timers.a_test_value.lower 100.000000 1606087054
# stats.timers.a_test_value.sum_90 100.000000 1606087054
# stats.timers.a_test_value.mean_90 100.000000 1606087054
# stats.timers.a_test_value.mean 100.000000 1606087054
# stats.timers.a_test_value.upper 100.000000 1606087054
# stats.timers.a_test_value.median 100.000000 1606087054
# stats.timers.a_test_value.sum 100.000000 1606087054
# stats.timers.a_test_value.sum_squares 10000.000000 1606087054
# stats.timers.a_test_value.count_ps 1.000000 1606087054
# stats.timers.a_test_value.upper_90 100.000000 1606087054
# stats.timers.a_test_value.std 0.000000 1606087054
# stats.timers.a_test_value.count 1.000000 1606087054
# stats.timers.a_test_value.sum_squares_90 10000.000000 1606087054
# stats.statsd.numStats 3 1606087054
# stats.statsd.graphiteStats.calculationtime 0.056000 1606087054
# stats.statsd.processing_time 0.045 1606087054
# stats.statsd.graphiteStats.last_exception 94050977065632 1606087054
# stats.statsd.graphiteStats.last_flush 94050977065632 1606087054
t/integration-tests/timers-are-valid.t ..... ok
t/process-metrics.t ........................ ok
t/trim.t ................................... ok
All tests successful.
Files=12, Tests=92, 10 wallclock secs ( 0.06 usr  0.03 sys +  0.95 cusr  0.25 csys =  1.29 CPU)
Result: PASS

------------------------------
PREREQUISITES
------------------------------

Prerequisite modules loaded:

requires:

    Module                Need Have    
    --------------------- ---- --------
    AnyEvent::Handle::UDP 0    0.050   
    IO::Socket::INET      0    1.41    
    JSON::XS              0    4.03    

build_requires:

    Module                Need Have    
    --------------------- ---- --------
    ExtUtils::MakeMaker   0    7.56    
    Test::More            0    1.302183

configure_requires:

    Module                Need Have    
    --------------------- ---- --------
    ExtUtils::MakeMaker   0    7.56    


------------------------------
ENVIRONMENT AND OTHER CONTEXT
------------------------------

Environment variables:

    AUTOMATED_TESTING = 1
    LANG = en_US.utf8
    PATH = /home/sand/bin:/usr/local/bin:/usr/local/sbin:/usr/sbin:/usr/bin:/sbin:/bin:/usr/games:/usr/local/games:/snap/bin:/usr/local/perl/bin:/usr/X11/bin
    PERL = /tmp/basesmoker-reloperl-YGPu/bin/perl
    PERL5LIB = /tmp/loop_over_bdir-5884-6mZP06/Dpkg-1.20.5-0/blib/arch:/tmp/loop_over_bdir-5884-6mZP06/Dpkg-1.20.5-0/blib/lib:/tmp/loop_over_bdir-5884-6mZP06/Debian-Packages-0.03-0/blib/arch:/tmp/loop_over_bdir-5884-6mZP06/Debian-Packages-0.03-0/blib/lib:/tmp/loop_over_bdir-5884-6mZP06/Serge-1.4-0/blib/arch:/tmp/loop_over_bdir-5884-6mZP06/Serge-1.4-0/blib/lib
    PERL5OPT = 
    PERL5_CPANPLUS_IS_RUNNING = 5892
    PERL5_CPAN_IS_RUNNING = 5892
    PERL_CANARY_STABILITY_NOPROMPT = 1
    PERL_MM_USE_DEFAULT = 1
    PERL_USE_UNSAFE_INC = 1
    SHELL = /usr/bin/zsh
    TERM = screen

Perl special variables (and OS-specific diagnostics, for MSWin32):

    $^X = /tmp/basesmoker-reloperl-YGPu/bin/perl
    $UID/$EUID = 1005 / 1005
    $GID = 1005 1005
    $EGID = 1005 1005

Perl module toolchain versions installed:

    Module              Have    
    ------------------- --------
    CPAN                2.28    
    CPAN::Meta          2.150010
    Cwd                 3.79    
    ExtUtils::CBuilder  0.280235
    ExtUtils::Command   7.56    
    ExtUtils::Install   2.18    
    ExtUtils::MakeMaker 7.56    
    ExtUtils::Manifest  1.72    
    ExtUtils::ParseXS   3.41    
    File::Spec          3.79    
    JSON                4.02    
    JSON::PP            4.05    
    Module::Build       0.4231  
    Module::Signature   0.87    
    Parse::CPAN::Meta   2.150010
    Test::Harness       3.42    
    Test::More          1.302183
    YAML                1.30    
    YAML::Syck          1.34    
    version             0.9928  


--

Summary of my perl5 (revision 5 version 33 subversion 4) configuration:
  Commit id: 019e34c2029d812bfe75e990c48a751881ed7776
  Platform:
    osname=linux
    osvers=4.15.0-123-generic
    archname=x86_64-linux
    uname='linux k93bionic 4.15.0-123-generic #126-ubuntu smp wed oct 21 09:40:11 utc 2020 x86_64 x86_64 x86_64 gnulinux '
    config_args='-Dprefix=/home/sand/src/perl/repoperls/installed-perls/host/k93bionic/v5.33.4/2aaf -Dmyhostname=k93bionic -Dinstallusrbinperl=n -Uversiononly -Dusedevel -des -Ui_db -Dlibswanted=cl pthread socket inet nsl gdbm dbm malloc dl ld sun m crypt sec util c cposix posix ucb BSD gdbm_compat -Uuseithreads -Uuselongdouble -DEBUGGING=-g'
    hint=recommended
    useposix=true
    d_sigaction=define
    useithreads=undef
    usemultiplicity=undef
    use64bitint=define
    use64bitall=define
    uselongdouble=undef
    usemymalloc=n
    default_inc_excludes_dot=define
  Compiler:
    cc='cc'
    ccflags ='-fwrapv -fno-strict-aliasing -pipe -fstack-protector-strong -I/usr/local/include -D_LARGEFILE_SOURCE -D_FILE_OFFSET_BITS=64'
    optimize='-O2 -g'
    cppflags='-fwrapv -fno-strict-aliasing -pipe -fstack-protector-strong -I/usr/local/include'
    ccversion=''
    gccversion='7.5.0'
    gccosandvers=''
    intsize=4
    longsize=8
    ptrsize=8
    doublesize=8
    byteorder=12345678
    doublekind=3
    d_longlong=define
    longlongsize=8
    d_longdbl=define
    longdblsize=16
    longdblkind=3
    ivtype='long'
    ivsize=8
    nvtype='double'
    nvsize=8
    Off_t='off_t'
    lseeksize=8
    alignbytes=8
    prototype=define
  Linker and Libraries:
    ld='cc'
    ldflags =' -fstack-protector-strong -L/usr/local/lib'
    libpth=/usr/local/lib /usr/lib/gcc/x86_64-linux-gnu/7/include-fixed /usr/include/x86_64-linux-gnu /usr/lib /lib/x86_64-linux-gnu /lib/../lib /usr/lib/x86_64-linux-gnu /usr/lib/../lib /lib
    libs=-lpthread -lnsl -ldl -lm -lcrypt -lutil -lc
    perllibs=-lpthread -lnsl -ldl -lm -lcrypt -lutil -lc
    libc=libc-2.27.so
    so=so
    useshrplib=false
    libperl=libperl.a
    gnulibc_version='2.27'
  Dynamic Linking:
    dlsrc=dl_dlopen.xs
    dlext=so
    d_dlsymun=undef
    ccdlflags='-Wl,-E'
    cccdlflags='-fPIC'
    lddlflags='-shared -O2 -g -L/usr/local/lib -fstack-protector-strong'


Characteristics of this binary (from libperl): 
  Compile-time options:
    HAS_TIMES
    PERLIO_LAYERS
    PERL_COPY_ON_WRITE
    PERL_DONT_CREATE_GVSV
    PERL_MALLOC_WRAP
    PERL_OP_PARENT
    PERL_PRESERVE_IVUV
    PERL_USE_DEVEL
    USE_64_BIT_ALL
    USE_64_BIT_INT
    USE_LARGE_FILES
    USE_LOCALE
    USE_LOCALE_COLLATE
    USE_LOCALE_CTYPE
    USE_LOCALE_NUMERIC
    USE_LOCALE_TIME
    USE_PERLIO
    USE_PERL_ATOF
  Built under linux
  Compiled at Nov 20 2020 15:10:51
  %ENV:
    PERL="/tmp/basesmoker-reloperl-YGPu/bin/perl"
    PERL5LIB="/tmp/loop_over_bdir-5884-6mZP06/Dpkg-1.20.5-0/blib/arch:/tmp/loop_over_bdir-5884-6mZP06/Dpkg-1.20.5-0/blib/lib:/tmp/loop_over_bdir-5884-6mZP06/Debian-Packages-0.03-0/blib/arch:/tmp/loop_over_bdir-5884-6mZP06/Debian-Packages-0.03-0/blib/lib:/tmp/loop_over_bdir-5884-6mZP06/Serge-1.4-0/blib/arch:/tmp/loop_over_bdir-5884-6mZP06/Serge-1.4-0/blib/lib"
    PERL5OPT=""
    PERL5_CPANPLUS_IS_RUNNING="5892"
    PERL5_CPAN_IS_RUNNING="5892"
    PERL_CANARY_STABILITY_NOPROMPT="1"
    PERL_MM_USE_DEFAULT="1"
    PERL_USE_UNSAFE_INC="1"
  @INC:
    /tmp/loop_over_bdir-5884-6mZP06/Dpkg-1.20.5-0/blib/arch
    /tmp/loop_over_bdir-5884-6mZP06/Dpkg-1.20.5-0/blib/lib
    /tmp/loop_over_bdir-5884-6mZP06/Debian-Packages-0.03-0/blib/arch
    /tmp/loop_over_bdir-5884-6mZP06/Debian-Packages-0.03-0/blib/lib
    /tmp/loop_over_bdir-5884-6mZP06/Serge-1.4-0/blib/arch
    /tmp/loop_over_bdir-5884-6mZP06/Serge-1.4-0/blib/lib
    /home/sand/src/perl/repoperls/installed-perls/host/k93bionic/v5.33.4/2aaf/lib/site_perl/5.33.4/x86_64-linux
    /home/sand/src/perl/repoperls/installed-perls/host/k93bionic/v5.33.4/2aaf/lib/site_perl/5.33.4
    /home/sand/src/perl/repoperls/installed-perls/host/k93bionic/v5.33.4/2aaf/lib/5.33.4/x86_64-linux
    /home/sand/src/perl/repoperls/installed-perls/host/k93bionic/v5.33.4/2aaf/lib/5.33.4
    .