Back
From: metabase:user:30977d10-2aae-11df-837a-5e0a49663a4f
Subject: PASS WebService-Libris-0.08 v5.18.0 Mac OS X
Date: 2014-01-03T07:34:25Z
This distribution has been tested as part of the CPAN Testers
project, supporting the Perl programming language. See
http://wiki.cpantesters.org/ for more information or email
questions to cpan-testers-discuss@perl.org
--
Dear Moritz Lenz,
This is a computer-generated report for WebService-Libris-0.08
on perl 5.18.0, created by CPAN-Reporter-1.2010.
Thank you for uploading your work to CPAN. Congratulations!
All tests were successful.
Sections of this report:
* Tester comments
* Program output
* Prerequisites
* Environment and other context
------------------------------
TESTER COMMENTS
------------------------------
Additional comments from tester:
this report is from an automated smoke testing program
and was not reviewed by a human for accuracy
------------------------------
PROGRAM OUTPUT
------------------------------
Output from '/usr/bin/make test':
PERL_DL_NONLAZY=1 /Users/trushel/perl/5.18.0/bin/perl "-MExtUtils::Command::MM" "-MTest::Harness" "-e" "undef *Test::Harness::Switches; test_harness(0, 'blib/lib', 'blib/arch')" t/*.t
# Testing WebService::Libris 0.08, Perl 5.018000, /Users/trushel/perl/5.18.0/bin/perl
t/00-load.t ... ok
t/basic.t ..... ok
t/manifest.t .. skipped: Author tests not required for installation
t/pod.t ....... ok
All tests successful.
Files=4, Tests=25, 1 wallclock secs ( 0.03 usr 0.01 sys + 0.64 cusr 0.06 csys = 0.74 CPU)
Result: PASS
------------------------------
PREREQUISITES
------------------------------
Prerequisite modules loaded:
requires:
Module Need Have
------------------- ----- ------
Mojolicious 4.063 4.65
build_requires:
Module Need Have
------------------- ----- ------
ExtUtils::MakeMaker 0 6.84
configure_requires:
Module Need Have
------------------- ----- ------
Module::Build 0.42 0.4203
------------------------------
ENVIRONMENT AND OTHER CONTEXT
------------------------------
Environment variables:
AUTOMATED_TESTING = 1
LANG = en_US.UTF-8
PATH = /usr/bin:/bin:/usr/sbin:/sbin:/usr/local/bin:/usr/local/bin/g4bin:/usr/local/sbin
PERL5LIB =
PERL5OPT =
PERL5_CPANPLUS_IS_RUNNING = 66603
PERL5_CPAN_IS_RUNNING = 66603
PERL5_CPAN_IS_RUNNING_IN_RECURSION = 57598,66603
PERL_CR_SMOKER_CURRENT = WebService-Libris-0.08
PERL_EXTUTILS_AUTOINSTALL = --defaultdeps
PERL_MM_USE_DEFAULT = 1
SHELL = /bin/bash
TERM = xterm-256color
TMPDIR = /var/folders/00/11s1r000h01000cxqpysvccm004747/T/
Perl special variables (and OS-specific diagnostics, for MSWin32):
$^X = /Users/trushel/perl/5.18.0/bin/perl
$UID/$EUID = 138375 / 138375
$GID = 5762 5762
$EGID = 5762 5762
Perl module toolchain versions installed:
Module Have
------------------- --------
CPAN 2.00
CPAN::Meta 2.132510
Cwd 3.40
ExtUtils::CBuilder 0.280212
ExtUtils::Command 1.18
ExtUtils::Install 1.59
ExtUtils::MakeMaker 6.84
ExtUtils::Manifest 1.63
ExtUtils::ParseXS 3.22
File::Spec 3.40
JSON 2.90
JSON::PP 2.27203
Module::Build 0.4203
Module::Signature n/a
Parse::CPAN::Meta 1.4409
Test::Harness 3.29
Test::More 1.001002
YAML 0.84
YAML::Syck 1.27
version 0.9904
--
Summary of my perl5 (revision 5 version 18 subversion 0) configuration:
Platform:
osname=darwin, osvers=12.4.0, archname=darwin-2level
uname='darwin trushel-macbookpro.local 12.4.0 darwin kernel version 12.4.0: wed may 1 17:57:12 pdt 2013; root:xnu-2050.24.15~1release_x86_64 x86_64 '
config_args=''
hint=recommended, useposix=true, d_sigaction=define
useithreads=undef, usemultiplicity=undef
useperlio=define, d_sfio=undef, uselargefiles=define, usesocks=undef
use64bitint=define, use64bitall=define, uselongdouble=undef
usemymalloc=n, bincompat5005=undef
Compiler:
cc='cc', ccflags ='-fno-common -DPERL_DARWIN -fno-strict-aliasing -pipe -fstack-protector',
optimize='-O3',
cppflags='-fno-common -DPERL_DARWIN -fno-strict-aliasing -pipe -fstack-protector'
ccversion='', gccversion='4.2.1 Compatible Apple LLVM 4.2 (clang-425.0.28)', gccosandvers=''
intsize=4, longsize=8, ptrsize=8, doublesize=8, byteorder=12345678
d_longlong=define, longlongsize=8, d_longdbl=define, longdblsize=16
ivtype='long', ivsize=8, nvtype='double', nvsize=8, Off_t='off_t', lseeksize=8
alignbytes=8, prototype=define
Linker and Libraries:
ld='env MACOSX_DEPLOYMENT_TARGET=10.3 cc', ldflags =' -fstack-protector -L/usr/local/lib'
libpth=/usr/local/lib /usr/lib
libs=-ldbm -ldl -lm -lutil -lc
perllibs=-ldl -lm -lutil -lc
libc=, so=dylib, useshrplib=false, libperl=libperl.a
gnulibc_version=''
Dynamic Linking:
dlsrc=dl_dlopen.xs, dlext=bundle, d_dlsymun=undef, ccdlflags=' '
cccdlflags=' ', lddlflags=' -bundle -undefined dynamic_lookup -L/usr/local/lib -fstack-protector'
Characteristics of this binary (from libperl):
Compile-time options: HAS_TIMES PERLIO_LAYERS PERL_DONT_CREATE_GVSV
PERL_HASH_FUNC_ONE_AT_A_TIME_HARD PERL_MALLOC_WRAP
PERL_PRESERVE_IVUV PERL_SAWAMPERSAND USE_64_BIT_ALL
USE_64_BIT_INT USE_LARGE_FILES USE_LOCALE
USE_LOCALE_COLLATE USE_LOCALE_CTYPE
USE_LOCALE_NUMERIC USE_PERLIO USE_PERL_ATOF
Built under darwin
Compiled at Jul 8 2013 20:25:16
%ENV:
PERL5LIB=""
PERL5OPT=""
PERL5_CPANPLUS_IS_RUNNING="66603"
PERL5_CPAN_IS_RUNNING="66603"
PERL5_CPAN_IS_RUNNING_IN_RECURSION="57598,66603"
PERL_CR_SMOKER_CURRENT="WebService-Libris-0.08"
PERL_EXTUTILS_AUTOINSTALL="--defaultdeps"
PERL_MM_USE_DEFAULT="1"
@INC:
/Users/trushel/perl/5.18.0/lib/site_perl/5.18.0/darwin-2level
/Users/trushel/perl/5.18.0/lib/site_perl/5.18.0
/Users/trushel/perl/5.18.0/lib/5.18.0/darwin-2level
/Users/trushel/perl/5.18.0/lib/5.18.0
.