IO-Stringy v2.113 Perl 5 v5.39.7 darwin-2level

Status
Pass
From
John SJ Anderson
Dist
IO-Stringy v2.113
Platform
Perl 5 v5.39.7 darwin-2level
Date
2024-01-31 01:17:15
ID
784121ee-bfd6-11ee-b9cc-c9d70ff2a09c
This distribution has been tested as part of the CPAN Testers
project, supporting the Perl programming language.  See
http://wiki.cpantesters.org/ for more information or email
questions to cpan-testers-discuss@perl.org


--
Dear CAPOEIRAB,

This is a computer-generated report for IO-Stringy-2.113
on perl 5.39.7, created by App::cpanminus::reporter 0.21 (1.7047).

Thank you for uploading your work to CPAN.  Congratulations!
All tests were successful.

Sections of this report:

    * Tester comments
    * Program output
    * Prerequisites
    * Environment and other context

------------------------------
TESTER COMMENTS
------------------------------

Additional comments from tester:

none provided

------------------------------
PROGRAM OUTPUT
------------------------------

Output from '':

Building and testing IO-Stringy-2.113
cp lib/IO/AtomicFile.pm blib/lib/IO/AtomicFile.pm
cp lib/IO/Wrap.pm blib/lib/IO/Wrap.pm
cp lib/IO/WrapTie.pm blib/lib/IO/WrapTie.pm
cp lib/IO/Lines.pm blib/lib/IO/Lines.pm
cp lib/IO/InnerFile.pm blib/lib/IO/InnerFile.pm
cp lib/IO/Stringy.pm blib/lib/IO/Stringy.pm
cp lib/IO/Scalar.pm blib/lib/IO/Scalar.pm
cp lib/IO/ScalarArray.pm blib/lib/IO/ScalarArray.pm
PERL_DL_NONLAZY=1 "/opt/plenv/versions/5.39.7/bin/perl5.39.7" "-MExtUtils::Command::MM" "-MTest::Harness" "-e" "undef *Test::Harness::Switches; test_harness(0, 'blib/lib', 'blib/arch')" t/*.t
# 
# Versions for all modules listed in MYMETA.json (including optional ones):
# 
# === Configure Requires ===
# 
#     Module              Want Have
#     ------------------- ---- ----
#     ExtUtils::MakeMaker  any 7.70
# 
# === Build Requires ===
# 
#     Module              Want Have
#     ------------------- ---- ----
#     ExtUtils::MakeMaker  any 7.70
# 
# === Test Requires ===
# 
#     Module              Want     Have
#     ------------------- ---- --------
#     ExtUtils::MakeMaker  any     7.70
#     File::Basename       any     2.86
#     File::Spec           any     3.90
#     File::Temp           any   0.2311
#     FileHandle           any     2.05
#     IO::File             any     1.55
#     IO::Handle           any     1.55
#     Symbol               any     1.09
#     Test::More          0.88 1.302198
#     Test::Tester         any 1.302198
#     strict               any     1.13
#     warnings             any     1.67
# 
# === Test Recommends ===
# 
#     Module         Want     Have
#     ---------- -------- --------
#     CPAN::Meta 2.120900 2.150010
# 
# === Runtime Requires ===
# 
#     Module     Want  Have
#     ---------- ---- -----
#     Carp        any  1.54
#     Exporter   5.57  5.78
#     File::Spec  any  3.90
#     FileHandle  any  2.05
#     IO::File    any  1.55
#     IO::Handle  any  1.55
#     Symbol      any  1.09
#     overload    any  1.37
#     parent      any 0.241
#     strict      any  1.13
#     warnings    any  1.67
# 
t/00-report-prereqs.t .. ok
t/IO_InnerFile.t ....... ok
t/IO_Lines.t ........... ok
t/IO_Scalar.t .......... ok
t/IO_ScalarArray.t ..... ok
t/IO_WrapTie.t ......... ok
t/simple.t ............. ok
t/two.t ................ ok
All tests successful.
Files=8, Tests=127,  0 wallclock secs ( 0.03 usr  0.01 sys +  0.48 cusr  0.14 csys =  0.66 CPU)
Result: PASS

------------------------------
PREREQUISITES
------------------------------

Prerequisite modules loaded:

runtime:

    Module              Need Have 
    ------------------- ---- -----
    Carp                0    1.54 
    Exporter            5.57 5.78 
    File::Spec          0    3.90 
    FileHandle          0    2.05 
    IO::File            0    1.55 
    IO::Handle          0    1.55 
    overload            0    1.37 
    parent              0    0.241
    strict              0    1.13 
    Symbol              0    1.09 
    warnings            0    1.67 

build:

    Module              Need Have 
    ------------------- ---- -----
    ExtUtils::MakeMaker 0    7.70 

configure:

    Module              Need Have 
    ------------------- ---- -----
    ExtUtils::MakeMaker 0    7.70 


------------------------------
ENVIRONMENT AND OTHER CONTEXT
------------------------------

Environment variables:

    LANG = en_US.UTF-8
    LC_ALL = en_US.UTF-8
    LC_TERMINAL = iTerm2
    LC_TERMINAL_VERSION = 3.4.23
    PATH = /opt/plenv/versions/5.39.7/bin:/opt/plenv/libexec:/opt/plenv/plugins/perl-build/bin:/Users/johnanderson/bin:/opt/plenv/shims:/opt/plenv/bin:/opt/git/bin:/opt/local/bin:/opt/vadr/vadr:/usr/local/bin:/usr/local/sbin:/usr/bin:/bin:/usr/sbin:/sbin
    PERL5LIB = /opt/vadr/vadr:/opt/vadr/sequip:/opt/vadr/Bio-Easel/blib/lib:/opt/vadr/Bio-Easel/blib/arch:/opt/vadr/vadr:/opt/vadr/sequip:/opt/vadr/Bio-Easel/blib/lib:/opt/vadr/Bio-Easel/blib/arch:
    PERL_CPANM_OPT = --skip-installed --prompt
    SHELL = /bin/zsh
    TERM = screen-256color
    TMPDIR = /var/folders/t7/8nhnkmk561s448776gc2b68w0000gp/T/

Perl special variables (and OS-specific diagnostics, for MSWin32):

    EGID = 20 20 12 61 79 80 81 98 702 33 100 204 250 395 398 701 704
    EUID = 502
    EXECUTABLE_NAME = /opt/plenv/versions/5.39.7/bin/perl5.39.7
    GID = 20 20 12 61 79 80 81 98 702 33 100 204 250 395 398 701 704
    UID = 502

Perl module toolchain versions installed:

    Module              Have    
    ------------------- --------
    CPAN                2.36    
    CPAN::Meta          2.150010
    Cwd                 3.90    
    ExtUtils::CBuilder  0.280240
    ExtUtils::Command   7.70    
    ExtUtils::Install   2.22    
    ExtUtils::MakeMaker 7.70    
    ExtUtils::Manifest  1.75    
    ExtUtils::ParseXS   3.51    
    File::Spec          3.90    
    JSON                4.10    
    JSON::PP            4.16    
    Module::Build       0.4234  
    Module::Signature   n/a     
    Parse::CPAN::Meta   2.150010
    Test::Harness       3.48    
    Test::More          1.302198
    YAML                1.31    
    YAML::Syck          n/a     
    version             0.9930  


--

Summary of my perl5 (revision 5 version 39 subversion 7) configuration:
   
  Platform:
    osname=darwin
    osvers=23.3.0
    archname=darwin-2level
    uname='darwin ws-c02g32p7ml7j 23.3.0 darwin kernel version 23.3.0: wed dec 20 21:28:58 pst 2023; root:xnu-10002.81.5~7release_x86_64 x86_64 i386 macbookpro16,2 darwin '
    config_args='-Dprefix=/opt/plenv/versions/5.39.7 -de -Dversiononly -Dusedevel -A'eval:scriptdir=/opt/plenv/versions/5.39.7/bin''
    hint=recommended
    useposix=true
    d_sigaction=define
    useithreads=undef
    usemultiplicity=undef
    use64bitint=define
    use64bitall=define
    uselongdouble=undef
    usemymalloc=n
    default_inc_excludes_dot=define
  Compiler:
    cc='cc'
    ccflags ='-fno-common -DPERL_DARWIN -mmacosx-version-min=14.3 -DNO_THREAD_SAFE_QUERYLOCALE -DNO_POSIX_2008_LOCALE -fno-strict-aliasing -pipe -fstack-protector-strong -I/usr/local/include'
    optimize='-O3'
    cppflags='-fno-common -DPERL_DARWIN -mmacosx-version-min=14.3 -DNO_THREAD_SAFE_QUERYLOCALE -DNO_POSIX_2008_LOCALE -fno-strict-aliasing -pipe -fstack-protector-strong -I/usr/local/include'
    ccversion=''
    gccversion='Apple LLVM 15.0.0 (clang-1500.1.0.2.5)'
    gccosandvers=''
    intsize=4
    longsize=8
    ptrsize=8
    doublesize=8
    byteorder=12345678
    doublekind=3
    d_longlong=define
    longlongsize=8
    d_longdbl=define
    longdblsize=16
    longdblkind=3
    ivtype='long'
    ivsize=8
    nvtype='double'
    nvsize=8
    Off_t='off_t'
    lseeksize=8
    alignbytes=8
    prototype=define
  Linker and Libraries:
    ld='cc'
    ldflags =' -mmacosx-version-min=14.3 -fstack-protector-strong -L/usr/local/lib'
    libpth=/usr/local/lib /Library/Developer/CommandLineTools/usr/lib/clang/15.0.0/lib /Library/Developer/CommandLineTools/SDKs/MacOSX14.2.sdk/usr/lib /Library/Developer/CommandLineTools/usr/lib /usr/lib
    libs= 
    perllibs=
    libc=
    so=dylib
    useshrplib=false
    libperl=libperl.a
    gnulibc_version=''
  Dynamic Linking:
    dlsrc=dl_dlopen.xs
    dlext=bundle
    d_dlsymun=undef
    ccdlflags=' '
    cccdlflags=' '
    lddlflags=' -mmacosx-version-min=14.3 -bundle -undefined dynamic_lookup -L/usr/local/lib -fstack-protector-strong'


Characteristics of this binary (from libperl): 
  Compile-time options:
    HAS_LONG_DOUBLE
    HAS_STRTOLD
    HAS_TIMES
    PERLIO_LAYERS
    PERL_COPY_ON_WRITE
    PERL_DONT_CREATE_GVSV
    PERL_HASH_FUNC_SIPHASH13
    PERL_HASH_USE_SBOX32
    PERL_MALLOC_WRAP
    PERL_OP_PARENT
    PERL_PRESERVE_IVUV
    PERL_USE_DEVEL
    PERL_USE_SAFE_PUTENV
    USE_64_BIT_ALL
    USE_64_BIT_INT
    USE_LARGE_FILES
    USE_LOCALE
    USE_LOCALE_COLLATE
    USE_LOCALE_CTYPE
    USE_LOCALE_NUMERIC
    USE_LOCALE_TIME
    USE_PERLIO
    USE_PERL_ATOF
  Built under darwin
  Compiled at Jan 30 2024 11:20:07
  %ENV:
    PERL5LIB="/opt/vadr/vadr:/opt/vadr/sequip:/opt/vadr/Bio-Easel/blib/lib:/opt/vadr/Bio-Easel/blib/arch:/opt/vadr/vadr:/opt/vadr/sequip:/opt/vadr/Bio-Easel/blib/lib:/opt/vadr/Bio-Easel/blib/arch:"
    PERL_CPANM_OPT="--skip-installed --prompt"
  @INC:
    /opt/vadr/vadr
    /opt/vadr/sequip
    /opt/vadr/Bio-Easel/blib/lib
    /opt/vadr/Bio-Easel/blib/arch
    /opt/vadr/vadr
    /opt/vadr/sequip
    /opt/vadr/Bio-Easel/blib/lib
    /opt/vadr/Bio-Easel/blib/arch
    /opt/plenv/versions/5.39.7/lib/perl5/site_perl/5.39.7/darwin-2level
    /opt/plenv/versions/5.39.7/lib/perl5/site_perl/5.39.7
    /opt/plenv/versions/5.39.7/lib/perl5/5.39.7/darwin-2level
    /opt/plenv/versions/5.39.7/lib/perl5/5.39.7