Devel-REPL v1.003029 Perl 5 v5.37.7 x86_64-linux-thread-multi
- Status
- Pass
- From
- Carlos Guevara
- Dist
-
Devel-REPL v1.003029
- Platform
- Perl 5 v5.37.7 x86_64-linux-thread-multi
- Date
- 2022-11-30 04:28:42
- ID
- 7871550e-7067-11ed-af25-96178878b31a
This distribution has been tested as part of the CPAN Testers
project, supporting the Perl programming language. See
http://wiki.cpantesters.org/ for more information or email
questions to cpan-testers-discuss@perl.org
--
Dear Karen Etheridge,
This is a computer-generated report for Devel-REPL-1.003029
on perl 5.37.7, created by CPAN-Reporter-1.2018.
Thank you for uploading your work to CPAN. Congratulations!
All tests were successful.
Sections of this report:
* Tester comments
* Program output
* Prerequisites
* Environment and other context
------------------------------
TESTER COMMENTS
------------------------------
Additional comments from tester:
this report is from an automated smoke testing program
and was not reviewed by a human for accuracy
------------------------------
PROGRAM OUTPUT
------------------------------
Output from '/usr/bin/make test':
PERL_DL_NONLAZY=1 "/home/cpan/bin/perl-blead/bin/perl5.37.7" "-MExtUtils::Command::MM" "-MTest::Harness" "-e" "undef *Test::Harness::Switches; test_harness(0, 'blib/lib', 'blib/arch')" t/*.t
#
# Versions for all modules listed in MYMETA.json (including optional ones):
#
# === Configure Requires ===
#
# Module Want Have
# ------------------------ -------- --------
# CPAN::Meta::Requirements 2.120620 2.140
# ExtUtils::MakeMaker any 7.64
# Module::Metadata any 1.000037
#
# === Build Requires ===
#
# Module Want Have
# ------------------- ---- ----
# ExtUtils::MakeMaker any 7.64
#
# === Test Requires ===
#
# Module Want Have
# ------------------- ---- --------
# ExtUtils::MakeMaker any 7.64
# File::Spec any 3.87
# Test::Fatal any 0.016
# Test::More 0.88 1.302191
# if any 0.0610
#
# === Test Recommends ===
#
# Module Want Have
# ---------- -------- --------
# CPAN::Meta 2.120900 2.150010
#
# === Runtime Requires ===
#
# Module Want Have
# ------------------------- ------ -------
# App::Nopaste any 1.013
# B::Concise 0.62 1.007
# B::Keywords any 1.24
# Data::Dump::Streamer 2.39 2.40
# Data::Dumper::Concise any 2.023
# Devel::Peek any 1.32
# File::Next any 1.18
# File::Spec any 3.87
# Lexical::Persistence any missing
# Module::Runtime any 0.016
# Moose 0.93 2.2201
# Moose::Meta::Role any 2.2201
# Moose::Role any 2.2201
# MooseX::Getopt 0.18 0.75
# MooseX::Object::Pluggable 0.0009 0.0014
# PPI any 1.276
# Scalar::Util any 1.63
# Task::Weaken any 1.06
# Term::ANSIColor any 5.01
# Term::ReadLine any 1.17
# Time::HiRes any 1.9772
# namespace::autoclean any 0.29
# strict any 1.12
# warnings any 1.61
#
# === Runtime Recommends ===
#
# Module Want Have
# --------------------- ----- -------
# App::Nopaste any 1.013
# B::Keywords any 1.24
# Data::Dump::Streamer 2.39 2.40
# Data::Dumper::Concise any 2.023
# File::Next any 1.18
# Lexical::Persistence any missing
# Module::Refresh any missing
# PPI any 1.276
# PPI::XS 0.902 missing
# Sys::SigAction any missing
#
# === Other Modules ===
#
# Module Have
# --------------- ------
# Encode 3.19
# File::Temp 0.2311
# JSON::PP 4.12
# Module::Runtime 0.016
# Sub::Name 0.26
# YAML 1.30
# autodie 2.34
#
#
# *** WARNING WARNING WARNING WARNING WARNING WARNING WARNING WARNING ***
#
# The following REQUIRED prerequisites were not satisfied:
#
# Lexical::Persistence is not installed (any version required)
#
t/00-report-prereqs.t .. ok
t/load_core.t .......... ok
t/load_plugins.t ....... ok
All tests successful.
Files=3, Tests=61, 2 wallclock secs ( 0.04 usr 0.01 sys + 2.19 cusr 0.34 csys = 2.58 CPU)
Result: PASS
------------------------------
PREREQUISITES
------------------------------
Prerequisite modules loaded:
requires:
Module Need Have
------------------------- -------- --------
App::Nopaste 0 1.013
B::Concise 0.62 1.007
B::Keywords 0 1.24
Data::Dump::Streamer 2.39 2.40
Data::Dumper::Concise 0 2.023
Devel::Peek 0 1.32
File::Next 0 1.18
File::Spec 0 3.87
! Lexical::Persistence 0 n/a
Module::Runtime 0 0.016
Moose 0.93 2.2201
Moose::Meta::Role 0 2.2201
Moose::Role 0 2.2201
MooseX::Getopt 0.18 0.75
MooseX::Object::Pluggable 0.0009 0.0014
namespace::autoclean 0 0.29
perl 5.008001 5.037007
PPI 0 1.276
Scalar::Util 0 1.63
strict 0 1.12
Task::Weaken 0 1.06
Term::ANSIColor 0 5.01
Term::ReadLine 0 1.17
Time::HiRes 0 1.9772
warnings 0 1.61
build_requires:
Module Need Have
------------------------- -------- --------
ExtUtils::MakeMaker 0 7.64
File::Spec 0 3.87
if 0 0.0610
Test::Fatal 0 0.016
Test::More 0.88 1.302191
configure_requires:
Module Need Have
------------------------- -------- --------
CPAN::Meta::Requirements 2.120620 2.140
ExtUtils::MakeMaker 0 7.64
Module::Metadata 0 1.000037
perl 5.008001 5.037007
------------------------------
ENVIRONMENT AND OTHER CONTEXT
------------------------------
Environment variables:
AUTOMATED_TESTING = 1
DATE_MANIP_TEST_DM5 = 1
LANG = C.UTF-8
LC_COLLATE = C
NONINTERACTIVE_TESTING = 1
NO_NETWORK_TESTING = 1
PATH = /home/cpan/bin/perl-blead/bin:/usr/local/sbin:/usr/local/bin:/usr/sbin:/usr/bin:/sbin:/bin
PERL5LIB =
PERL5OPT =
PERL5_CPANPLUS_IS_RUNNING = 11195
PERL5_CPAN_IS_RUNNING = 11195
PERL_MM_USE_DEFAULT = 1
PERL_USE_UNSAFE_INC = 1
PERL_VERSION = blead
SHELL = /bin/bash
TERM = screen
Perl special variables (and OS-specific diagnostics, for MSWin32):
$^X = /home/cpan/bin/perl-blead/bin/perl5.37.7
$UID/$EUID = 1001 / 1001
$GID = 1001 1001
$EGID = 1001 1001
Perl module toolchain versions installed:
Module Have
------------------- --------
CPAN 2.34
CPAN::Meta 2.150010
Cwd 3.86
ExtUtils::CBuilder 0.280238
ExtUtils::Command 7.64
ExtUtils::Install 2.20
ExtUtils::MakeMaker 7.64
ExtUtils::Manifest 1.73
ExtUtils::ParseXS 3.49
File::Spec 3.87
JSON 4.10
JSON::PP 4.12
Module::Build 0.4231
Module::Signature n/a
Parse::CPAN::Meta 2.150010
Test::Harness 3.44
Test::More 1.302191
YAML 1.30
YAML::Syck 1.34
version 0.9929
--
Summary of my perl5 (revision 5 version 37 subversion 7) configuration:
Commit id: 4d597d86ca65c369680ced9b942edbde4a6ec0a7
Platform:
osname=linux
osvers=5.15.78-0-lts
archname=x86_64-linux-thread-multi
uname='linux cjg-alpine3 5.15.78-0-lts #1-alpine smp fri, 11 nov 2022 10:19:45 +0000 x86_64 linux '
config_args='-des -Dprefix=~/bin/perl-blead -Dscriptdir=~/bin/perl-blead/bin -Dusedevel -Duse64bitall -Duseithreads'
hint=recommended
useposix=true
d_sigaction=define
useithreads=define
usemultiplicity=define
use64bitint=define
use64bitall=define
uselongdouble=undef
usemymalloc=n
default_inc_excludes_dot=define
Compiler:
cc='cc'
ccflags ='-D_REENTRANT -D_GNU_SOURCE -D_GNU_SOURCE -fwrapv -fno-strict-aliasing -pipe -fstack-protector-strong -D_LARGEFILE_SOURCE -D_FILE_OFFSET_BITS=64'
optimize='-O2'
cppflags='-D_REENTRANT -D_GNU_SOURCE -D_GNU_SOURCE -fwrapv -fno-strict-aliasing -pipe -fstack-protector-strong'
ccversion=''
gccversion='11.2.1 20220219'
gccosandvers=''
intsize=4
longsize=8
ptrsize=8
doublesize=8
byteorder=12345678
doublekind=3
d_longlong=define
longlongsize=8
d_longdbl=define
longdblsize=16
longdblkind=3
ivtype='long'
ivsize=8
nvtype='double'
nvsize=8
Off_t='off_t'
lseeksize=8
alignbytes=8
prototype=define
Linker and Libraries:
ld='cc'
ldflags =' -fstack-protector-strong -L/usr/local/lib'
libpth=/usr/lib /usr/local/lib /lib
libs=-lpthread -ldb -ldl -lm -lcrypt -lutil -lc
perllibs=-lpthread -ldl -lm -lcrypt -lutil -lc
libc=/usr/lib/libc.a
so=so
useshrplib=false
libperl=libperl.a
gnulibc_version=''
Dynamic Linking:
dlsrc=dl_dlopen.xs
dlext=so
d_dlsymun=undef
ccdlflags='-Wl,-E'
cccdlflags='-fPIC'
lddlflags='-shared -O2 -L/usr/local/lib -fstack-protector-strong'
Characteristics of this binary (from libperl):
Compile-time options:
HAS_TIMES
MULTIPLICITY
PERLIO_LAYERS
PERL_COPY_ON_WRITE
PERL_DONT_CREATE_GVSV
PERL_HASH_FUNC_SIPHASH13
PERL_HASH_USE_SBOX32
PERL_MALLOC_WRAP
PERL_OP_PARENT
PERL_PRESERVE_IVUV
PERL_USE_DEVEL
PERL_USE_SAFE_PUTENV
USE_64_BIT_ALL
USE_64_BIT_INT
USE_ITHREADS
USE_LARGE_FILES
USE_LOCALE
USE_LOCALE_COLLATE
USE_LOCALE_CTYPE
USE_LOCALE_NUMERIC
USE_LOCALE_TIME
USE_PERLIO
USE_PERL_ATOF
USE_REENTRANT_API
USE_THREAD_SAFE_LOCALE
Built under linux
Compiled at Nov 29 2022 09:59:10
%ENV:
PERL5LIB=""
PERL5OPT=""
PERL5_CPANPLUS_IS_RUNNING="11195"
PERL5_CPAN_IS_RUNNING="11195"
PERL_MM_USE_DEFAULT="1"
PERL_USE_UNSAFE_INC="1"
PERL_VERSION="blead"
@INC:
/home/cpan/bin/perl-blead/lib/site_perl/5.37.7/x86_64-linux-thread-multi
/home/cpan/bin/perl-blead/lib/site_perl/5.37.7
/home/cpan/bin/perl-blead/lib/5.37.7/x86_64-linux-thread-multi
/home/cpan/bin/perl-blead/lib/5.37.7
.