Dancer-Session-Cookie v0.30 Perl 5 v5.12.5 i386-freebsd-thread-multi-64int
- Status
- Pass
- From
- Chris Williams (BINGOS)
- Dist
-
Dancer-Session-Cookie v0.30
- Platform
- Perl 5 v5.12.5 i386-freebsd-thread-multi-64int
- Date
- 2021-10-09 02:20:28
- ID
- 7873d59e-28a7-11ec-bc66-57723b537541
This distribution has been tested as part of the CPAN Testers
project, supporting the Perl programming language. See
http://wiki.cpantesters.org/ for more information or email
questions to cpan-testers-discuss@perl.org
--
Dear Yanick Champoux,
This is a computer-generated error report created automatically by
CPANPLUS, version 0.9912. Testers personal comments may appear
at the end of this report.
Thank you for uploading your work to CPAN. Congratulations!
All tests were successful.
TEST RESULTS:
Below is the error stack from stage 'make test':
PERL_DL_NONLAZY=1 "/usr/home/cpan/pit/rel/perl-5.12.5/bin/perl" "-MExtUtils::Command::MM" "-MTest::Harness" "-e" "undef *Test::Harness::Switches; test_harness(0, 'blib/lib', 'blib/arch')" t/*.t
t/00-compile.t ............... ok
#
# Versions for all modules listed in MYMETA.json (including optional ones):
#
# === Configure Requires ===
#
# Module Want Have
# ------------------- ---- ----
# ExtUtils::MakeMaker any 7.62
#
# === Build Requires ===
#
# Module Want Have
# ------------------- ---- ----
# ExtUtils::MakeMaker any 7.62
#
# === Test Requires ===
#
# Module Want Have
# --------------------- ------ --------
# Dancer::ModuleLoader any 1.3513
# Dancer::Test any 1.3513
# ExtUtils::MakeMaker any 7.62
# File::Spec any 3.75
# File::Temp any 0.2311
# FindBin any 1.50
# HTTP::Cookies any 6.10
# HTTP::Date any 6.05
# HTTP::Request::Common any 6.33
# IO::Handle any 1.28
# IPC::Open3 any 1.05
# Plack 1.0029 1.0048
# Plack::Test any undef
# Test::Exception any 0.43
# Test::More 0.96 1.302187
# Test::NoWarnings any 1.06
# Test::Requires any 0.11
#
# === Test Recommends ===
#
# Module Want Have
# ---------- -------- --------
# CPAN::Meta 2.120900 2.150010
#
# === Runtime Requires ===
#
# Module Want Have
# ------------------------- ------ ------
# Crypt::CBC any 3.04
# Crypt::Rijndael any 1.16
# Dancer 1.3113 1.3513
# Dancer::Cookie any 1.3513
# Dancer::Cookies any 1.3513
# Dancer::Session::Abstract any 1.3513
# MIME::Base64 any 3.16
# PerlX::Maybe any 1.201
# Session::Storage::Secure 0.010 1.000
# Storable any 3.25
# String::CRC32 any 2.100
# Time::Duration::Parse any 0.16
# parent any 0.238
# strict any 1.04
# warnings any 1.09
#
t/00-report-prereqs.t ........ ok
t/01-session.t ............... ok
t/02-configfile.t ............ ok
t/03-path.t .................. ok
t/04-session_name.t .......... ok
t/05-session_secure.t ........ ok
t/06-redirect.t .............. ok
t/redirect-session-dancer.t .. ok
t/server.t ................... ok
t/session-stealing.t ......... ok
t/store-objects.t ............ ok
All tests successful.
Files=12, Tests=47, 20 wallclock secs ( 0.13 usr 0.05 sys + 5.98 cusr 2.11 csys = 8.27 CPU)
Result: PASS
PREREQUISITES:
Here is a list of prerequisites you specified and versions we
managed to load:
Module Name Have Want
Crypt::CBC 3.04 0
Crypt::Rijndael 1.16 0
Dancer 1.3513 1.3113
Dancer::Cookie 1.3513 0
Dancer::Cookies 1.3513 0
Dancer::ModuleLoader 1.3513 0
Dancer::Session::Abstract 1.3513 0
Dancer::Test 1.3513 0
ExtUtils::MakeMaker 7.62 0
File::Spec 3.75 0
File::Temp 0.2311 0
FindBin 1.50 0
HTTP::Cookies 6.10 0
HTTP::Date 6.05 0
HTTP::Request::Common 6.33 0
IO::Handle 1.28 0
IPC::Open3 1.05 0
MIME::Base64 3.16 0
PerlX::Maybe 1.201 0
Plack 1.0048 1.0029
Plack::Test 0 0
Session::Storage::Secure 1.000 0.010
Storable 3.25 0
String::CRC32 2.100 0
Test::Exception 0.43 0
Test::More 1.302187 0.96
Test::NoWarnings 1.06 0
Test::Requires 0.11 0
Time::Duration::Parse 0.16 0
parent 0.238 0
strict 1.04 0
warnings 1.09 0
Perl module toolchain versions installed:
Module Name Have
CPANPLUS 0.9912
CPANPLUS::Dist::Build 0.90
Cwd 3.75
ExtUtils::CBuilder 0.280236
ExtUtils::Command 7.62
ExtUtils::Install 2.20
ExtUtils::MakeMaker 7.62
ExtUtils::Manifest 1.73
ExtUtils::ParseXS 3.35
File::Spec 3.75
Module::Build 0.4231
Pod::Parser 1.37
Pod::Simple 3.14
Test2 1.302187
Test::Harness 3.42
Test::More 1.302187
version 0.9929
******************************** NOTE ********************************
The comments above are created mechanically, possibly without manual
checking by the sender. As there are many people performing automatic
tests on each upload to CPAN, it is likely that you will receive
identical messages about the same problem.
If you believe that the message is mistaken, please reply to the first
one with correction and/or additional informations, and do not take
it personally. We appreciate your patience. :)
**********************************************************************
Additional comments:
This report was machine-generated by CPANPLUS::Dist::YACSmoke 1.08.
Powered by minismokebox version 0.68
CPANPLUS is prefering Build.PL
------------------------------
ENVIRONMENT AND OTHER CONTEXT
------------------------------
Environment variables:
AUTOMATED_TESTING = 1
NONINTERACTIVE_TESTING = 1
PATH = /sbin:/bin:/usr/sbin:/usr/bin:/usr/local/sbin:/usr/local/bin:/home/cpan/bin
PERL5LIB = /usr/home/cpan/pit/jail/BAGdlbTogQ/lib/perl5:/usr/home/cpan/pit/rel/conf/perl-5.12.5/.cpanplus/5.12.5/build/ME_mk5meaU/Dancer-Session-Cookie-0.30/blib/lib:/usr/home/cpan/pit/rel/conf/perl-5.12.5/.cpanplus/5.12.5/build/ME_mk5meaU/Dancer-Session-Cookie-0.30/blib/arch
PERL5_CPANPLUS_IS_RUNNING = 16470
PERL5_CPANPLUS_IS_VERSION = 0.9912
PERL5_MINISMOKEBOX = 0.68
PERL5_YACSMOKE_BASE = /usr/home/cpan/pit/rel/conf/perl-5.12.5
PERL_EXTUTILS_AUTOINSTALL = --defaultdeps
PERL_LOCAL_LIB_ROOT = /usr/home/cpan/pit/jail/BAGdlbTogQ
PERL_MB_OPT = --install_base "/usr/home/cpan/pit/jail/BAGdlbTogQ"
PERL_MM_OPT = INSTALL_BASE=/usr/home/cpan/pit/jail/BAGdlbTogQ
PERL_MM_USE_DEFAULT = 1
SHELL = /usr/local/bin/bash
TERM = screen
Perl special variables (and OS-specific diagnostics, for MSWin32):
Perl: $^X = /usr/home/cpan/pit/rel/perl-5.12.5/bin/perl
UID: $< = 1002
EUID: $> = 1002
GID: $( = 1002 1002
EGID: $) = 1002 1002
-------------------------------
--
Summary of my perl5 (revision 5 version 12 subversion 5) configuration:
Platform:
osname=freebsd, osvers=12.2-release, archname=i386-freebsd-thread-multi-64int
uname='freebsd ffyrc 12.2-release freebsd 12.2-release r366954 generic i386 '
config_args='-des -Dprefix=/usr/home/cpan/pit/rel/perl-5.12.5 -Dusethreads -Duse64bitint'
hint=recommended, useposix=true, d_sigaction=define
useithreads=define, usemultiplicity=define
useperlio=define, d_sfio=undef, uselargefiles=define, usesocks=undef
use64bitint=define, use64bitall=undef, uselongdouble=undef
usemymalloc=n, bincompat5005=undef
Compiler:
cc='cc', ccflags ='-DHAS_FPSETMASK -DHAS_FLOATINGPOINT_H -fno-strict-aliasing -pipe -fstack-protector -I/usr/local/include',
optimize='-O2',
cppflags='-DHAS_FPSETMASK -DHAS_FLOATINGPOINT_H -fno-strict-aliasing -pipe -fstack-protector -I/usr/local/include'
ccversion='', gccversion='FreeBSD Clang 10.0.1 (git@github.com:llvm/llvm-project.git llvmorg-10.0.1-0-gef32c611aa2)', gccosandvers=''
intsize=4, longsize=4, ptrsize=4, doublesize=8, byteorder=12345678
d_longlong=define, longlongsize=8, d_longdbl=define, longdblsize=12
ivtype='long long', ivsize=8, nvtype='double', nvsize=8, Off_t='off_t', lseeksize=8
alignbytes=4, prototype=define
Linker and Libraries:
ld='cc', ldflags ='-pthread -Wl,-E -fstack-protector -L/usr/local/lib'
libpth=/usr/lib /usr/local/lib
libs=-lgdbm -ldl -lm -lcrypt -lutil
perllibs=-ldl -lm -lcrypt -lutil
libc=, so=so, useshrplib=false, libperl=libperl.a
gnulibc_version=''
Dynamic Linking:
dlsrc=dl_dlopen.xs, dlext=so, d_dlsymun=undef, ccdlflags=' '
cccdlflags='-DPIC -fPIC', lddlflags='-shared -L/usr/local/lib -fstack-protector'
Characteristics of this binary (from libperl):
Compile-time options: MULTIPLICITY PERL_DONT_CREATE_GVSV
PERL_IMPLICIT_CONTEXT PERL_MALLOC_WRAP USE_64_BIT_INT
USE_ITHREADS USE_LARGE_FILES USE_PERLIO USE_PERL_ATOF
USE_REENTRANT_API
Locally applied patches:
Devel::PatchPerl 2.00
Built under freebsd
Compiled at Nov 2 2020 08:35:08
%ENV:
PERL5LIB="/usr/home/cpan/pit/jail/BAGdlbTogQ/lib/perl5:/usr/home/cpan/pit/rel/conf/perl-5.12.5/.cpanplus/5.12.5/build/ME_mk5meaU/Dancer-Session-Cookie-0.30/blib/lib:/usr/home/cpan/pit/rel/conf/perl-5.12.5/.cpanplus/5.12.5/build/ME_mk5meaU/Dancer-Session-Cookie-0.30/blib/arch"
PERL5_CPANPLUS_IS_RUNNING="16470"
PERL5_CPANPLUS_IS_VERSION="0.9912"
PERL5_MINISMOKEBOX="0.68"
PERL5_YACSMOKE_BASE="/usr/home/cpan/pit/rel/conf/perl-5.12.5"
PERL_EXTUTILS_AUTOINSTALL="--defaultdeps"
PERL_LOCAL_LIB_ROOT="/usr/home/cpan/pit/jail/BAGdlbTogQ"
PERL_MB_OPT="--install_base "/usr/home/cpan/pit/jail/BAGdlbTogQ""
PERL_MM_OPT="INSTALL_BASE=/usr/home/cpan/pit/jail/BAGdlbTogQ"
PERL_MM_USE_DEFAULT="1"
@INC:
/usr/home/cpan/pit/jail/BAGdlbTogQ/lib/perl5/5.12.5/i386-freebsd-thread-multi-64int
/usr/home/cpan/pit/jail/BAGdlbTogQ/lib/perl5/5.12.5
/usr/home/cpan/pit/jail/BAGdlbTogQ/lib/perl5/i386-freebsd-thread-multi-64int
/usr/home/cpan/pit/jail/BAGdlbTogQ/lib/perl5
/usr/home/cpan/pit/rel/conf/perl-5.12.5/.cpanplus/5.12.5/build/ME_mk5meaU/Dancer-Session-Cookie-0.30/blib/lib
/usr/home/cpan/pit/rel/conf/perl-5.12.5/.cpanplus/5.12.5/build/ME_mk5meaU/Dancer-Session-Cookie-0.30/blib/arch
/usr/home/cpan/pit/rel/perl-5.12.5/lib/site_perl/5.12.5/i386-freebsd-thread-multi-64int
/usr/home/cpan/pit/rel/perl-5.12.5/lib/site_perl/5.12.5
/usr/home/cpan/pit/rel/perl-5.12.5/lib/5.12.5/i386-freebsd-thread-multi-64int
/usr/home/cpan/pit/rel/perl-5.12.5/lib/5.12.5
.