Back
From: metabase:user:31dd1d2e-2aae-11df-837a-5e0a49663a4f
Subject: PASS Dist-Zilla-Plugin-MinimumPerl-1.006 v5.16.3
Date: 2015-02-19T23:34:59Z
This distribution has been tested as part of the CPAN Testers
project, supporting the Perl programming language. See
http://wiki.cpantesters.org/ for more information or email
questions to cpan-testers-discuss@perl.org
--
Dear Apocalypse,
This is a computer-generated report for Dist-Zilla-Plugin-MinimumPerl-1.006
on perl 5.16.3, created by CPAN-Reporter-1.2011.
Thank you for uploading your work to CPAN. Congratulations!
All tests were successful.
Sections of this report:
* Tester comments
* Program output
* Prerequisites
* Environment and other context
------------------------------
TESTER COMMENTS
------------------------------
Additional comments from tester:
none provided
------------------------------
PROGRAM OUTPUT
------------------------------
Output from 'C:\Perl\bin\perl.exe ./Build test':
t/00-compile.t ................ ok
#
#
# Generated by Dist::Zilla::Plugin::ReportVersions::Tiny v1.10
# perl: 5.016003 (wanted 5.006) on MSWin32 from C:\Perl\bin\perl.exe
#
# Dist::Zilla::Role::FileFinderUser => 5.031 (want 4.200006)
# Dist::Zilla::Role::PrereqSource => 5.031 (want 5.006)
# ExtUtils::MakeMaker => 7.04 (want any version)
# File::Spec => 3.40 (want any version)
# File::Temp => 0.2304 (want any version)
# IO::Handle => 1.33 (want any version)
# IPC::Open3 => 1.12 (want any version)
# Module::Build::Tiny => 0.039 (want 0.039)
# Moose => 2.1205 (want 1.03)
# Moose::Util::TypeConstraints => 2.1205 (want 1.01)
# MooseX::Types::Perl => 0.101343 (want 0.101340)
# Perl::MinimumVersion => 1.37 (want 1.26)
# Test::More => 1.001014 (want 0.88)
# strict => 1.07 (want any version)
# warnings => 1.13 (want any version)
#
# Thanks for using my code. I hope it works for you.
# If not, please try and include this output in the bug report.
# That will help me reproduce the issue and solve your problem.
#
t/000-report-versions-tiny.t .. ok
t/apocalypse.t ................ skipped: Test::Apocalypse required for validating the distribution
All tests successful.
Files=3, Tests=2, 3 wallclock secs ( 0.05 usr + 0.03 sys = 0.08 CPU)
Result: PASS
------------------------------
PREREQUISITES
------------------------------
Prerequisite modules loaded:
requires:
Module Need Have
--------------------------------- -------- --------
Dist::Zilla::Role::FileFinderUser 4.200006 5.031
Dist::Zilla::Role::PrereqSource 5.006 5.031
Moose 1.03 2.1205
Moose::Util::TypeConstraints 1.01 2.1205
MooseX::Types::Perl 0.101340 0.101343
perl 5.006 5.016003
Perl::MinimumVersion 1.26 1.37
strict 0 1.07
warnings 0 1.13
build_requires:
Module Need Have
--------------------------------- -------- --------
File::Spec 0 3.40
File::Temp 0 0.2304
IO::Handle 0 1.33
IPC::Open3 0 1.12
perl 5.006 5.016003
Test::More 0.88 1.001014
configure_requires:
Module Need Have
--------------------------------- -------- --------
ExtUtils::MakeMaker 0 7.04
Module::Build::Tiny 0.039 0.039
perl 5.006 5.016003
------------------------------
ENVIRONMENT AND OTHER CONTEXT
------------------------------
Environment variables:
ACTIVEPERL_CONFIG_SILENT = 1
COMSPEC = C:\Windows\system32\cmd.exe
LANG = en_US.utf8
NUMBER_OF_PROCESSORS = 8
PATH = C:\ProgramData\Oracle\Java\javapath;C:\Program Files (x86)\ImageMagick-6.8.9-Q16;C:\Program Files (x86)\ActiveState Komodo IDE 7\;C:\Program Files\Common Files\Microsoft Shared\Windows Live;C:\Perl\site\bin;C:\Perl\bin;C:\Windows\system32;C:\Windows;C:\Windows\System32\Wbem;C:\Program Files\ThinkPad\Bluetooth Software\;C:\Program Files\ThinkPad\Bluetooth Software\syswow64;C:\SWTOOLS\ReadyApps;c:\Program Files (x86)\PuTTY\;c:\cygwin\bin\;C:\Program Files (x86)\GtkSharp\2.12\bin;d:\j\MeCab\bin\;C:\Program Files (x86)\GNU\GnuPG\pub;C:\Windows\System32\WindowsPowerShell\v1.0\;C:\Program Files\Mercurial;c:\Program Files (x86)\Java\jre7\bin;C:\Program Files (x86)\Intel\Services\IPT\;C:\Program Files (x86)\nodejs\;C:\Program Files\TortoiseSVN\bin;C:\Program Files\Btcd Suite\Btcd\;C:\Program Files\OpenVPN\bin;c:\Program Files (x86)\CMake\bin\;C:\Program Files (x86)\QuickTime\QTSystem\;C:\Program Files\TortoiseGit\bin;C:\Program Files (x86)\Git\cmd;C:\KFFirstAide;C:\Users\Mithaldu\AppData\Roaming\npm;c:\Program Files (x86)\ImageMagick-6.8.9-Q16\;d:\android\android-ndk-r10d\
PERL5LIB = C:\Perl\cpan\build\DBIx-Class-0.082810-ujL3An/blib/arch;C:\Perl\cpan\build\DBIx-Class-0.082810-ujL3An/blib/lib
PERL5OPT =
PERL5_CPANPLUS_IS_RUNNING = 32304
PERL5_CPAN_IS_RUNNING = 32304
PERL_STRICTURES_EXTRA = 1
PROCESSOR_IDENTIFIER = Intel64 Family 6 Model 42 Stepping 7, GenuineIntel
TEMP = C:\Users\Mithaldu\AppData\Local\Temp
Perl special variables (and OS-specific diagnostics, for MSWin32):
$^X = C:\Perl\bin\perl.exe
$UID/$EUID = 0 / 0
$GID = 0
$EGID = 0
Win32::GetOSName = Win7
Win32::GetOSVersion = Service Pack 1, 6, 1, 7601, 2, 1, 0, 256, 1
Win32::FsType = NTFS
Win32::IsAdminUser = 0
Perl module toolchain versions installed:
Module Have
------------------- --------
CPAN 2.05
CPAN::Meta 2.143240
Cwd 3.40
ExtUtils::CBuilder 0.280216
ExtUtils::Command 1.18
ExtUtils::Install 2.04
ExtUtils::MakeMaker 7.04
ExtUtils::Manifest 1.70
ExtUtils::ParseXS 3.24
File::Spec 3.40
JSON 2.90
JSON::PP 2.27203
Module::Build 0.4205
Module::Signature n/a
Parse::CPAN::Meta 1.4414
Test::Harness 3.35
Test::More 1.001014
YAML 0.90
YAML::Syck n/a
version 0.9909
--
Summary of my perl5 (revision 5 version 16 subversion 3) configuration:
Platform:
osname=MSWin32, osvers=5.2, archname=MSWin32-x86-multi-thread
uname=''
config_args='undef'
hint=recommended, useposix=true, d_sigaction=undef
useithreads=define, usemultiplicity=define
useperlio=define, d_sfio=undef, uselargefiles=define, usesocks=undef
use64bitint=undef, use64bitall=undef, uselongdouble=undef
usemymalloc=n, bincompat5005=undef
Compiler:
cc='C:\Perl\site\bin\gcc.exe', ccflags ='-DNDEBUG -DWIN32 -D_CONSOLE -DNO_STRICT -DPERL_TEXTMODE_SCRIPTS -DUSE_SITECUSTOMIZE -DPERL_IMPLICIT_CONTEXT -DPERL_IMPLICIT_SYS -DUSE_PERLIO -D_USE_32BIT_TIME_T -DHASATTRIBUTE -fno-strict-aliasing -mms-bitfields',
optimize='-O2',
cppflags='-DWIN32'
ccversion='', gccversion='3.4.5 (mingw-vista special r3)', gccosandvers=''
intsize=4, longsize=4, ptrsize=4, doublesize=8, byteorder=1234
d_longlong=undef, longlongsize=8, d_longdbl=define, longdblsize=8
ivtype='long', ivsize=4, nvtype='double', nvsize=8, Off_t='__int64', lseeksize=8
alignbytes=8, prototype=define
Linker and Libraries:
ld='C:\Perl\site\bin\g++.exe', ldflags ='-L"C:\Perl\lib\CORE"'
libpth=\lib
libs=-lkernel32 -luser32 -lgdi32 -lwinspool -lcomdlg32 -ladvapi32 -lshell32 -lole32 -loleaut32 -lnetapi32 -luuid -lws2_32 -lmpr -lwinmm -lversion -lodbc32 -lodbccp32 -lcomctl32 -lmsvcrt
perllibs=-lkernel32 -luser32 -lgdi32 -lwinspool -lcomdlg32 -ladvapi32 -lshell32 -lole32 -loleaut32 -lnetapi32 -luuid -lws2_32 -lmpr -lwinmm -lversion -lodbc32 -lodbccp32 -lcomctl32 -lmsvcrt
libc=msvcrt.lib, so=dll, useshrplib=true, libperl=perl516.lib
gnulibc_version=''
Dynamic Linking:
dlsrc=dl_win32.xs, dlext=dll, d_dlsymun=undef, ccdlflags=' '
cccdlflags=' ', lddlflags='-mdll -L"C:\Perl\lib\CORE"'
Characteristics of this binary (from libperl):
Compile-time options: HAS_TIMES HAVE_INTERP_INTERN MULTIPLICITY
PERLIO_LAYERS PERL_DONT_CREATE_GVSV
PERL_IMPLICIT_CONTEXT PERL_IMPLICIT_SYS
PERL_MALLOC_WRAP PERL_PRESERVE_IVUV PL_OP_SLAB_ALLOC
USE_ITHREADS USE_LARGE_FILES USE_LOCALE
USE_LOCALE_COLLATE USE_LOCALE_CTYPE
USE_LOCALE_NUMERIC USE_PERLIO USE_PERL_ATOF
USE_SITECUSTOMIZE
Locally applied patches:
ActivePerl Build 1604 [298023]
Built under MSWin32
Compiled at Apr 14 2014 14:32:20
%ENV:
PERL5LIB="C:\Perl\cpan\build\DBIx-Class-0.082810-ujL3An/blib/arch;C:\Perl\cpan\build\DBIx-Class-0.082810-ujL3An/blib/lib"
PERL5_CPANPLUS_IS_RUNNING="32304"
PERL5_CPAN_IS_RUNNING="32304"
PERL_STRICTURES_EXTRA="1"
@INC:
C:\Perl\cpan\build\DBIx-Class-0.082810-ujL3An/blib/arch
C:\Perl\cpan\build\DBIx-Class-0.082810-ujL3An/blib/lib
C:/Perl/site/lib/MSWin32-x86-multi-thread
C:/Perl/site/lib
C:/Perl/lib
.