POE-Loop-AnyEvent v0.004 Perl 5 v5.26.1 x86_64-linux-thread-multi
- Status
- Pass
- From
- Andreas J. König (ANDK)
- Dist
-
POE-Loop-AnyEvent v0.004
- Platform
- Perl 5 v5.26.1 x86_64-linux-thread-multi
- Date
- 2017-12-02 13:05:29
- ID
- 788ec070-d761-11e7-bcc1-ae8ac4fe1824
This distribution has been tested as part of the CPAN Testers
project, supporting the Perl programming language. See
http://wiki.cpantesters.org/ for more information or email
questions to cpan-testers-discuss@perl.org
--
Dear Chris Williams,
This is a computer-generated report for POE-Loop-AnyEvent-0.004
on perl 5.26.1, created by CPAN-Reporter-1.2018.
Thank you for uploading your work to CPAN. Congratulations!
All tests were successful.
Sections of this report:
* Tester comments
* Program output
* Prerequisites
* Environment and other context
------------------------------
TESTER COMMENTS
------------------------------
Additional comments from tester:
this report is from an automated smoke testing program
and was not reviewed by a human for accuracy
------------------------------
PROGRAM OUTPUT
------------------------------
Output from '/usr/bin/make test':
PERL_DL_NONLAZY=1 "/home/sand/src/perl/repoperls/installed-perls/host/k93msid/v5.26.1/276a/bin/perl" "-MExtUtils::Command::MM" "-MTest::Harness" "-e" "undef *Test::Harness::Switches; test_harness(0, 'blib/lib', 'blib/arch')" t/*.t t/poe_loop_anyevent/*.t
# Testing POE 1.367, Perl 5.026001, /home/sand/src/perl/repoperls/installed-perls/host/k93msid/v5.26.1/276a/bin/perl on linux
t/00_info.t ......................................... ok
# Testing POE 1.367, POE::Test::Loops 1.360, Using Loop(POE::Loop::AnyEvent), Perl 5.026001, /home/sand/src/perl/repoperls/installed-perls/host/k93msid/v5.26.1/276a/bin/perl on linux
t/poe_loop_anyevent/00_info.t ....................... ok
t/poe_loop_anyevent/all_errors.t .................... skipped: most of these should move into other test files
t/poe_loop_anyevent/comp_tcp.t ...................... ok
# You might see a 'disconnect' error during this test.
# It may be ignored.
t/poe_loop_anyevent/comp_tcp_concurrent.t ........... ok
t/poe_loop_anyevent/connect_errors.t ................ ok
t/poe_loop_anyevent/k_alarms.t ...................... ok
t/poe_loop_anyevent/k_aliases.t ..................... ok
t/poe_loop_anyevent/k_detach.t ...................... ok
t/poe_loop_anyevent/k_run_returns.t ................. ok
t/poe_loop_anyevent/k_selects.t ..................... ok
t/poe_loop_anyevent/k_sig_child.t ................... ok
t/poe_loop_anyevent/k_signals.t ..................... ok
t/poe_loop_anyevent/k_signals_rerun.t ............... ok
t/poe_loop_anyevent/sbk_signal_init.t ............... ok
t/poe_loop_anyevent/ses_nfa.t ....................... ok
# This test generates some STDERR during trace testing.
=== 5119 === 23 -> _start (from /home/sand/src/perl/repoperls/installed-perls/host/k93msid/v5.26.1/276a/lib/site_perl/5.26.1/POE/Kernel.pm at 1497)
=== 5119 === 23 -> woot (from /home/sand/src/perl/repoperls/installed-perls/host/k93msid/v5.26.1/276a/lib/site_perl/5.26.1/POE/Test/Loops/ses_session.pm at 691)
=== 5119 === 23 -> narf (from /home/sand/src/perl/repoperls/installed-perls/host/k93msid/v5.26.1/276a/lib/site_perl/5.26.1/POE/Test/Loops/ses_session.pm at 692)
=== 5119 === 23 -> _stop (from /home/sand/src/perl/repoperls/installed-perls/host/k93msid/v5.26.1/276a/lib/site_perl/5.26.1/POE/Resource/Sessions.pm at 571)
t/poe_loop_anyevent/ses_session.t ................... ok
t/poe_loop_anyevent/wheel_accept.t .................. ok
t/poe_loop_anyevent/wheel_curses.t .................. skipped: Curses not available
t/poe_loop_anyevent/wheel_readline.t ................ ok
t/poe_loop_anyevent/wheel_readwrite.t ............... ok
t/poe_loop_anyevent/wheel_run.t ..................... ok
t/poe_loop_anyevent/wheel_run_size.t ................ ok
t/poe_loop_anyevent/wheel_sf_ipv6.t ................. skipped: Socket::GetAddrInfo is needed for IPv6 tests
t/poe_loop_anyevent/wheel_sf_tcp.t .................. ok
t/poe_loop_anyevent/wheel_sf_udp.t .................. ok
t/poe_loop_anyevent/wheel_sf_unix.t ................. ok
t/poe_loop_anyevent/wheel_tail.t .................... ok
t/poe_loop_anyevent/z_kogman_sig_order.t ............ ok
t/poe_loop_anyevent/z_leolo_wheel_run.t ............. ok
# Using '/bin/true' as our thing to run under system()
t/poe_loop_anyevent/z_merijn_sigchld_system.t ....... ok
t/poe_loop_anyevent/z_rt39872_sigchld.t ............. ok
# Parent 5648 waiting 3sec for slow systems to settle.
# sending sigusr1
# sent sigusr1
t/poe_loop_anyevent/z_rt39872_sigchld_stop.t ........ ok
t/poe_loop_anyevent/z_rt53302_fh_watchers.t ......... ok
t/poe_loop_anyevent/z_rt54319_bazerka_followtail.t .. ok
t/poe_loop_anyevent/z_steinert_signal_integrity.t ... ok
t/release-pod-syntax.t .............................. skipped: these tests are for release candidate testing
All tests successful.
Files=37, Tests=490, 51 wallclock secs ( 0.16 usr 0.22 sys + 6.41 cusr 1.85 csys = 8.64 CPU)
Result: PASS
------------------------------
PREREQUISITES
------------------------------
Prerequisite modules loaded:
requires:
Module Need Have
------------------- ----- -------
AnyEvent 0 7.14
POE 1.289 1.367
build_requires:
Module Need Have
------------------- ----- -------
ExtUtils::MakeMaker 0 7.31_04
configure_requires:
Module Need Have
------------------- ----- -------
ExtUtils::MakeMaker 6.30 7.31_04
POE::Test::Loops 1.035 1.360
------------------------------
ENVIRONMENT AND OTHER CONTEXT
------------------------------
Environment variables:
AUTOMATED_TESTING = 1
LANG = en_US.UTF-8
PATH = /home/sand/bin:/usr/local/bin:/usr/bin:/bin:/usr/games:/usr/local/perl/bin:/usr/X11/bin:/sbin:/usr/sbin
PERL5LIB = /tmp/loop_over_bdir-3147-HFs6uF/AnyEvent-SlackRTM-1.0-0/blib/arch:/tmp/loop_over_bdir-3147-HFs6uF/AnyEvent-SlackRTM-1.0-0/blib/lib
PERL5OPT =
PERL5_CPANPLUS_IS_RUNNING = 3163
PERL5_CPAN_IS_RUNNING = 3163
PERL5_CPAN_IS_RUNNING_IN_RECURSION = 1821,3163
PERL_CANARY_STABILITY_NOPROMPT = 1
PERL_MM_USE_DEFAULT = 1
PERL_USE_UNSAFE_INC = 1
SHELL = /usr/bin/zsh
TERM = screen
Perl special variables (and OS-specific diagnostics, for MSWin32):
$^X = /home/sand/src/perl/repoperls/installed-perls/host/k93msid/v5.26.1/276a/bin/perl
$UID/$EUID = 1005 / 1005
$GID = 1005 1005
$EGID = 1005 1005
Perl module toolchain versions installed:
Module Have
------------------- --------
CPAN 2.20
CPAN::Meta 2.150010
Cwd 3.67
ExtUtils::CBuilder 0.280230
ExtUtils::Command 7.31_04
ExtUtils::Install 2.06
ExtUtils::MakeMaker 7.31_04
ExtUtils::Manifest 1.70
ExtUtils::ParseXS 3.34
File::Spec 3.67
JSON 2.95
JSON::PP 2.96
Module::Build 0.4224
Module::Signature 0.81
Parse::CPAN::Meta 2.150010
Test::Harness 3.39
Test::More 1.302119
YAML 1.23_003
YAML::Syck 1.30
version 0.9917
--
Summary of my perl5 (revision 5 version 26 subversion 1) configuration:
Commit id: 714a461a2ab3017f19ea0f7bbb4934b2309d3aa8
Platform:
osname=linux
osvers=4.12.0-2-amd64
archname=x86_64-linux-thread-multi
uname='linux k93msid 4.12.0-2-amd64 #1 smp debian 4.12.13-1 (2017-09-19) x86_64 gnulinux '
config_args='-Dprefix=/home/sand/src/perl/repoperls/installed-perls/host/k93msid/v5.26.1/276a -Dmyhostname=k93msid -Dinstallusrbinperl=n -Uversiononly -Dusedevel -des -Ui_db -Dlibswanted=cl pthread socket inet nsl gdbm dbm malloc dl ld sun m crypt sec util c cposix posix ucb BSD gdbm_compat -Duseithreads -Uuselongdouble -DDEBUGGING=both'
hint=recommended
useposix=true
d_sigaction=define
useithreads=define
usemultiplicity=define
use64bitint=define
use64bitall=define
uselongdouble=undef
usemymalloc=n
default_inc_excludes_dot=define
bincompat5005=undef
Compiler:
cc='cc'
ccflags ='-D_REENTRANT -D_GNU_SOURCE -fwrapv -DDEBUGGING -fno-strict-aliasing -pipe -fstack-protector-strong -I/usr/local/include -D_LARGEFILE_SOURCE -D_FILE_OFFSET_BITS=64 -D_FORTIFY_SOURCE=2'
optimize='-O2 -g'
cppflags='-D_REENTRANT -D_GNU_SOURCE -fwrapv -DDEBUGGING -fno-strict-aliasing -pipe -fstack-protector-strong -I/usr/local/include'
ccversion=''
gccversion='7.2.0'
gccosandvers=''
intsize=4
longsize=8
ptrsize=8
doublesize=8
byteorder=12345678
doublekind=3
d_longlong=define
longlongsize=8
d_longdbl=define
longdblsize=16
longdblkind=3
ivtype='long'
ivsize=8
nvtype='double'
nvsize=8
Off_t='off_t'
lseeksize=8
alignbytes=8
prototype=define
Linker and Libraries:
ld='cc'
ldflags =' -fstack-protector-strong -L/usr/local/lib'
libpth=/usr/local/lib /usr/lib/gcc/x86_64-linux-gnu/7/include-fixed /usr/include/x86_64-linux-gnu /usr/lib /lib/x86_64-linux-gnu /lib/../lib /usr/lib/x86_64-linux-gnu /usr/lib/../lib /lib
libs=-lpthread -lnsl -ldl -lm -lcrypt -lutil -lc
perllibs=-lpthread -lnsl -ldl -lm -lcrypt -lutil -lc
libc=libc-2.24.so
so=so
useshrplib=false
libperl=libperl.a
gnulibc_version='2.24'
Dynamic Linking:
dlsrc=dl_dlopen.xs
dlext=so
d_dlsymun=undef
ccdlflags='-Wl,-E'
cccdlflags='-fPIC'
lddlflags='-shared -O2 -g -L/usr/local/lib -fstack-protector-strong'
Characteristics of this binary (from libperl):
Compile-time options:
DEBUGGING
HAS_TIMES
MULTIPLICITY
PERLIO_LAYERS
PERL_COPY_ON_WRITE
PERL_DONT_CREATE_GVSV
PERL_IMPLICIT_CONTEXT
PERL_MALLOC_WRAP
PERL_OP_PARENT
PERL_PRESERVE_IVUV
PERL_TRACK_MEMPOOL
PERL_USE_DEVEL
USE_64_BIT_ALL
USE_64_BIT_INT
USE_ITHREADS
USE_LARGE_FILES
USE_LOCALE
USE_LOCALE_COLLATE
USE_LOCALE_CTYPE
USE_LOCALE_NUMERIC
USE_LOCALE_TIME
USE_PERLIO
USE_PERL_ATOF
USE_REENTRANT_API
Built under linux
Compiled at Oct 2 2017 14:47:21
%ENV:
PERL5LIB="/tmp/loop_over_bdir-3147-HFs6uF/AnyEvent-SlackRTM-1.0-0/blib/arch:/tmp/loop_over_bdir-3147-HFs6uF/AnyEvent-SlackRTM-1.0-0/blib/lib"
PERL5OPT=""
PERL5_CPANPLUS_IS_RUNNING="3163"
PERL5_CPAN_IS_RUNNING="3163"
PERL5_CPAN_IS_RUNNING_IN_RECURSION="1821,3163"
PERL_CANARY_STABILITY_NOPROMPT="1"
PERL_MM_USE_DEFAULT="1"
PERL_USE_UNSAFE_INC="1"
@INC:
/tmp/loop_over_bdir-3147-HFs6uF/AnyEvent-SlackRTM-1.0-0/blib/arch
/tmp/loop_over_bdir-3147-HFs6uF/AnyEvent-SlackRTM-1.0-0/blib/lib
/home/sand/src/perl/repoperls/installed-perls/host/k93msid/v5.26.1/276a/lib/site_perl/5.26.1/x86_64-linux-thread-multi
/home/sand/src/perl/repoperls/installed-perls/host/k93msid/v5.26.1/276a/lib/site_perl/5.26.1
/home/sand/src/perl/repoperls/installed-perls/host/k93msid/v5.26.1/276a/lib/5.26.1/x86_64-linux-thread-multi
/home/sand/src/perl/repoperls/installed-perls/host/k93msid/v5.26.1/276a/lib/5.26.1
.