Report for HTML-Mason-1.51

Back
From: metabase:user:3138bf04-2aae-11df-837a-5e0a49663a4f
Subject: PASS HTML-Mason-1.51 v5.12.4 Mac OS X
Date: 2013-05-26T08:22:57Z

This distribution has been tested as part of the CPAN Testers
project, supporting the Perl programming language.  See
http://wiki.cpantesters.org/ for more information or email
questions to cpan-testers-discuss@perl.org


--
Dear Jonathan Swartz,

This is a computer-generated report for HTML-Mason-1.51
on perl 5.12.4, created by CPAN-Reporter-1.2010.

Thank you for uploading your work to CPAN.  Congratulations!
All tests were successful.

Sections of this report:

    * Tester comments
    * Program output
    * Prerequisites
    * Environment and other context

------------------------------
TESTER COMMENTS
------------------------------

Additional comments from tester:

none provided

------------------------------
PROGRAM OUTPUT
------------------------------

Output from '/usr/bin/make test':

PERL_DL_NONLAZY=1 /usr/bin/perl "-MExtUtils::Command::MM" "-e" "test_harness(0, 'blib/lib', 'blib/arch')" t/*.t t/author-live/*.t
t/01-syntax.t ............................. ok
t/01a-comp-calls.t ........................ ok
t/02-sections.t ........................... ok
t/02a-filter.t ............................ ok
t/04-misc.t ............................... ok
t/05-request.t ............................ ok
t/05a-stack-corruption.t .................. ok
t/06-compiler.t ........................... ok
t/06a-compiler_obj.t ...................... ok
t/06b-compiler-named-subs.t ............... ok
t/06c-compiler-spaces-path.t .............. ok
t/07-interp.t ............................. ok
t/07a-interp-mcr.t ........................ ok
t/07b-interp-static-source.t .............. ok
t/09-component.t .......................... ok
t/09a-comp_content.t ...................... ok
t/10-cache.t .............................. ok
t/10a-cache-1.0x.t ........................ ok
t/10b-cache-chi.t ......................... skipped: CHI 0.21+ is not installed
t/11-inherit.t ............................ ok
t/12-taint.t .............................. ok
t/13-errors.t ............................. ok
t/14-cgi.t ................................ ok
t/14a-fake_apache.t ....................... ok
t/15-subclass.t ........................... ok
t/17-print.t .............................. ok
t/18-leak.t ............................... ok
t/19-subrequest.t ......................... ok
t/20-plugins.t ............................ ok
t/21-escapes.t ............................ ok
t/22-path-security.t ...................... ok
t/23-leak2.t .............................. skipped: These tests require Test::Memory::Cycle to run.
t/24-tools.t .............................. ok
t/25-flush-in-content.t ................... ok
t/25-log.t ................................ ok
t/99-pod.t ................................ ok
t/author-live/apache-filter.t ............. skipped: these tests are for testing by the author
t/author-live/cgi-no-handler.t ............ skipped: these tests are for testing by the author
t/author-live/cgi-with-handler.t .......... skipped: these tests are for testing by the author
t/author-live/CGIHandler.t ................ skipped: these tests are for testing by the author
t/author-live/libapreq-no-handler.t ....... skipped: these tests are for testing by the author
t/author-live/libapreq-with-handler.t ..... skipped: these tests are for testing by the author
t/author-live/multi-conf.t ................ skipped: these tests are for testing by the author
t/author-live/no-config.t ................. skipped: these tests are for testing by the author
t/author-live/set-content-type.t .......... skipped: these tests are for testing by the author
t/author-live/single-level-server-root.t .. skipped: these tests are for testing by the author
t/author-live/taint.t ..................... skipped: these tests are for testing by the author
All tests successful.
Files=47, Tests=544, 26 wallclock secs ( 0.23 usr  0.12 sys +  6.00 cusr  0.96 csys =  7.31 CPU)
Result: PASS

------------------------------
PREREQUISITES
------------------------------

Prerequisite modules loaded:

requires:

    Module              Need Have 
    ------------------- ---- -----
    Cache::Cache        1.00 1.06 
    CGI                 2.46 3.63 
    Class::Container    0.07 0.12 
    Exception::Class    1.15 1.37 
    File::Spec          0.8  3.40 
    HTML::Entities      0    3.69 
    Log::Any            0.08 0.15 
    Params::Validate    0.70 1.07 
    Scalar::Util        1.01 1.27 

build_requires:

    Module              Need Have 
    ------------------- ---- -----
    Test::Deep          0    0.110

configure_requires:

    Module              Need Have 
    ------------------- ---- -----
    ExtUtils::MakeMaker 6.30 6.66 


------------------------------
ENVIRONMENT AND OTHER CONTEXT
------------------------------

Environment variables:

    LANG = en_US.UTF-8
    LC_ALL = en_US.UTF-8
    LC_CTYPE = UTF-8
    PATH = /usr/bin:/bin
    PERL5LIB = 
    PERL5OPT = 
    PERL5_CPANPLUS_IS_RUNNING = 59799
    PERL5_CPAN_IS_RUNNING = 59799
    SHELL = /bin/bash
    TERM = xterm-256color
    VERSIONER_PERL_PREFER_32_BIT = no
    VERSIONER_PERL_VERSION = 5.12

Perl special variables (and OS-specific diagnostics, for MSWin32):

    $^X = /usr/bin/perl
    $UID/$EUID = 0 / 0
    $GID = 0 0 401 403 1 2 3 4 5 8 9 12 20 29 33 61 80 98 100 204 402
    $EGID = 0 0 401 403 1 2 3 4 5 8 9 12 20 29 33 61 80 98 100 204 402

Perl module toolchain versions installed:

    Module              Have    
    ------------------- --------
    CPAN                2.00    
    CPAN::Meta          2.130880
    Cwd                 3.40    
    ExtUtils::CBuilder  0.280205
    ExtUtils::Command   1.17    
    ExtUtils::Install   1.55    
    ExtUtils::MakeMaker 6.66    
    ExtUtils::Manifest  1.61    
    ExtUtils::ParseXS   3.18    
    File::Spec          3.40    
    JSON                2.57    
    JSON::PP            2.27202 
    Module::Build       0.4005  
    Module::Signature   n/a     
    Parse::CPAN::Meta   1.4404  
    Test::Harness       3.26    
    Test::More          0.98    
    YAML                0.84    
    YAML::Syck          1.25    
    version             0.9902  


--

Summary of my perl5 (revision 5 version 12 subversion 4) configuration:
   
  Platform:
    osname=darwin, osvers=12.0, archname=darwin-thread-multi-2level
    uname='darwin b1026.apple.com 12.0 darwin kernel version 12.0.0: tue may 15 23:31:29 pdt 2012; root:xnu-2050.6.70~1release_x86_64 x86_64 '
    config_args='-ds -e -Dprefix=/usr -Dccflags=-g  -pipe  -Dldflags= -Dman3ext=3pm -Duseithreads -Duseshrplib -Dinc_version_list=none -Dcc=clang'
    hint=recommended, useposix=true, d_sigaction=define
    useithreads=define, usemultiplicity=define
    useperlio=define, d_sfio=undef, uselargefiles=define, usesocks=undef
    use64bitint=define, use64bitall=define, uselongdouble=undef
    usemymalloc=n, bincompat5005=undef
  Compiler:
    cc='clang', ccflags ='-arch i386 -arch x86_64 -g -pipe -fno-common -DPERL_DARWIN -fno-strict-aliasing -fstack-protector -I/usr/local/include',
    optimize='-Os',
    cppflags='-g -pipe -fno-common -DPERL_DARWIN -fno-strict-aliasing -fstack-protector -I/usr/local/include'
    ccversion='', gccversion='4.2.1 Compatible Apple Clang 4.0 (tags/Apple/clang-418.0.60)', gccosandvers=''
    intsize=4, longsize=8, ptrsize=8, doublesize=8, byteorder=12345678
    d_longlong=define, longlongsize=8, d_longdbl=define, longdblsize=16
    ivtype='long', ivsize=8, nvtype='double', nvsize=8, Off_t='off_t', lseeksize=8
    alignbytes=8, prototype=define
  Linker and Libraries:
    ld='clang -mmacosx-version-min=10.8', ldflags ='-arch i386 -arch x86_64 -fstack-protector -L/usr/local/lib'
    libpth=/usr/local/lib /usr/lib
    libs=-ldbm -ldl -lm -lutil -lc
    perllibs=-ldl -lm -lutil -lc
    libc=, so=dylib, useshrplib=true, libperl=libperl.dylib
    gnulibc_version=''
  Dynamic Linking:
    dlsrc=dl_dlopen.xs, dlext=bundle, d_dlsymun=undef, ccdlflags=' '
    cccdlflags=' ', lddlflags='-arch i386 -arch x86_64 -bundle -undefined dynamic_lookup -L/usr/local/lib -fstack-protector'


Characteristics of this binary (from libperl): 
  Compile-time options: MULTIPLICITY PERL_DONT_CREATE_GVSV
                        PERL_IMPLICIT_CONTEXT PERL_MALLOC_WRAP USE_64_BIT_ALL
                        USE_64_BIT_INT USE_ITHREADS USE_LARGE_FILES
                        USE_PERLIO USE_PERL_ATOF USE_REENTRANT_API
  Locally applied patches:
	/Library/Perl/Updates/<version> comes before system perl directories
	installprivlib and installarchlib points to the Updates directory
  Built under darwin
  Compiled at Jun 20 2012 13:55:28
  %ENV:
    PERL5LIB=""
    PERL5OPT=""
    PERL5_CPANPLUS_IS_RUNNING="59799"
    PERL5_CPAN_IS_RUNNING="59799"
  @INC:
    /Library/Perl/5.12/darwin-thread-multi-2level
    /Library/Perl/5.12
    /Network/Library/Perl/5.12/darwin-thread-multi-2level
    /Network/Library/Perl/5.12
    /Library/Perl/Updates/5.12.4/darwin-thread-multi-2level
    /Library/Perl/Updates/5.12.4
    /System/Library/Perl/5.12/darwin-thread-multi-2level
    /System/Library/Perl/5.12
    /System/Library/Perl/Extras/5.12/darwin-thread-multi-2level
    /System/Library/Perl/Extras/5.12
    .