Report for HTTP-Server-Simple-Mason-0.14

Back
From: metabase:user:9b4140ce-b951-11df-963c-c1ea19108515
Subject: PASS HTTP-Server-Simple-Mason-0.14 v5.8.9 Mac OS X
Date: 2010-11-25T21:03:37Z

This distribution has been tested as part of the CPAN Testers
project, supporting the Perl programming language.  See
http://wiki.cpantesters.org/ for more information or email
questions to cpan-testers-discuss@perl.org


--
Dear Jesse Vincent,

This is a computer-generated report for HTTP-Server-Simple-Mason-0.14
on perl 5.8.9, created by CPAN-Reporter-1.1803.

Thank you for uploading your work to CPAN.  Congratulations!
All tests were successful.

Sections of this report:

    * Tester comments
    * Program output
    * Prerequisites
    * Environment and other context

------------------------------
TESTER COMMENTS
------------------------------

Additional comments from tester:

none provided

------------------------------
PROGRAM OUTPUT
------------------------------

Output from '/usr/bin/make test':

PERL_DL_NONLAZY=1 /opt/local/bin/perl "-MExtUtils::Command::MM" "-e" "test_harness(0, 'inc', 'blib/lib', 'blib/arch')" t/*.t
t/00smoke.t ............ ok
t/01live.t ............. ok
t/02pod.t .............. ok
t/03podcoverage.t ...... skipped: Test::Pod::Coverage 1.04 required for testing POD coverage
t/04unhandlederrors.t .. ok
t/05handlederrors.t .... ok
All tests successful.
Files=6, Tests=24,  5 wallclock secs ( 0.07 usr  0.04 sys +  1.32 cusr  0.38 csys =  1.81 CPU)
Result: PASS

------------------------------
PREREQUISITES
------------------------------

Prerequisite modules loaded:

requires:

    Module               Need Have
    -------------------- ---- ----
    ExtUtils::MakeMaker  6.42 6.56
    Hook::LexWrap        0    0.24
    HTML::Mason          1.25 1.45
    HTTP::Server::Simple 0.04 0.43

configure_requires:

    Module               Need Have
    -------------------- ---- ----
    ExtUtils::MakeMaker  6.42 6.56


------------------------------
ENVIRONMENT AND OTHER CONTEXT
------------------------------

Environment variables:

    LANG = ru_RU.UTF-8
    PATH = /opt/local/bin:/opt/local/sbin:/Users/ruz/projs/perl6/rakudo/parrot_install/bin:/Users/ruz/bin:/opt/local/bin:/opt/local/sbin:/opt/local/bin:/opt/local/sbin:/bin:/sbin:/usr/bin:/usr/sbin
    PERL5LIB = 
    PERL5OPT = 
    PERL5_CPANPLUS_IS_RUNNING = 42165
    PERL5_CPAN_IS_RUNNING = 42165
    SHELL = /bin/bash
    TERM = xterm-color

Perl special variables (and OS-specific diagnostics, for MSWin32):

    $^X = /opt/local/bin/perl
    $UID/$EUID = 0 / 0
    $GID = 0 0 401 204 100 98 80 61 29 20 12 9 8 5 4 3 2
    $EGID = 0 0 401 204 100 98 80 61 29 20 12 9 8 5 4 3 2

Perl module toolchain versions installed:

    Module              Have  
    ------------------- ------
    CPAN                1.9402
    Cwd                 3.33  
    ExtUtils::CBuilder  0.2703
    ExtUtils::Command   1.16  
    ExtUtils::Install   1.52  
    ExtUtils::MakeMaker 6.56  
    ExtUtils::Manifest  1.56  
    ExtUtils::ParseXS   2.2206
    File::Spec          3.33  
    Module::Build       0.3607
    Module::Signature   0.66  
    Test::Harness       3.22  
    Test::More          0.96  
    YAML                0.72  
    YAML::Syck          n/a   
    version             0.85  


--

Summary of my perl5 (revision 5 version 8 subversion 9) configuration:
  Platform:
    osname=darwin, osvers=10.4.0, archname=darwin-thread-multi-2level
    uname='darwin ruz-lap.local 10.4.0 darwin kernel version 10.4.0: fri apr 23 18:28:53 pdt 2010; root:xnu-1504.7.4~1release_i386 i386 '
    config_args='-des -D prefix=/opt/local -D scriptdir=/opt/local/bin -D cppflags=-I/opt/local/include -D ccflags=-pipe -O2 -arch x86_64 -D ldflags=-L/opt/local/lib -arch x86_64 -D vendorprefix=/opt/local -D man1ext=1pm -D man3ext=3pm -D cc=/usr/bin/gcc-4.2 -D ld=/usr/bin/gcc-4.2 -D man1dir=/opt/local/share/man/man1p -D man3dir=/opt/local/share/man/man3p -D siteman1dir=/opt/local/share/man/man1 -D siteman3dir=/opt/local/share/man/man3 -D vendorman1dir=/opt/local/share/man/man1 -D vendorman3dir=/opt/local/share/man/man3 -D inc_version_list=5.8.8 5.8.8/darwin-thread-multi-2level -Dusethreads -Duseshrplib -U i_bind -U i_gdbm -U i_db'
    hint=recommended, useposix=true, d_sigaction=define
    usethreads=define use5005threads=undef useithreads=define usemultiplicity=define
    useperlio=define d_sfio=undef uselargefiles=define usesocks=undef
    use64bitint=define use64bitall=define uselongdouble=undef
    usemymalloc=n, bincompat5005=undef
  Compiler:
    cc='/usr/bin/gcc-4.2', ccflags ='-pipe -O2 -arch x86_64 -fno-common -DPERL_DARWIN -I/opt/local/include -no-cpp-precomp -fno-strict-aliasing -I/usr/local/include -I/opt/local/include',
    optimize='-O3',
    cppflags='-I/opt/local/include -no-cpp-precomp -pipe -O2 -arch x86_64 -fno-common -DPERL_DARWIN -I/opt/local/include -no-cpp-precomp -fno-strict-aliasing -I/usr/local/include -I/opt/local/include'
    ccversion='', gccversion='4.2.1 (Apple Inc. build 5664)', gccosandvers=''
    intsize=4, longsize=8, ptrsize=8, doublesize=8, byteorder=12345678
    d_longlong=define, longlongsize=8, d_longdbl=define, longdblsize=16
    ivtype='long', ivsize=8, nvtype='double', nvsize=8, Off_t='off_t', lseeksize=8
    alignbytes=8, prototype=define
  Linker and Libraries:
    ld='env MACOSX_DEPLOYMENT_TARGET=10.3 /usr/bin/gcc-4.2', ldflags ='-L/opt/local/lib -arch x86_64 -L/usr/local/lib'
    libpth=/usr/local/lib /opt/local/lib /usr/lib
    libs=-ldbm -ldl -lm -lutil -lc
    perllibs=-ldl -lm -lutil -lc
    libc=/usr/lib/libc.dylib, so=dylib, useshrplib=true, libperl=libperl.dylib
    gnulibc_version=''
  Dynamic Linking:
    dlsrc=dl_dlopen.xs, dlext=bundle, d_dlsymun=undef, ccdlflags=' '
    cccdlflags=' ', lddlflags='-L/opt/local/lib -arch x86_64 -bundle -undefined dynamic_lookup -L/usr/local/lib'


Characteristics of this binary (from libperl): 
  Compile-time options: MULTIPLICITY PERL_IMPLICIT_CONTEXT PERL_MALLOC_WRAP
                        USE_64_BIT_ALL USE_64_BIT_INT USE_FAST_STDIO
                        USE_ITHREADS USE_LARGE_FILES USE_PERLIO
                        USE_REENTRANT_API
  Built under darwin
  Compiled at Nov 14 2010 16:16:11
  %ENV:
    PERL5LIB=""
    PERL5OPT=""
    PERL5_CPANPLUS_IS_RUNNING="42165"
    PERL5_CPAN_IS_RUNNING="42165"
  @INC:
    /opt/local/lib/perl5/site_perl/5.8.9/darwin-thread-multi-2level
    /opt/local/lib/perl5/site_perl/5.8.9
    /opt/local/lib/perl5/site_perl
    /opt/local/lib/perl5/vendor_perl/5.8.9/darwin-thread-multi-2level
    /opt/local/lib/perl5/vendor_perl/5.8.9
    /opt/local/lib/perl5/vendor_perl
    /opt/local/lib/perl5/5.8.9/darwin-thread-multi-2level
    /opt/local/lib/perl5/5.8.9
    .