Test-Kit v2.16 Perl 5 v5.40.0 x86_64-cygwin-threads-multi

Status
Pass
From
tzccinct
Dist
Test-Kit v2.16
Platform
Perl 5 v5.40.0 x86_64-cygwin-threads-multi
Date
2024-09-16 22:31:29
ID
78df9783-6fb5-1014-a9a7-d35a945ce26a
This distribution has been tested as part of the CPAN Testers
project, supporting the Perl programming language.  See
http://wiki.cpantesters.org/ for more information or email
questions to cpan-testers-discuss@perl.org


--
Dear Alex Balhatchet,

This is a computer-generated report for Test-Kit-2.16
on perl 5.40.0, created by CPAN-Reporter-1.2020.

Thank you for uploading your work to CPAN.  Congratulations!
All tests were successful.

Sections of this report:

    * Tester comments
    * Program output
    * Prerequisites
    * Environment and other context

------------------------------
TESTER COMMENTS
------------------------------

Additional comments from tester:

none provided

------------------------------
PROGRAM OUTPUT
------------------------------

Output from '/usr/bin/make test':

PERL_DL_NONLAZY=1 "/usr/bin/perl.exe" "-MExtUtils::Command::MM" "-MTest::Harness" "-e" "undef *Test::Harness::Switches; test_harness(0, 'blib/lib', 'blib/arch')" t/*.t
Old package separator "'" deprecated at /usr/local/share/perl5/site_perl/5.40/Sub/Delete.pm line 47.
t/00-compile.t ........................ ok
Old package separator "'" deprecated at /usr/local/share/perl5/site_perl/5.40/Sub/Delete.pm line 47.
t/01-basic.t .......................... ok
Old package separator "'" deprecated at /usr/local/share/perl5/site_perl/5.40/Sub/Delete.pm line 47.
t/02-simple.t ......................... ok
Old package separator "'" deprecated at /usr/local/share/perl5/site_perl/5.40/Sub/Delete.pm line 47.
t/03-exclude.t ........................ ok
Old package separator "'" deprecated at /usr/local/share/perl5/site_perl/5.40/Sub/Delete.pm line 47.
t/04-rename.t ......................... ok
Old package separator "'" deprecated at /usr/local/share/perl5/site_perl/5.40/Sub/Delete.pm line 47.
t/05-put-it-all-together.t ............ ok
Old package separator "'" deprecated at /usr/local/share/perl5/site_perl/5.40/Sub/Delete.pm line 47.
t/06-sub-name-collide.t ............... ok
Old package separator "'" deprecated at /usr/local/share/perl5/site_perl/5.40/Sub/Delete.pm line 47.
t/07-from-module.t .................... ok
Old package separator "'" deprecated at /usr/local/share/perl5/site_perl/5.40/Sub/Delete.pm line 47.
t/08-double-use-same-process.t ........ ok
Old package separator "'" deprecated at /usr/local/share/perl5/site_perl/5.40/Sub/Delete.pm line 47.
t/10-import-check.t ................... ok
Old package separator "'" deprecated at /usr/local/share/perl5/site_perl/5.40/Sub/Delete.pm line 47.
t/11-test-nowarnings.t ................ ok
Old package separator "'" deprecated at /usr/local/share/perl5/site_perl/5.40/Sub/Delete.pm line 47.
t/12-data-dumper.t .................... ok
Old package separator "'" deprecated at /usr/local/share/perl5/site_perl/5.40/Sub/Delete.pm line 47.
t/13-list-util.t ...................... ok
Old package separator "'" deprecated at /usr/local/share/perl5/site_perl/5.40/Sub/Delete.pm line 47.
t/14-todo-var.t ....................... ok
Old package separator "'" deprecated at /usr/local/share/perl5/site_perl/5.40/Sub/Delete.pm line 47.
t/15-test-builder-io-layer-utf8.t ..... ok
Old package separator "'" deprecated at /usr/local/share/perl5/site_perl/5.40/Sub/Delete.pm line 47.
t/16-test-more-import.t ............... ok
Old package separator "'" deprecated at /usr/local/share/perl5/site_perl/5.40/Sub/Delete.pm line 47.
t/17-include-list.t ................... ok
Old package separator "'" deprecated at /usr/local/share/perl5/site_perl/5.40/Sub/Delete.pm line 47.
t/18-extra-exports.t .................. ok
Old package separator "'" deprecated at /usr/local/share/perl5/site_perl/5.40/Sub/Delete.pm line 47.
t/19-sub-class.t ...................... ok
Old package separator "'" deprecated at /usr/local/share/perl5/site_perl/5.40/Sub/Delete.pm line 47.
t/20-test-kit-including-test-kit.t .... ok
Old package separator "'" deprecated at /usr/local/share/perl5/site_perl/5.40/Sub/Delete.pm line 47.
t/21-test-kit-with-strict.t ........... ok
Old package separator "'" deprecated at /usr/local/share/perl5/site_perl/5.40/Sub/Delete.pm line 47.
t/22-test-kit-with-warnings.t ......... ok
Old package separator "'" deprecated at /usr/local/share/perl5/site_perl/5.40/Sub/Delete.pm line 47.
t/23-use-multiple-kits-in-one-test.t .. ok
Old package separator "'" deprecated at /usr/local/share/perl5/site_perl/5.40/Sub/Delete.pm line 47.
t/24-universal-regression-test.t ...... ok
t/author-pod-syntax.t ................. skipped: these tests are for testing by the author
t/release-cpan-changes.t .............. skipped: these tests are for release candidate testing
All tests successful.
Files=26, Tests=65,  4 wallclock secs ( 0.01 usr  0.01 sys +  0.23 cusr  0.29 csys =  0.55 CPU)
Result: PASS

------------------------------
PREREQUISITES
------------------------------

Prerequisite modules loaded:

requires:

    Module              Need  Have    
    ------------------- ----- --------
    Exporter            0     5.78    
    Hook::LexWrap       0     0.26    
    Import::Into        0     1.002005
    Module::Runtime     0     0.016   
    perl                5.010 5.040000
    Scalar::Util        0     1.65    
    Sub::Delete         0     1.00002 
    Test::Builder       0     1.302203

build_requires:

    Module              Need  Have    
    ------------------- ----- --------
    ExtUtils::MakeMaker 0     7.70    
    Test::Exception     0     0.43    
    Test::More          0.92  1.302203
    Test::NoWarnings    0     1.06    
    Test::Output        0     1.034   
    Test::Pod           0     1.52    
    Test::Warn          0     0.37    

configure_requires:

    Module              Need  Have    
    ------------------- ----- --------
    ExtUtils::MakeMaker 0     7.70    
    perl                5.010 5.040000


------------------------------
ENVIRONMENT AND OTHER CONTEXT
------------------------------

Environment variables:

    COMSPEC = C:\Windows\system32\cmd.exe
    LANG = ja_JP.UTF-8
    NUMBER_OF_PROCESSORS = 16
    PATH = /usr/local/bin:/usr/bin:/usr/bin:/cygdrive/c/Windows/system32:/cygdrive/c/Windows:/cygdrive/c/Windows/System32/Wbem:/cygdrive/c/Windows/System32/WindowsPowerShell/v1.0:/cygdrive/c/Windows/System32/OpenSSH:/cygdrive/c/Program Files/Microsoft VS Code/bin:/cygdrive/c/Strawberry/c/bin:/cygdrive/c/Strawberry/perl/site/bin:/cygdrive/c/Strawberry/perl/bin:/cygdrive/c/Users/tzccinct/AppData/Local/Microsoft/WindowsApps
    PERL5LIB = 
    PERL5OPT = 
    PERL5_CPANPLUS_IS_RUNNING = 2050
    PERL5_CPAN_IS_RUNNING = 2050
    PERL_USE_UNSAFE_INC = 1
    PROCESSOR_IDENTIFIER = Intel64 Family 6 Model 154 Stepping 3, GenuineIntel
    SHELL = /bin/bash
    TEMP = /tmp
    TERM = screen

Perl special variables (and OS-specific diagnostics, for MSWin32):

    $^X = /usr/bin/perl
    $UID/$EUID = 197610 / 197610
    $GID = 197121 197121 545 4 66049 11 15 113 4095 66048 262154 401408
    $EGID = 197121 197121 545 4 66049 11 15 113 4095 66048 262154 401408

Perl module toolchain versions installed:

    Module              Have    
    ------------------- --------
    CPAN                2.37    
    CPAN::Meta          2.150010
    Cwd                 3.90    
    ExtUtils::CBuilder  0.280240
    ExtUtils::Command   7.70    
    ExtUtils::Install   2.22    
    ExtUtils::MakeMaker 7.70    
    ExtUtils::Manifest  1.75    
    ExtUtils::ParseXS   3.51    
    File::Spec          3.90    
    JSON                4.10    
    JSON::PP            4.16    
    Module::Build       0.4234  
    Module::Signature   n/a     
    Parse::CPAN::Meta   2.150010
    Test2               1.302203
    Test::Harness       3.50    
    Test::More          1.302203
    YAML                1.31    
    YAML::Syck          n/a     
    version             0.9933  


--

Summary of my perl5 (revision 5 version 40 subversion 0) configuration:
   
  Platform:
    osname=cygwin
    osvers=3.5.3-1.x86_64
    archname=x86_64-cygwin-threads-multi
    uname='cygwin_nt-10.0-22631 walter 3.5.3-1.x86_64 2024-04-03 17:25 utc x86_64 cygwin '
    config_args='-des -Dprefix=/usr -Dmksymlinks -Darchname=x86_64-cygwin-threads -Dlibperl=cygperl5_40.dll -Dcc=gcc -Dld=g++ -Accflags=-ggdb -O2 -pipe -Wall -Werror=format-security -D_FORTIFY_SOURCE=3 -fstack-protector-strong --param=ssp-buffer-size=4 -ffile-prefix-map=/mnt/share/cygpkgs/perl/perl.x86_64/build=/usr/src/debug/perl-5.40.0-1 -ffile-prefix-map=/mnt/share/cygpkgs/perl/perl.x86_64/src/perl-5.40.0=/usr/src/debug/perl-5.40.0-1 -fwrapv'
    hint=recommended
    useposix=true
    d_sigaction=define
    useithreads=define
    usemultiplicity=define
    use64bitint=define
    use64bitall=define
    uselongdouble=undef
    usemymalloc=n
    default_inc_excludes_dot=define
  Compiler:
    cc='gcc'
    ccflags ='-U__STRICT_ANSI__ -D_GNU_SOURCE -ggdb -O2 -pipe -Wall -Werror=format-security -D_FORTIFY_SOURCE=3 -fstack-protector-strong --param=ssp-buffer-size=4 -ffile-prefix-map=/mnt/share/cygpkgs/perl/perl.x86_64/build=/usr/src/debug/perl-5.40.0-1 -ffile-prefix-map=/mnt/share/cygpkgs/perl/perl.x86_64/src/perl-5.40.0=/usr/src/debug/perl-5.40.0-1 -fwrapv -fno-strict-aliasing'
    optimize='-O3'
    cppflags='-U__STRICT_ANSI__ -D_GNU_SOURCE -ggdb -O2 -pipe -Wall -Werror=format-security -D_FORTIFY_SOURCE=3 -fstack-protector-strong --param=ssp-buffer-size=4 -ffile-prefix-map=/mnt/share/cygpkgs/perl/perl.x86_64/build=/usr/src/debug/perl-5.40.0-1 -ffile-prefix-map=/mnt/share/cygpkgs/perl/perl.x86_64/src/perl-5.40.0=/usr/src/debug/perl-5.40.0-1 -fwrapv -fno-strict-aliasing'
    ccversion=''
    gccversion='12.4.0'
    gccosandvers=''
    intsize=4
    longsize=8
    ptrsize=8
    doublesize=8
    byteorder=12345678
    doublekind=3
    d_longlong=define
    longlongsize=8
    d_longdbl=define
    longdblsize=16
    longdblkind=3
    ivtype='long'
    ivsize=8
    nvtype='double'
    nvsize=8
    Off_t='off_t'
    lseeksize=8
    alignbytes=8
    prototype=define
  Linker and Libraries:
    ld='g++'
    ldflags =' -Wl,--enable-auto-import -Wl,--export-all-symbols -Wl,--enable-auto-image-base -fstack-protector-strong'
    libpth=/usr/lib
    libs=-lpthread -lgdbm -ldb -ldl -lcrypt -lgdbm_compat
    perllibs=-lpthread -ldl -lcrypt
    libc=/usr/lib/libcygwin.a
    so=dll
    useshrplib=true
    libperl=cygperl5_40.dll
    gnulibc_version=''
  Dynamic Linking:
    dlsrc=dl_dlopen.xs
    dlext=dll
    d_dlsymun=undef
    ccdlflags=' '
    cccdlflags=' '
    lddlflags=' --shared  -Wl,--enable-auto-import -Wl,--export-all-symbols -Wl,--enable-auto-image-base -fstack-protector-strong'


Characteristics of this binary (from libperl): 
  Compile-time options:
    HAS_LONG_DOUBLE
    HAS_STRTOLD
    HAS_TIMES
    MULTIPLICITY
    PERLIO_LAYERS
    PERL_COPY_ON_WRITE
    PERL_DONT_CREATE_GVSV
    PERL_HASH_FUNC_SIPHASH13
    PERL_HASH_USE_SBOX32
    PERL_OP_PARENT
    PERL_PRESERVE_IVUV
    PERL_USE_SAFE_PUTENV
    USE_64_BIT_ALL
    USE_64_BIT_INT
    USE_ITHREADS
    USE_LARGE_FILES
    USE_LOCALE
    USE_LOCALE_COLLATE
    USE_LOCALE_CTYPE
    USE_LOCALE_NUMERIC
    USE_LOCALE_TIME
    USE_PERLIO
    USE_PERL_ATOF
    USE_REENTRANT_API
    USE_THREAD_SAFE_LOCALE
  Locally applied patches:
    Cygwin: README
    Cygwin: modify hints
    Cygwin: Win32 correct UTF8 handling for tests
  Built under cygwin
  Compiled at Aug 17 2024 18:10:01
  %ENV:
    PERL5LIB=""
    PERL5OPT=""
    PERL5_CPANPLUS_IS_RUNNING="2050"
    PERL5_CPAN_IS_RUNNING="2050"
    PERL_USE_UNSAFE_INC="1"
  @INC:
    /usr/local/lib/perl5/site_perl/5.40/x86_64-cygwin-threads
    /usr/local/share/perl5/site_perl/5.40
    /usr/lib/perl5/vendor_perl/5.40/x86_64-cygwin-threads
    /usr/share/perl5/vendor_perl/5.40
    /usr/lib/perl5/5.40/x86_64-cygwin-threads
    /usr/share/perl5/5.40
    .