Gtk2 v1.24993 Perl 5 v5.35.3 x86_64-linux-thread-multi

Status
Pass
From
Andreas J. König (ANDK)
Dist
Gtk2 v1.24993
Platform
Perl 5 v5.35.3 x86_64-linux-thread-multi
Date
2021-08-23 11:37:18
ID
78efc96c-0406-11ec-81b7-84c6ec4cf2d9
This distribution has been tested as part of the CPAN Testers
project, supporting the Perl programming language.  See
http://wiki.cpantesters.org/ for more information or email
questions to cpan-testers-discuss@perl.org


--
Dear Brian Manning,

This is a computer-generated report for Gtk2-1.24993
on perl 5.35.3, created by CPAN-Reporter-1.2018.

Thank you for uploading your work to CPAN.  Congratulations!
All tests were successful.

Sections of this report:

    * Tester comments
    * Program output
    * Prerequisites
    * Environment and other context

------------------------------
TESTER COMMENTS
------------------------------

Additional comments from tester:

this report is from an automated smoke testing program
and was not reviewed by a human for accuracy

------------------------------
PROGRAM OUTPUT
------------------------------

Output from '/usr/bin/make test':

"/tmp/basesmoker-reloperl-7yz1/bin/perl" -MExtUtils::Command::MM -e 'cp_nonempty' -- Gtk2.bs blib/arch/auto/Gtk2/Gtk2.bs 644
PERL_DL_NONLAZY=1 "/tmp/basesmoker-reloperl-7yz1/bin/perl" "-MExtUtils::Command::MM" "-MTest::Harness" "-e" "undef *Test::Harness::Switches; test_harness(0, 'blib/lib', 'blib/arch')" t/*.t
# Testing Gtk2 1.24993
#    Running against gtk+ 2.24.32
#   Compiled against gtk+ 2.24.32
t/00.Gtk2.t ........................ ok
t/01.GtkWindow.t ................... ok
t/02.GtkContainer.t ................ ok
t/constants.t ...................... ok
t/Gdk.t ............................ ok
t/GdkCairo.t ....................... ok
t/GdkColor.t ....................... ok
t/GdkCursor.t ...................... ok
t/GdkDisplay.t ..................... ok
t/GdkDisplayManager.t .............. ok
t/GdkDrawable.t .................... ok
t/GdkEvent.t ....................... ok
t/GdkGC.t .......................... ok
t/GdkImage.t ....................... ok
t/GdkInput.t ....................... ok
t/GdkKeys.t ........................ ok
t/GdkPango.t ....................... ok
t/GdkPixbuf.t ...................... ok
t/GdkPixbufLoader.t ................ ok
t/GdkPixbufSimpleAnim.t ............ ok
Gdk-WARNING **: XID collision, trouble ahead at t/GdkPixmap.t line 16.
Gdk-WARNING **: XID collision, trouble ahead at t/GdkPixmap.t line 25.
Gdk-WARNING **: XID collision, trouble ahead at t/GdkPixmap.t line 40.
t/GdkPixmap.t ...................... ok
t/GdkProperty.t .................... ok
t/GdkRegion.t ...................... ok
t/GdkRgb.t ......................... ok
t/GdkScreen.t ...................... ok
t/GdkSelection.t ................... ok
t/GdkVisual.t ...................... ok
t/GdkWindow.t ...................... ok
t/GdkX11.t ......................... ok
t/GtkAboutDialog.t ................. ok
t/GtkAccelGroup.t .................. ok
t/GtkAccelLabel.t .................. ok
t/GtkAccelMap.t .................... ok
t/GtkAction.t ...................... ok
t/GtkActionGroup.t ................. ok
t/GtkActivatable.t ................. ok
t/GtkAdjustment.t .................. ok
t/GtkAlignment.t ................... ok
t/GtkArrow.t ....................... ok
t/GtkAspectFrame.t ................. ok
t/GtkAssistant.t ................... ok
t/GtkBin.t ......................... ok
t/GtkBindings.t .................... ok
t/GtkBox.t ......................... ok
t/GtkBuildable.t ................... ok
GLib-GObject-WARNING **: ../../../../gobject/gsignal.c:1251: unable to lookup signal "changed" for non instantiatable type 'GtkBuildable' at /home/sand/src/perl/repoperls/installed-perls/host/k93bionic/v5.35.3/7ee9/lib/site_perl/5.35.3/x86_64-linux-thread-multi/Glib/Object/Subclass.pm line 235.
t/GtkBuildableIface.t .............. ok
t/GtkBuilder.t ..................... ok
t/GtkButton.t ...................... ok
t/GtkButtonBox.t ................... ok
t/GtkCalendar.t .................... ok
GLib-GObject-CRITICAL **: Object class EditableTest doesn't implement property 'editing-canceled' from interface 'GtkCellEditable' at /home/sand/src/perl/repoperls/installed-perls/host/k93bionic/v5.35.3/7ee9/lib/site_perl/5.35.3/x86_64-linux-thread-multi/Glib/Object/Subclass.pm line 235.
t/GtkCellEditable.t ................ ok
t/GtkCellLayout.t .................. ok
t/GtkCellLayoutIface.t ............. ok
t/GtkCellRenderer.t ................ ok
t/GtkCellRendererAccel.t ........... ok
t/GtkCellRendererCombo.t ........... ok
t/GtkCellRendererIface-Chaining.t .. ok
t/GtkCellRendererPixbuf.t .......... ok
t/GtkCellRendererProgress.t ........ ok
t/GtkCellRendererSpin.t ............ ok
t/GtkCellRendererSpinner.t ......... ok
t/GtkCellRendererText.t ............ ok
t/GtkCellRendererToggle.t .......... ok
t/GtkCellView.t .................... ok
t/GtkCheckButton.t ................. ok
t/GtkCheckMenuItem.t ............... ok
t/GtkClipboard.t ................... ok
t/GtkColorButton.t ................. ok
t/GtkColorSelection.t .............. ok
t/GtkColorSelectionDialog.t ........ ok
t/GtkCombo.t ....................... ok
t/GtkComboBox.t .................... ok
t/GtkComboBoxEntry.t ............... ok
t/GtkCurve.t ....................... ok
t/GtkDialog.t ...................... ok
t/GtkDrawingArea.t ................. ok
t/GtkEditable.t .................... ok
t/GtkEntry.t ....................... ok
t/GtkEntryBuffer.t ................. ok
t/GtkEntryCompletion.t ............. ok
t/GtkEventBox.t .................... ok
t/GtkExpander.t .................... ok
t/GtkFileChooser.t ................. skipped: this test is unreliable
t/GtkFileChooserButton.t ........... ok
t/GtkFileChooserDialog.t ........... ok
t/GtkFileChooserWidget.t ........... ok
t/GtkFileFilter.t .................. ok
t/GtkFileSelection.t ............... ok
t/GtkFixed.t ....................... ok
t/GtkFontButton.t .................. ok
t/GtkFontSelection.t ............... ok
t/GtkFrame.t ....................... ok
t/GtkGammaCurve.t .................. ok
t/GtkGC.t .......................... ok
t/GtkHandleBox.t ................... ok
t/GtkHBox.t ........................ ok
t/GtkHButtonBox.t .................. ok
t/GtkHPaned.t ...................... ok
t/GtkHRuler.t ...................... ok
t/GtkHScale.t ...................... ok
t/GtkHScrollbar.t .................. ok
t/GtkHSeparator.t .................. ok
t/GtkHSV.t ......................... ok
t/GtkIconFactory.t ................. ok
t/GtkIconTheme.t ................... ok
t/GtkIconView.t .................... ok
t/GtkImage.t ....................... ok
t/GtkImageMenuItem.t ............... ok
t/GtkIMContext.t ................... ok
t/GtkInfoBar.t ..................... ok
t/GtkInputDialog.t ................. ok
t/GtkInvisible.t ................... ok
t/GtkItemFactory.t ................. ok
t/GtkLabel.t ....................... ok
t/GtkLayout.t ...................... ok
t/GtkLinkButton.t .................. ok
t/GtkListStore.t ................... ok
t/GtkMenu.t ........................ ok
t/GtkMenuBar.t ..................... ok
t/GtkMenuItem.t .................... ok
t/GtkMenuShell.t ................... ok
t/GtkMenuToolButton.t .............. ok
t/GtkMessageDialog.t ............... ok
t/GtkMisc.t ........................ ok
t/GtkNotebook.t .................... ok
t/GtkObject.t ...................... ok
t/GtkOffscreenWindow.t ............. ok
t/GtkOptionMenu.t .................. ok
t/GtkOrientable.t .................. ok
t/GtkPageSetup.t ................... ok
t/GtkPaned.t ....................... ok
t/GtkPaperSize.t ................... ok
t/GtkPrintContext.t ................ ok
t/GtkPrintOperation.t .............. ok
t/GtkPrintOperationPreview.t ....... ok
t/GtkPrintSettings.t ............... ok
t/GtkProgressBar.t ................. ok
t/GtkRadioAction.t ................. ok
t/GtkRadioButton.t ................. ok
t/GtkRadioMenuItem.t ............... ok
t/GtkRadioToolButton.t ............. ok
t/GtkRange.t ....................... ok
t/GtkRc.t .......................... ok
t/GtkRecentAction.t ................ ok
GLib-CRITICAL **: Source ID 5 was not found when attempting to remove it at t/GtkRecentChooser.t line 67.
GLib-CRITICAL **: Source ID 12 was not found when attempting to remove it at t/GtkRecentChooser.t line 103.
t/GtkRecentChooser.t ............... ok
t/GtkRecentChooserDialog.t ......... ok
t/GtkRecentChooserMenu.t ........... ok
t/GtkRecentChooserWidget.t ......... ok
t/GtkRecentFilter.t ................ ok
t/GtkRecentManager.t ............... ok
t/GtkRuler.t ....................... ok
t/GtkScale.t ....................... ok
t/GtkScaleButton.t ................. ok
t/GtkScrolledWindow.t .............. ok
t/GtkSelection.t ................... ok
t/GtkSeparatorMenuItem.t ........... ok
t/GtkSeparatorToolItem.t ........... ok
t/GtkShow.t ........................ skipped: can only test interactively
t/GtkSimpleList.t .................. ok
t/GtkSimpleMenu.t .................. ok
t/GtkSizeGroup.t ................... ok
t/GtkSpinButton.t .................. ok
t/GtkSpinner.t ..................... ok
t/GtkStatusbar.t ................... ok
t/GtkStatusIcon.t .................. ok
t/GtkStock.t ....................... ok
t/GtkStyle.t ....................... ok
t/GtkTable.t ....................... ok
t/GtkTearoffMenuItem.t ............. ok
t/GtkTextBuffer.t .................. ok
GLib-WARNING **: (../../../../glib/gerror.c:407):g_error_new_valist: runtime check failed: (domain != 0) at t/GtkTextBufferRichText.t line 210, <DATA> line 1.
t/GtkTextBufferRichText.t .......... ok
t/GtkTextChildAnchor.t ............. ok
t/GtkTextIter.t .................... ok
t/GtkTextMark.t .................... ok
t/GtkTextTag.t ..................... ok
t/GtkTextTagTable.t ................ ok
t/GtkTextView.t .................... ok
t/GtkToggleAction.t ................ ok
t/GtkToggleButton.t ................ ok
t/GtkToggleToolButton.t ............ ok
t/GtkToolbar.t ..................... ok
t/GtkToolButton.t .................. ok
t/GtkToolItem.t .................... ok
t/GtkToolItemGroup.t ............... ok
t/GtkToolPalette.t ................. ok
t/GtkToolShell.t ................... ok
t/GtkTooltip.t ..................... ok
t/GtkTooltips.t .................... ok
t/GtkTreeDnd.t ..................... ok
t/GtkTreeModel.t ................... ok
t/GtkTreeModelFilter.t ............. ok
t/GtkTreeModelIface.t .............. ok
t/GtkTreeModelSort.t ............... ok
t/GtkTreeSelection.t ............... ok
t/GtkTreeSortable.t ................ ok
t/GtkTreeStore.t ................... ok
t/GtkTreeView-Dnd.t ................ skipped: this test is interactive
t/GtkTreeView.t .................... ok
t/GtkUIManager.t ................... ok
t/GtkVBox.t ........................ ok
t/GtkVButtonBox.t .................. ok
t/GtkViewport.t .................... ok
t/GtkVolumeButton.t ................ ok
t/GtkVPaned.t ...................... ok
t/GtkVRuler.t ...................... ok
t/GtkVScale.t ...................... ok
t/GtkVScrollbar.t .................. ok
t/GtkVSeparator.t .................. ok
t/GtkWidget.t ...................... ok
t/options.t ........................ ok
t/pango-compat.t ................... ok
t/PangoAttributes.t ................ ok
t/PangoCairo.t ..................... ok
t/PangoContext.t ................... ok
t/PangoFont.t ...................... ok
t/PangoFontMap.t ................... ok
t/PangoFontset.t ................... ok
t/PangoGravity.t ................... ok
t/PangoLayout.t .................... ok
t/PangoMatrix.t .................... ok
t/PangoRenderer.t .................. ok
t/PangoScript.t .................... ok
t/PangoTabs.t ...................... ok
t/PangoTypes.t ..................... ok
t/set-scroll-adjustments-signal.t .. ok
t/signal-chaining.t ................ ok
t/tied-objects.t ................... ok
t/version-checks.t ................. ok
All tests successful.
Files=228, Tests=5065, 21 wallclock secs ( 0.52 usr  0.96 sys + 15.01 cusr  4.75 csys = 21.24 CPU)
Result: PASS

------------------------------
PREREQUISITES
------------------------------

Prerequisite modules loaded:

requires:

    Module              Need  Have  
    ------------------- ----- ------
    Cairo               1.000 1.109 
    ExtUtils::Depends   0.300 0.8001
    ExtUtils::PkgConfig 1.030 1.16  
    Glib                1.280 1.3293
    Pango               1.220 1.227 

build_requires:

    Module              Need  Have  
    ------------------- ----- ------
    ExtUtils::MakeMaker 0     7.62  

configure_requires:

    Module              Need  Have  
    ------------------- ----- ------
    Cairo               1.000 1.109 
    ExtUtils::Depends   0.300 0.8001
    ExtUtils::MakeMaker 0     7.62  
    ExtUtils::PkgConfig 1.030 1.16  
    Glib                1.280 1.3293
    Pango               1.220 1.227 


------------------------------
ENVIRONMENT AND OTHER CONTEXT
------------------------------

Environment variables:

    AUTOMATED_TESTING = 1
    LANG = en_US.utf8
    PATH = /home/sand/bin:/usr/local/bin:/usr/local/sbin:/usr/sbin:/usr/bin:/sbin:/bin:/usr/games:/usr/local/games:/snap/bin:/usr/local/perl/bin:/usr/X11/bin
    PERL5LIB = 
    PERL5OPT = 
    PERL5_CPANPLUS_IS_RUNNING = 16378
    PERL5_CPAN_IS_RUNNING = 16378
    PERL_CANARY_STABILITY_NOPROMPT = 1
    PERL_MM_USE_DEFAULT = 1
    PERL_USE_UNSAFE_INC = 1
    SHELL = /usr/bin/zsh
    TERM = screen

Perl special variables (and OS-specific diagnostics, for MSWin32):

    $^X = /tmp/basesmoker-reloperl-7yz1/bin/perl
    $UID/$EUID = 1005 / 1005
    $GID = 1005 1005
    $EGID = 1005 1005

Perl module toolchain versions installed:

    Module              Have    
    ------------------- --------
    CPAN                2.28    
    CPAN::Meta          2.150010
    Cwd                 3.82    
    ExtUtils::CBuilder  0.280236
    ExtUtils::Command   7.62    
    ExtUtils::Install   2.20    
    ExtUtils::MakeMaker 7.62    
    ExtUtils::Manifest  1.73    
    ExtUtils::ParseXS   3.43    
    File::Spec          3.81    
    JSON                4.03    
    JSON::PP            4.06    
    Module::Build       0.4231  
    Module::Signature   0.87    
    Parse::CPAN::Meta   2.150010
    Test::Harness       3.43    
    Test::More          1.302186
    YAML                1.30    
    YAML::Syck          1.34    
    version             0.9929  


--

Summary of my perl5 (revision 5 version 35 subversion 3) configuration:
  Commit id: 566e79b3713e09f940997a15f239ad9cb45c66b2
  Platform:
    osname=linux
    osvers=4.15.0-154-generic
    archname=x86_64-linux-thread-multi
    uname='linux k93bionic 4.15.0-154-generic #161-ubuntu smp fri jul 30 13:04:17 utc 2021 x86_64 x86_64 x86_64 gnulinux '
    config_args='-Dprefix=/home/sand/src/perl/repoperls/installed-perls/host/k93bionic/v5.35.3/7ee9 -Dmyhostname=k93bionic -Dinstallusrbinperl=n -Uversiononly -Dusedevel -des -Ui_db -Dlibswanted=cl pthread socket inet nsl gdbm dbm malloc dl ld sun m crypt sec util c cposix posix ucb BSD gdbm_compat -Duseithreads -Uuselongdouble -DEBUGGING=-g'
    hint=recommended
    useposix=true
    d_sigaction=define
    useithreads=define
    usemultiplicity=define
    use64bitint=define
    use64bitall=define
    uselongdouble=undef
    usemymalloc=n
    default_inc_excludes_dot=define
  Compiler:
    cc='cc'
    ccflags ='-D_REENTRANT -D_GNU_SOURCE -fwrapv -fno-strict-aliasing -pipe -fstack-protector-strong -I/usr/local/include -D_LARGEFILE_SOURCE -D_FILE_OFFSET_BITS=64'
    optimize='-O2 -g'
    cppflags='-D_REENTRANT -D_GNU_SOURCE -fwrapv -fno-strict-aliasing -pipe -fstack-protector-strong -I/usr/local/include'
    ccversion=''
    gccversion='7.5.0'
    gccosandvers=''
    intsize=4
    longsize=8
    ptrsize=8
    doublesize=8
    byteorder=12345678
    doublekind=3
    d_longlong=define
    longlongsize=8
    d_longdbl=define
    longdblsize=16
    longdblkind=3
    ivtype='long'
    ivsize=8
    nvtype='double'
    nvsize=8
    Off_t='off_t'
    lseeksize=8
    alignbytes=8
    prototype=define
  Linker and Libraries:
    ld='cc'
    ldflags =' -fstack-protector-strong -L/usr/local/lib'
    libpth=/usr/local/lib /usr/lib/x86_64-linux-gnu /usr/lib /lib/x86_64-linux-gnu /lib
    libs=-lpthread -lnsl -ldl -lm -lcrypt -lutil -lc
    perllibs=-lpthread -lnsl -ldl -lm -lcrypt -lutil -lc
    libc=libc-2.27.so
    so=so
    useshrplib=false
    libperl=libperl.a
    gnulibc_version='2.27'
  Dynamic Linking:
    dlsrc=dl_dlopen.xs
    dlext=so
    d_dlsymun=undef
    ccdlflags='-Wl,-E'
    cccdlflags='-fPIC'
    lddlflags='-shared -O2 -g -L/usr/local/lib -fstack-protector-strong'


Characteristics of this binary (from libperl): 
  Compile-time options:
    HAS_TIMES
    MULTIPLICITY
    PERLIO_LAYERS
    PERL_COPY_ON_WRITE
    PERL_DONT_CREATE_GVSV
    PERL_MALLOC_WRAP
    PERL_OP_PARENT
    PERL_PRESERVE_IVUV
    PERL_USE_DEVEL
    USE_64_BIT_ALL
    USE_64_BIT_INT
    USE_ITHREADS
    USE_LARGE_FILES
    USE_LOCALE
    USE_LOCALE_COLLATE
    USE_LOCALE_CTYPE
    USE_LOCALE_NUMERIC
    USE_LOCALE_TIME
    USE_PERLIO
    USE_PERL_ATOF
    USE_REENTRANT_API
    USE_THREAD_SAFE_LOCALE
  Built under linux
  Compiled at Aug 23 2021 02:21:52
  %ENV:
    PERL5LIB=""
    PERL5OPT=""
    PERL5_CPANPLUS_IS_RUNNING="16378"
    PERL5_CPAN_IS_RUNNING="16378"
    PERL_CANARY_STABILITY_NOPROMPT="1"
    PERL_MM_USE_DEFAULT="1"
    PERL_USE_UNSAFE_INC="1"
  @INC:
    /home/sand/src/perl/repoperls/installed-perls/host/k93bionic/v5.35.3/7ee9/lib/site_perl/5.35.3/x86_64-linux-thread-multi
    /home/sand/src/perl/repoperls/installed-perls/host/k93bionic/v5.35.3/7ee9/lib/site_perl/5.35.3
    /home/sand/src/perl/repoperls/installed-perls/host/k93bionic/v5.35.3/7ee9/lib/5.35.3/x86_64-linux-thread-multi
    /home/sand/src/perl/repoperls/installed-perls/host/k93bionic/v5.35.3/7ee9/lib/5.35.3
    .