Capture-Tiny-Extended v0.114 Perl 5 v5.26.1 amd64-freebsd
- Status
- Pass
- From
- Slaven Rezić (SREZIC)
- Dist
-
Capture-Tiny-Extended v0.114
- Platform
- Perl 5 v5.26.1 amd64-freebsd
- Date
- 2019-01-28 16:12:13
- ID
- 78f24dc2-2317-11e9-bca7-c4a1d663797e
This distribution has been tested as part of the CPAN Testers
project, supporting the Perl programming language. See
http://wiki.cpantesters.org/ for more information or email
questions to cpan-testers-discuss@perl.org
--
Dear Christian Walde,
This is a computer-generated report for Capture-Tiny-Extended-0.114
on perl 5.26.1, created by CPAN-Reporter-1.2018.
Thank you for uploading your work to CPAN. Congratulations!
All tests were successful.
Sections of this report:
* Tester comments
* Program output
* Prerequisites
* Environment and other context
------------------------------
TESTER COMMENTS
------------------------------
Additional comments from tester:
none provided
------------------------------
PROGRAM OUTPUT
------------------------------
Output from '/usr/bin/make test':
PERL_DL_NONLAZY=1 "/usr/perl5.26.1p/bin/perl" "-MExtUtils::Command::MM" "-MTest::Harness" "-e" "undef *Test::Harness::Switches; test_harness(0, 'blib/lib', 'blib/arch')" t/*.t
t/00-compile.t ............. ok
t/01-Capture-Tiny.t ........ ok
t/02-capture.t ............. ok
t/03-tee.t ................. ok
t/06-stdout-closed.t ....... ok
t/07-stderr-closed.t ....... ok
t/08-stdin-closed.t ........ ok
t/09-preserve-exit-code.t .. ok
t/10-stdout-string.t ....... ok
t/11-stderr-string.t ....... ok
t/12-stdin-string.t ........ ok
t/13-stdout-tied.t ......... ok
t/14-stderr-tied.t ......... ok
t/15-stdin-tied.t .......... ok
t/16-catch-errors.t ........ ok
All tests successful.
Test Summary Report
-------------------
t/13-stdout-tied.t (Wstat: 0 Tests: 489 Failed: 0)
TODO passed: 3-4, 11-13, 21-22, 30-31, 38-40, 48-49
59, 68, 76, 83, 85, 93-94, 103, 110, 112
120-121, 130-132, 146-151, 166-168, 184-186
200-205, 220-222, 238, 248-251, 262, 274
284-287, 298, 312-313, 316-317, 338, 340
342-344, 346-347, 369, 371-373, 375-377
402-403, 406-407, 428, 430, 432-434, 436-437
459, 461-463, 465-467
t/14-stderr-tied.t (Wstat: 0 Tests: 489 Failed: 0)
TODO passed: 2, 4, 11-13, 20, 22, 29, 31, 38-40, 47
49, 56, 59, 62, 65, 68, 71, 74-76, 83-85
92-94, 101-103, 110-112, 119-121, 128-129
132, 146-151, 164-165, 168, 182-183, 186
200-205, 218-219, 222, 236-237, 239, 248-251
260-261, 263, 272-273, 275, 284-287, 296-297
299, 308-317, 338-347, 368-377, 398-407
428-437, 458-467
Files=15, Tests=4904, 531 wallclock secs ( 1.12 usr 0.06 sys + 16.82 cusr 39.79 csys = 57.80 CPU)
Result: PASS
------------------------------
PREREQUISITES
------------------------------
Prerequisite modules loaded:
requires:
Module Need Have
------------------- ---- --------
Carp 0 1.42
Exporter 0 5.72
File::Spec 0 3.74
File::Temp 0 0.2306
IO::Handle 0 1.39
build_requires:
Module Need Have
------------------- ---- --------
File::Find 0 1.34
Test::More 0.62 1.302136
configure_requires:
Module Need Have
------------------- ---- --------
ExtUtils::MakeMaker 6.30 7.34
------------------------------
ENVIRONMENT AND OTHER CONTEXT
------------------------------
Environment variables:
PATH = /usr/local/bin:/usr/bin:/bin:/usr/local/sbin:/usr/sbin:/sbin:/home/cpansand/bin/freebsd11.2:/home/cpansand/bin/sh:/home/cpansand/bin:/usr/games:/home/cpansand/devel:/home/eserte/src/srezic-misc/scripts
PERL5LIB = /home/cpansand/.cpan/build/2019012823/App-github-cmd-0.005-0/blib/arch:/home/cpansand/.cpan/build/2019012823/App-github-cmd-0.005-0/blib/lib:/home/cpansand/.cpan/build/2019012823/Config-IOD-0.350-0/blib/arch:/home/cpansand/.cpan/build/2019012823/Config-IOD-0.350-0/blib/lib:/home/cpansand/.cpan/build/2019012823/WWW-Mechanize-1.91-5/blib/arch:/home/cpansand/.cpan/build/2019012823/WWW-Mechanize-1.91-5/blib/lib
PERL5OPT =
PERL5_CPANPLUS_IS_RUNNING = 97904
PERL5_CPAN_IS_RUNNING = 97904
PERL5_CPAN_IS_RUNNING_IN_RECURSION = 67563,97904
PERLDOC = -MPod::Perldoc::ToTextOverstrike
PERL_BATCH = yes
PERL_CANARY_STABILITY_NOPROMPT = 1
PERL_CPAN_REPORTER_CONFIG = /var/tmp/cpansmoker-1023/2019012814/cpanreporter_000_config.ini
PERL_EXTUTILS_AUTOINSTALL = --defaultdeps
PERL_USE_UNSAFE_INC = 1
SHELL = /usr/local/bin/zsh
TERM = screen
TMPDIR = /var/tmp/cpansmoker-1023/2019012814
Perl special variables (and OS-specific diagnostics, for MSWin32):
$^X = /usr/perl5.26.1p/bin/perl
$UID/$EUID = 1023 / 1023
$GID = 1023 1023
$EGID = 1023 1023
Perl module toolchain versions installed:
Module Have
------------------- --------
CPAN 2.18
CPAN::Meta 2.150010
Cwd 3.74
ExtUtils::CBuilder 0.280230
ExtUtils::Command 7.34
ExtUtils::Install 2.06
ExtUtils::MakeMaker 7.34
ExtUtils::Manifest 1.70
ExtUtils::ParseXS 3.34
File::Spec 3.74
JSON 2.97001
JSON::PP 2.94
Module::Build 0.4224
Module::Signature 0.81
Parse::CPAN::Meta 2.150010
Test::Harness 3.42
Test::More 1.302136
YAML 1.26
YAML::Syck 1.30
version 0.9917
--
Summary of my perl5 (revision 5 version 26 subversion 1) configuration:
Platform:
osname=freebsd
osvers=11.1-stable
archname=amd64-freebsd
uname='freebsd ali3.bbbike.org 11.1-stable freebsd 11.1-stable #1 21e3b2eb0af(stable11): thu oct 19 19:30:51 utc 2017 root@ali3.bbbike.org:usrobjhomeprojectsfreebsdsysgeneric amd64 '
config_args='-ds -e -Dprefix=/usr/perl5.26.1p -Dcf_email=srezic@cpan.org -Doptimize=-O2 -pipe'
hint=recommended
useposix=true
d_sigaction=define
useithreads=undef
usemultiplicity=undef
use64bitint=define
use64bitall=define
uselongdouble=undef
usemymalloc=n
default_inc_excludes_dot=define
bincompat5005=undef
Compiler:
cc='cc'
ccflags ='-DHAS_FPSETMASK -DHAS_FLOATINGPOINT_H -fno-strict-aliasing -pipe -fstack-protector-strong -I/usr/local/include -D_FORTIFY_SOURCE=2'
optimize='-O2 -pipe'
cppflags='-DHAS_FPSETMASK -DHAS_FLOATINGPOINT_H -fno-strict-aliasing -pipe -fstack-protector-strong -I/usr/local/include'
ccversion=''
gccversion='4.2.1 Compatible FreeBSD Clang 5.0.0 (tags/RELEASE_500/final 312559)'
gccosandvers=''
intsize=4
longsize=8
ptrsize=8
doublesize=8
byteorder=12345678
doublekind=3
d_longlong=define
longlongsize=8
d_longdbl=define
longdblsize=16
longdblkind=3
ivtype='long'
ivsize=8
nvtype='double'
nvsize=8
Off_t='off_t'
lseeksize=8
alignbytes=8
prototype=define
Linker and Libraries:
ld='cc'
ldflags ='-pthread -Wl,-E -fstack-protector-strong -L/usr/local/lib'
libpth=/usr/lib /usr/local/lib /usr/lib/clang/5.0.0/lib /usr/lib
libs=-lpthread -lgdbm -lm -lcrypt -lutil -lc
perllibs=-lpthread -lm -lcrypt -lutil -lc
libc=
so=so
useshrplib=false
libperl=libperl.a
gnulibc_version=''
Dynamic Linking:
dlsrc=dl_dlopen.xs
dlext=so
d_dlsymun=undef
ccdlflags=' '
cccdlflags='-DPIC -fPIC'
lddlflags='-shared -L/usr/local/lib -fstack-protector-strong'
Characteristics of this binary (from libperl):
Compile-time options:
HAS_TIMES
PERLIO_LAYERS
PERL_COPY_ON_WRITE
PERL_DONT_CREATE_GVSV
PERL_MALLOC_WRAP
PERL_OP_PARENT
PERL_PRESERVE_IVUV
USE_64_BIT_ALL
USE_64_BIT_INT
USE_LARGE_FILES
USE_LOCALE
USE_LOCALE_COLLATE
USE_LOCALE_CTYPE
USE_LOCALE_NUMERIC
USE_LOCALE_TIME
USE_PERLIO
USE_PERL_ATOF
Built under freebsd
Compiled at Oct 31 2017 01:02:57
%ENV:
PERL5LIB="/home/cpansand/.cpan/build/2019012823/App-github-cmd-0.005-0/blib/arch:/home/cpansand/.cpan/build/2019012823/App-github-cmd-0.005-0/blib/lib:/home/cpansand/.cpan/build/2019012823/Config-IOD-0.350-0/blib/arch:/home/cpansand/.cpan/build/2019012823/Config-IOD-0.350-0/blib/lib:/home/cpansand/.cpan/build/2019012823/WWW-Mechanize-1.91-5/blib/arch:/home/cpansand/.cpan/build/2019012823/WWW-Mechanize-1.91-5/blib/lib"
PERL5OPT=""
PERL5_CPANPLUS_IS_RUNNING="97904"
PERL5_CPAN_IS_RUNNING="97904"
PERL5_CPAN_IS_RUNNING_IN_RECURSION="67563,97904"
PERLDOC="-MPod::Perldoc::ToTextOverstrike"
PERL_BATCH="yes"
PERL_CANARY_STABILITY_NOPROMPT="1"
PERL_CPAN_REPORTER_CONFIG="/var/tmp/cpansmoker-1023/2019012814/cpanreporter_000_config.ini"
PERL_EXTUTILS_AUTOINSTALL="--defaultdeps"
PERL_USE_UNSAFE_INC="1"
@INC:
/home/cpansand/.cpan/build/2019012823/App-github-cmd-0.005-0/blib/arch
/home/cpansand/.cpan/build/2019012823/App-github-cmd-0.005-0/blib/lib
/home/cpansand/.cpan/build/2019012823/Config-IOD-0.350-0/blib/arch
/home/cpansand/.cpan/build/2019012823/Config-IOD-0.350-0/blib/lib
/home/cpansand/.cpan/build/2019012823/WWW-Mechanize-1.91-5/blib/arch
/home/cpansand/.cpan/build/2019012823/WWW-Mechanize-1.91-5/blib/lib
/usr/perl5.26.1p/lib/site_perl/5.26.1/amd64-freebsd
/usr/perl5.26.1p/lib/site_perl/5.26.1
/usr/perl5.26.1p/lib/5.26.1/amd64-freebsd
/usr/perl5.26.1p/lib/5.26.1
.