Report for Net-Squid-Auth-Plugin-SimpleLDAP-0.1.84

Back
From: metabase:user:30f4dfbe-2aae-11df-837a-5e0a49663a4f
Subject: PASS Net-Squid-Auth-Plugin-SimpleLDAP-0.1.84 v5.12.3 GNU/Linux
Date: 2012-06-11T01:47:59Z

This distribution has been tested as part of the CPAN Testers
project, supporting the Perl programming language.  See
http://wiki.cpantesters.org/ for more information or email
questions to cpan-testers-discuss@perl.org


--
Dear Alexei Znamensky,

This is a computer-generated report for Net-Squid-Auth-Plugin-SimpleLDAP-0.1.84
on perl 5.12.3, created by CPAN-Reporter-1.2006.

Thank you for uploading your work to CPAN.  Congratulations!
All tests were successful.

Sections of this report:

    * Tester comments
    * Program output
    * Prerequisites
    * Environment and other context

------------------------------
TESTER COMMENTS
------------------------------

Additional comments from tester:

this report is from an automated smoke testing program
and was not reviewed by a human for accuracy

------------------------------
PROGRAM OUTPUT
------------------------------

Output from '/usr/bin/make test':

PERL_DL_NONLAZY=1 /home/njh/perl5/perlbrew/perls/perl-5.12.3/bin/perl "-MExtUtils::Command::MM" "-e" "test_harness(0, 'blib/lib', 'blib/arch')" t/*.t
t/00-compile.t ................ ok
t/00-load.t ................... ok
# 
# 
# perl: v5.12.3 (wanted any version) on linux from /home/njh/perl5/perlbrew/perls/perl-5.12.3/bin/perl
# 
# Carp                                          => 1.25       (want any version)
# ExtUtils::MakeMaker                           => 6.62       (want 6.30)   
# File::Find                                    => 1.15       (want any version)
# File::Temp                                    => 0.22       (want any version)
# Net::LDAP                                     => 0.44       (want 0.4001) 
# Net::Squid::Auth::Engine                      => 0.04       (want any version)
# Scalar::Util                                  => 1.25       (want any version)
# Test::More                                    => 0.98       (want 0.88)   
# Test::UseAllModules                           => 0.13       (want any version)
# strict                                        => 1.04       (want any version)
# warnings                                      => 1.09       (want any version)
# 
# Thanks for using my code.  I hope it works for you.
# If not, please try and include this output in the bug report.
# That will help me reproduce the issue and solve you problem.
# 
t/000-report-versions-tiny.t .. ok
t/01-basic.t .................. ok
t/02-param.t .................. ok
t/author-critic.t ............. skipped: these tests are for testing by the author
t/author-test-eol.t ........... skipped: these tests are for testing by the author
t/release-dist-manifest.t ..... skipped: these tests are for release candidate testing
t/release-distmeta.t .......... skipped: these tests are for release candidate testing
t/release-kwalitee.t .......... skipped: these tests are for release candidate testing
t/release-meta-json.t ......... skipped: these tests are for release candidate testing
t/release-minimum-version.t ... skipped: these tests are for release candidate testing
t/release-mojibake.t .......... skipped: these tests are for release candidate testing
t/release-no-tabs.t ........... skipped: these tests are for release candidate testing
t/release-pod-coverage.t ...... skipped: these tests are for release candidate testing
t/release-pod-linkcheck.t ..... skipped: these tests are for release candidate testing
t/release-pod-syntax.t ........ skipped: these tests are for release candidate testing
t/release-portability.t ....... skipped: these tests are for release candidate testing
t/release-test-version.t ...... skipped: these tests are for release candidate testing
t/release-unused-vars.t ....... skipped: these tests are for release candidate testing
All tests successful.
Files=20, Tests=13,  1 wallclock secs ( 0.03 usr  0.02 sys +  0.41 cusr  0.06 csys =  0.52 CPU)
Result: PASS

------------------------------
PREREQUISITES
------------------------------

Prerequisite modules loaded:

requires:

    Module                   Need   Have
    ------------------------ ------ ----
    Carp                     0      1.25
    Net::LDAP                0.4001 0.44
    Net::Squid::Auth::Engine 0      0.04
    Scalar::Util             0      1.25
    strict                   0      1.04
    warnings                 0      1.09

build_requires:

    Module                   Need   Have
    ------------------------ ------ ----
    File::Find               0      1.15
    File::Temp               0      0.22
    Test::More               0.88   0.98
    Test::UseAllModules      0      0.13

configure_requires:

    Module                   Need   Have
    ------------------------ ------ ----
    ExtUtils::MakeMaker      6.30   6.62


------------------------------
ENVIRONMENT AND OTHER CONTEXT
------------------------------

Environment variables:

    AUTOMATED_TESTING = 1
    LANG = en_GB.UTF-8
    LANGUAGE = en_GB:en
    PATH = /home/njh/perl5/perlbrew/bin:/home/njh/perl5/perlbrew/perls/perl-5.12.3/bin:/usr/bin:/bin
    PERL5LIB = /home/njh/.cpan/build/perl-ldap-0.44-oAe2U8/blib/arch:/home/njh/.cpan/build/perl-ldap-0.44-oAe2U8/blib/lib:/home/njh/.cpan/build/Convert-ASN1-0.26-Nz9t5H/blib/arch:/home/njh/.cpan/build/Convert-ASN1-0.26-Nz9t5H/blib/lib:/home/njh/.cpan/build/Net-Squid-Auth-Engine-0.04-EyqzxM/blib/arch:/home/njh/.cpan/build/Net-Squid-Auth-Engine-0.04-EyqzxM/blib/lib:/home/njh/.cpan/build/Config-General-2.50-wSiL60/blib/arch:/home/njh/.cpan/build/Config-General-2.50-wSiL60/blib/lib:/home/njh/.cpan/build/Test-UseAllModules-0.13-3bBDrh/blib/arch:/home/njh/.cpan/build/Test-UseAllModules-0.13-3bBDrh/blib/lib
    PERL5OPT = 
    PERL5_CPANPLUS_IS_RUNNING = 24417
    PERL5_CPAN_IS_RUNNING = 24417
    PERL5_MINISMOKEBOX = 0.54
    PERLBREW_MANPATH = /home/njh/perl5/perlbrew/perls/perl-5.12.3/man
    PERLBREW_PATH = /home/njh/perl5/perlbrew/bin:/home/njh/perl5/perlbrew/perls/perl-5.12.3/bin
    PERLBREW_PERL = perl-5.12.3
    PERLBREW_ROOT = /home/njh/perl5/perlbrew
    PERLBREW_VERSION = 0.43
    PERL_EXTUTILS_AUTOINSTALL = --defaultdeps
    PERL_MM_USE_DEFAULT = 1
    SHELL = /bin/sh

Perl special variables (and OS-specific diagnostics, for MSWin32):

    $^X = /home/njh/perl5/perlbrew/perls/perl-5.12.3/bin/perl
    $UID/$EUID = 1000 / 1000
    $GID = 1000 24 25 29 30 44 46 108 112 1000
    $EGID = 1000 24 25 29 30 44 46 108 112 1000

Perl module toolchain versions installed:

    Module              Have    
    ------------------- --------
    CPAN                1.9800  
    CPAN::Meta          2.120921
    Cwd                 3.33    
    ExtUtils::CBuilder  0.280205
    ExtUtils::Command   1.17    
    ExtUtils::Install   1.55    
    ExtUtils::MakeMaker 6.62    
    ExtUtils::Manifest  1.60    
    ExtUtils::ParseXS   3.15    
    File::Spec          3.33    
    JSON                2.53    
    JSON::PP            2.27200 
    Module::Build       0.40    
    Module::Signature   0.68    
    Parse::CPAN::Meta   1.4404  
    Test::Harness       3.23    
    Test::More          0.98    
    YAML                0.81    
    YAML::Syck          1.20    
    version             0.99    


--

Summary of my perl5 (revision 5 version 12 subversion 3) configuration:
   
  Platform:
    osname=linux, osvers=3.1.0-1-amd64, archname=x86_64-linux
    uname='linux gateway 3.1.0-1-amd64 #1 smp tue jan 10 05:01:58 utc 2012 x86_64 gnulinux '
    config_args='-de -Dprefix=/home/njh/perl5/perlbrew/perls/perl-5.12.3 -D_FORTIFY_SOURCE=2 -Accflags=-O2'
    hint=recommended, useposix=true, d_sigaction=define
    useithreads=undef, usemultiplicity=undef
    useperlio=define, d_sfio=undef, uselargefiles=define, usesocks=undef
    use64bitint=define, use64bitall=define, uselongdouble=undef
    usemymalloc=n, bincompat5005=undef
  Compiler:
    cc='cc', ccflags ='-O2 -fno-strict-aliasing -pipe -fstack-protector -I/usr/local/include -D_LARGEFILE_SOURCE -D_FILE_OFFSET_BITS=64',
    optimize='-O2',
    cppflags='-O2 -fno-strict-aliasing -pipe -fstack-protector -I/usr/local/include'
    ccversion='', gccversion='4.6.2', gccosandvers=''
    intsize=4, longsize=8, ptrsize=8, doublesize=8, byteorder=12345678
    d_longlong=define, longlongsize=8, d_longdbl=define, longdblsize=16
    ivtype='long', ivsize=8, nvtype='double', nvsize=8, Off_t='off_t', lseeksize=8
    alignbytes=8, prototype=define
  Linker and Libraries:
    ld='cc', ldflags =' -fstack-protector -L/usr/local/lib'
    libpth=/usr/local/lib /lib/x86_64-linux-gnu /lib/../lib /usr/lib/x86_64-linux-gnu /usr/lib/../lib /lib /usr/lib
    libs=-lnsl -ldb -ldl -lm -lcrypt -lutil -lc
    perllibs=-lnsl -ldl -lm -lcrypt -lutil -lc
    libc=, so=so, useshrplib=false, libperl=libperl.a
    gnulibc_version='2.13'
  Dynamic Linking:
    dlsrc=dl_dlopen.xs, dlext=so, d_dlsymun=undef, ccdlflags='-Wl,-E'
    cccdlflags='-fPIC', lddlflags='-shared -O2 -L/usr/local/lib -fstack-protector'


Characteristics of this binary (from libperl): 
  Compile-time options: PERL_DONT_CREATE_GVSV PERL_MALLOC_WRAP USE_64_BIT_ALL
                        USE_64_BIT_INT USE_LARGE_FILES USE_PERLIO
                        USE_PERL_ATOF
  Built under linux
  Compiled at Jan 16 2012 11:06:20
  %ENV:
    PERL5LIB="/home/njh/.cpan/build/perl-ldap-0.44-oAe2U8/blib/arch:/home/njh/.cpan/build/perl-ldap-0.44-oAe2U8/blib/lib:/home/njh/.cpan/build/Convert-ASN1-0.26-Nz9t5H/blib/arch:/home/njh/.cpan/build/Convert-ASN1-0.26-Nz9t5H/blib/lib:/home/njh/.cpan/build/Net-Squid-Auth-Engine-0.04-EyqzxM/blib/arch:/home/njh/.cpan/build/Net-Squid-Auth-Engine-0.04-EyqzxM/blib/lib:/home/njh/.cpan/build/Config-General-2.50-wSiL60/blib/arch:/home/njh/.cpan/build/Config-General-2.50-wSiL60/blib/lib:/home/njh/.cpan/build/Test-UseAllModules-0.13-3bBDrh/blib/arch:/home/njh/.cpan/build/Test-UseAllModules-0.13-3bBDrh/blib/lib"
    PERL5OPT=""
    PERL5_CPANPLUS_IS_RUNNING="24417"
    PERL5_CPAN_IS_RUNNING="24417"
    PERL5_MINISMOKEBOX="0.54"
    PERLBREW_MANPATH="/home/njh/perl5/perlbrew/perls/perl-5.12.3/man"
    PERLBREW_PATH="/home/njh/perl5/perlbrew/bin:/home/njh/perl5/perlbrew/perls/perl-5.12.3/bin"
    PERLBREW_PERL="perl-5.12.3"
    PERLBREW_ROOT="/home/njh/perl5/perlbrew"
    PERLBREW_VERSION="0.43"
    PERL_EXTUTILS_AUTOINSTALL="--defaultdeps"
    PERL_MM_USE_DEFAULT="1"
  @INC:
    /home/njh/.cpan/build/perl-ldap-0.44-oAe2U8/blib/arch
    /home/njh/.cpan/build/perl-ldap-0.44-oAe2U8/blib/lib
    /home/njh/.cpan/build/Convert-ASN1-0.26-Nz9t5H/blib/arch
    /home/njh/.cpan/build/Convert-ASN1-0.26-Nz9t5H/blib/lib
    /home/njh/.cpan/build/Net-Squid-Auth-Engine-0.04-EyqzxM/blib/arch
    /home/njh/.cpan/build/Net-Squid-Auth-Engine-0.04-EyqzxM/blib/lib
    /home/njh/.cpan/build/Config-General-2.50-wSiL60/blib/arch
    /home/njh/.cpan/build/Config-General-2.50-wSiL60/blib/lib
    /home/njh/.cpan/build/Test-UseAllModules-0.13-3bBDrh/blib/arch
    /home/njh/.cpan/build/Test-UseAllModules-0.13-3bBDrh/blib/lib
    /home/njh/perl5/perlbrew/perls/perl-5.12.3/lib/site_perl/5.12.3/x86_64-linux
    /home/njh/perl5/perlbrew/perls/perl-5.12.3/lib/site_perl/5.12.3
    /home/njh/perl5/perlbrew/perls/perl-5.12.3/lib/5.12.3/x86_64-linux
    /home/njh/perl5/perlbrew/perls/perl-5.12.3/lib/5.12.3
    .