Math-Complex_C-L v0.08 Perl 5 v5.22.3 x86_64-linux

Status
Pass
From
Andreas J. König (ANDK)
Dist
Math-Complex_C-L v0.08
Platform
Perl 5 v5.22.3 x86_64-linux
Date
2022-02-21 09:34:31
ID
792e55a6-92f9-11ec-ab8a-df8c88136e9a
This distribution has been tested as part of the CPAN Testers
project, supporting the Perl programming language.  See
http://wiki.cpantesters.org/ for more information or email
questions to cpan-testers-discuss@perl.org


--
Dear Sisyphus,

This is a computer-generated report for Math-Complex_C-L-0.08
on perl 5.22.3, created by CPAN-Reporter-1.2018.

Thank you for uploading your work to CPAN.  Congratulations!
All tests were successful.

Sections of this report:

    * Tester comments
    * Program output
    * Prerequisites
    * Environment and other context

------------------------------
TESTER COMMENTS
------------------------------

Additional comments from tester:

this report is from an automated smoke testing program
and was not reviewed by a human for accuracy

------------------------------
PROGRAM OUTPUT
------------------------------

Output from '/usr/bin/make test':

"/home/sand/src/perl/repoperls/installed-perls/host/k93msid/v5.22.3/da1c/bin/perl" -MExtUtils::Command::MM -e 'cp_nonempty' -- L.bs blib/arch/auto/Math/Complex_C/L/L.bs 644
PERL_DL_NONLAZY=1 "/home/sand/src/perl/repoperls/installed-perls/host/k93msid/v5.22.3/da1c/bin/perl" "-MExtUtils::Command::MM" "-MTest::Harness" "-e" "undef *Test::Harness::Switches; test_harness(0, 'blib/lib', 'blib/arch')" t/*.t


  No tests with this file. Instead, mainly for the benefit
  of the author, we (hopefully) see some diagnostics from some
  test executables that were run during the Makefile.PL stage.


CC = cc
OPTIMIZE = -O2 -g
powl & catanhl & ccosl check: 
3.661132e-01 5.010442e-02
1.589972e-01 6.629088e-01
1.254435e+00 -2.034444e-01
try.exe apparently ran fine
gcc version check (build): 
gcc version check (run): gcc version (11.2.0) is ok


t/00config_xtra.t .... ok

Default decimal precision is 21
t/01load.t ........... ok

Skipping tests 12-15 - Math::LongDouble not loaded
$@: Can't locate Math/LongDouble.pm in @INC (you may need to install the Math::LongDouble module) (@INC contains: /tmp/loop_over_bdir-3938602-8Lj7wq/Math-Complex_C-L-0.08-0/blib/lib /tmp/loop_over_bdir-3938602-8Lj7wq/Math-Complex_C-L-0.08-0/blib/arch /home/sand/src/perl/repoperls/installed-perls/host/k93msid/v5.22.3/da1c/lib/site_perl/5.22.3/x86_64-linux /home/sand/src/perl/repoperls/installed-perls/host/k93msid/v5.22.3/da1c/lib/site_perl/5.22.3 /home/sand/src/perl/repoperls/installed-perls/host/k93msid/v5.22.3/da1c/lib/5.22.3/x86_64-linux /home/sand/src/perl/repoperls/installed-perls/host/k93msid/v5.22.3/da1c/lib/5.22.3 .) at t/abs_arg.t line 98.

t/abs_arg.t .......... ok
t/arith.t ............ ok
t/bool.t ............. ok
t/conj_proj.t ........ ok
t/log_exp.t .......... ok
t/nan.t .............. ok

 Skipping test 5 - Math::LongDouble not loaded
t/new.t .............. ok
Skipping all tests as Math::LongDouble is not available:
Can't locate Math/LongDouble.pm in @INC (you may need to install the Math::LongDouble module) (@INC contains: /tmp/loop_over_bdir-3938602-8Lj7wq/Math-Complex_C-L-0.08-0/blib/lib /tmp/loop_over_bdir-3938602-8Lj7wq/Math-Complex_C-L-0.08-0/blib/arch /home/sand/src/perl/repoperls/installed-perls/host/k93msid/v5.22.3/da1c/lib/site_perl/5.22.3/x86_64-linux /home/sand/src/perl/repoperls/installed-perls/host/k93msid/v5.22.3/da1c/lib/site_perl/5.22.3 /home/sand/src/perl/repoperls/installed-perls/host/k93msid/v5.22.3/da1c/lib/5.22.3/x86_64-linux /home/sand/src/perl/repoperls/installed-perls/host/k93msid/v5.22.3/da1c/lib/5.22.3 .) at t/new_LD.t line 5.

t/new_LD.t ........... ok
t/nnum.t ............. ok
t/overload_string.t .. ok
t/overload_switch.t .. ok
t/overload_xtra.t .... ok
t/pow.t .............. ok
t/prec.t ............. ok
t/trig.t ............. ok
All tests successful.
Files=17, Tests=198,  0 wallclock secs ( 0.03 usr  0.06 sys +  0.15 cusr  0.08 csys =  0.32 CPU)
Result: PASS

------------------------------
PREREQUISITES
------------------------------

Prerequisite modules loaded:

build_requires:

    Module              Need Have
    ------------------- ---- ----
    ExtUtils::MakeMaker 0    7.42

configure_requires:

    Module              Need Have
    ------------------- ---- ----
    ExtUtils::MakeMaker 0    7.42


------------------------------
ENVIRONMENT AND OTHER CONTEXT
------------------------------

Environment variables:

    AUTOMATED_TESTING = 1
    LANG = en_US.UTF-8
    PATH = /home/sand/bin:/usr/local/bin:/usr/bin:/bin:/usr/games:/usr/local/perl/bin:/usr/X11/bin:/sbin:/usr/sbin
    PERL5LIB = 
    PERL5OPT = 
    PERL5_CPANPLUS_IS_RUNNING = 1562992
    PERL5_CPAN_IS_RUNNING = 1562992
    PERL_CANARY_STABILITY_NOPROMPT = 1
    PERL_MM_USE_DEFAULT = 1
    PERL_USE_UNSAFE_INC = 1
    SHELL = /usr/bin/zsh
    TERM = screen

Perl special variables (and OS-specific diagnostics, for MSWin32):

    $^X = /home/sand/src/perl/repoperls/installed-perls/host/k93msid/v5.22.3/da1c/bin/perl
    $UID/$EUID = 1005 / 1005
    $GID = 1005 1005
    $EGID = 1005 1005

Perl module toolchain versions installed:

    Module              Have    
    ------------------- --------
    CPAN                2.27    
    CPAN::Meta          2.150010
    Cwd                 3.75    
    ExtUtils::CBuilder  0.280231
    ExtUtils::Command   7.42    
    ExtUtils::Install   2.06    
    ExtUtils::MakeMaker 7.42    
    ExtUtils::Manifest  1.70    
    ExtUtils::ParseXS   3.35    
    File::Spec          3.75    
    JSON                4.05    
    JSON::PP            4.04    
    Module::Build       0.4229  
    Module::Signature   0.83    
    Parse::CPAN::Meta   2.150010
    Test::Harness       3.42    
    Test::More          1.302186
    YAML                1.29    
    YAML::Syck          1.31    
    version             0.9925  


--

Summary of my perl5 (revision 5 version 22 subversion 3) configuration:
  Derived from: 16b638b0a20de774856b3a21a75a5e373af5262c
  Platform:
    osname=linux, osvers=5.3.0-2-amd64, archname=x86_64-linux
    uname='linux k93msid 5.3.0-2-amd64 #1 smp debian 5.3.9-3 (2019-11-19) x86_64 gnulinux '
    config_args='-Dprefix=/home/sand/src/perl/repoperls/installed-perls/host/k93msid/v5.22.3/da1c -Dmyhostname=k93msid -Dinstallusrbinperl=n -Uversiononly -Dusedevel -des -Ui_db -Dlibswanted=cl pthread socket inet nsl gdbm dbm malloc dl ld sun m crypt sec util c cposix posix ucb BSD gdbm_compat -Uuseithreads -Uuselongdouble -DEBUGGING=-g'
    hint=recommended, useposix=true, d_sigaction=define
    useithreads=undef, usemultiplicity=undef
    use64bitint=define, use64bitall=define, uselongdouble=undef
    usemymalloc=n, bincompat5005=undef
  Compiler:
    cc='cc', ccflags ='-fwrapv -fno-strict-aliasing -pipe -fstack-protector-strong -I/usr/local/include -D_LARGEFILE_SOURCE -D_FILE_OFFSET_BITS=64',
    optimize='-O2 -g',
    cppflags='-fwrapv -fno-strict-aliasing -pipe -fstack-protector-strong -I/usr/local/include'
    ccversion='', gccversion='9.2.1 20191109', gccosandvers=''
    intsize=4, longsize=8, ptrsize=8, doublesize=8, byteorder=12345678, doublekind=3
    d_longlong=define, longlongsize=8, d_longdbl=define, longdblsize=16, longdblkind=3
    ivtype='long', ivsize=8, nvtype='double', nvsize=8, Off_t='off_t', lseeksize=8
    alignbytes=8, prototype=define
  Linker and Libraries:
    ld='cc', ldflags =' -fstack-protector-strong -L/usr/local/lib'
    libpth=/usr/local/lib /usr/lib/gcc/x86_64-linux-gnu/9/include-fixed /usr/include/x86_64-linux-gnu /usr/lib /lib/x86_64-linux-gnu /lib/../lib /usr/lib/x86_64-linux-gnu /usr/lib/../lib /lib
    libs=-lpthread -lnsl -ldl -lm -lcrypt -lutil -lc
    perllibs=-lpthread -lnsl -ldl -lm -lcrypt -lutil -lc
    libc=libc-2.29.so, so=so, useshrplib=false, libperl=libperl.a
    gnulibc_version='2.29'
  Dynamic Linking:
    dlsrc=dl_dlopen.xs, dlext=so, d_dlsymun=undef, ccdlflags='-Wl,-E'
    cccdlflags='-fPIC', lddlflags='-shared -O2 -g -L/usr/local/lib -fstack-protector-strong'


Characteristics of this binary (from libperl): 
  Compile-time options: HAS_TIMES PERLIO_LAYERS PERL_DONT_CREATE_GVSV
                        PERL_HASH_FUNC_ONE_AT_A_TIME_HARD PERL_MALLOC_WRAP
                        PERL_NEW_COPY_ON_WRITE PERL_PRESERVE_IVUV
                        PERL_USE_DEVEL USE_64_BIT_ALL USE_64_BIT_INT
                        USE_LARGE_FILES USE_LOCALE USE_LOCALE_COLLATE
                        USE_LOCALE_CTYPE USE_LOCALE_NUMERIC USE_LOCALE_TIME
                        USE_PERLIO USE_PERL_ATOF
  Locally applied patches:
	uncommitted-changes
  Built under linux
  Compiled at Nov 26 2019 04:46:13
  %ENV:
    PERL5LIB=""
    PERL5OPT=""
    PERL5_CPANPLUS_IS_RUNNING="1562992"
    PERL5_CPAN_IS_RUNNING="1562992"
    PERL_CANARY_STABILITY_NOPROMPT="1"
    PERL_MM_USE_DEFAULT="1"
    PERL_USE_UNSAFE_INC="1"
  @INC:
    /home/sand/src/perl/repoperls/installed-perls/host/k93msid/v5.22.3/da1c/lib/site_perl/5.22.3/x86_64-linux
    /home/sand/src/perl/repoperls/installed-perls/host/k93msid/v5.22.3/da1c/lib/site_perl/5.22.3
    /home/sand/src/perl/repoperls/installed-perls/host/k93msid/v5.22.3/da1c/lib/5.22.3/x86_64-linux
    /home/sand/src/perl/repoperls/installed-perls/host/k93msid/v5.22.3/da1c/lib/5.22.3
    .