Dist-Zilla-Plugin-CopyFilesFromBuild v0.170880 Perl 5 v5.33.8 x86_64-linux

Status
Pass
From
Nigel Horne
Dist
Dist-Zilla-Plugin-CopyFilesFromBuild v0.170880
Platform
Perl 5 v5.33.8 x86_64-linux
Date
2021-04-27 02:08:35
ID
7979317c-a6fd-11eb-b68c-a7b18d963b33
This distribution has been tested as part of the CPAN Testers
project, supporting the Perl programming language.  See
http://wiki.cpantesters.org/ for more information or email
questions to cpan-testers-discuss@perl.org


--
Dear Ryan C. Thompson,

This is a computer-generated report for Dist-Zilla-Plugin-CopyFilesFromBuild-0.170880
on perl 5.33.8, created by CPAN-Reporter-1.2018.

Thank you for uploading your work to CPAN.  Congratulations!
All tests were successful.

Sections of this report:

    * Tester comments
    * Program output
    * Prerequisites
    * Environment and other context

------------------------------
TESTER COMMENTS
------------------------------

Additional comments from tester:

none provided

------------------------------
PROGRAM OUTPUT
------------------------------

Output from '/usr/bin/make test':

PERL_DL_NONLAZY=1 "/home/njh/perl5/perlbrew/perls/perl-5.33.8/bin/perl5.33.8" "-MExtUtils::Command::MM" "-MTest::Harness" "-e" "undef *Test::Harness::Switches; test_harness(0, 'blib/lib', 'blib/arch')" t/*.t
t/00-compile.t ........... ok
# Testing with Perl 5.033008, /home/njh/perl5/perlbrew/perls/perl-5.33.8/bin/perl5.33.8
#     Carp version is 1.52
#     Dist::Zilla::Plugin::ReadmeAnyFromPod version is 0.163250
#     Dist::Zilla::Role::AfterBuild version is 6.017
#     ExtUtils::MakeMaker version is 7.62
#     File::Copy version is 2.35
#     File::Spec version is 3.80
#     IO::File version is 1.46
#     IO::Handle version is 1.46
#     IPC::Open3 version is 1.21
#     List::Util version is 1.56
#     Moose version is 2.2015
#     MooseX::Has::Sugar version is 1.000006
#     Path::Tiny version is 0.118
#     Scalar::Util version is 1.56
#     Set::Scalar version is 1.29
#     Test::DZil version is 6.017
#     Test::Exception version is 0.43
#     Test::More version is 1.302183
#     Test::Most version is 0.37
#     autodie version is 2.34
#     blib version is 1.07
#     strict version is 1.12
#     utf8 version is 1.24
#     warnings version is 1.51
t/000-report-versions.t .. ok
t/author-critic.t ........ skipped: these tests are for testing by the author
t/author-pod-coverage.t .. skipped: these tests are for testing by the author
t/author-pod-syntax.t .... skipped: these tests are for testing by the author
t/basic.t ................ ok
t/release-has-version.t .. skipped: these tests are for release candidate testing
t/release-kwalitee.t ..... skipped: these tests are for release candidate testing
t/release-portability.t .. skipped: these tests are for release candidate testing
t/release-unused-vars.t .. skipped: these tests are for release candidate testing
All tests successful.
Files=10, Tests=34,  4 wallclock secs ( 0.04 usr  0.01 sys +  3.42 cusr  0.14 csys =  3.61 CPU)
Result: PASS

------------------------------
PREREQUISITES
------------------------------

Prerequisite modules loaded:

requires:

    Module                                Need  Have    
    ------------------------------------- ----- --------
    Dist::Zilla::Role::AfterBuild         0     6.017   
    File::Copy                            0     2.35    
    IO::File                              0     1.46    
    List::Util                            1.33  1.56    
    Moose                                 0     2.2015  
    MooseX::Has::Sugar                    0     1.000006
    Path::Tiny                            0     0.118   
    perl                                  5.008 5.033008
    Set::Scalar                           0     1.29    
    strict                                0     1.12    
    utf8                                  0     1.24    
    warnings                              0     1.51    

build_requires:

    Module                                Need  Have    
    ------------------------------------- ----- --------
    autodie                               0     2.34    
    blib                                  1.01  1.07    
    Carp                                  0     1.52    
    Dist::Zilla::Plugin::ReadmeAnyFromPod 0     0.163250
    ExtUtils::MakeMaker                   0     7.62    
    File::Spec                            0     3.80    
    IO::Handle                            0     1.46    
    IPC::Open3                            0     1.21    
    Scalar::Util                          0     1.56    
    Test::DZil                            0     6.017   
    Test::Exception                       0     0.43    
    Test::More                            0.94  1.302183
    Test::Most                            0     0.37    

configure_requires:

    Module                                Need  Have    
    ------------------------------------- ----- --------
    ExtUtils::MakeMaker                   0     7.62    
    perl                                  5.008 5.033008


------------------------------
ENVIRONMENT AND OTHER CONTEXT
------------------------------

Environment variables:

    LANG = C.UTF-8
    NONINTERACTIVE_TESTING = 1
    PATH = /home/njh/perl5/perlbrew/bin:/home/njh/perl5/perlbrew/perls/perl-5.33.8/bin:/usr/local/sbin:/usr/local/bin:/usr/sbin:/usr/bin:/sbin:/bin:/usr/games:/usr/local/games:/snap/bin
    PERL5LIB = 
    PERL5OPT = 
    PERL5_CPANPLUS_IS_RUNNING = 7443
    PERL5_CPAN_IS_RUNNING = 7443
    PERLBREW_LIB = 
    PERLBREW_MANPATH = /home/njh/perl5/perlbrew/perls/perl-5.33.8/man
    PERLBREW_PATH = /home/njh/perl5/perlbrew/bin:/home/njh/perl5/perlbrew/perls/perl-5.33.8/bin
    PERLBREW_PERL = perl-5.33.8
    PERLBREW_ROOT = /home/njh/perl5/perlbrew
    PERLBREW_VERSION = 0.91
    PERL_LOCAL_LIB_ROOT = 
    PERL_MM_USE_DEFAULT = 1
    PERL_USE_UNSAFE_INC = 1
    SHELL = /bin/bash
    TEMP = /tmp/user/1002
    TMPDIR = /tmp/user/1002

Perl special variables (and OS-specific diagnostics, for MSWin32):

    $^X = /home/njh/perl5/perlbrew/perls/perl-5.33.8/bin/perl5.33.8
    $UID/$EUID = 1002 / 1002
    $GID = 1002 120 1002
    $EGID = 1002 120 1002

Perl module toolchain versions installed:

    Module              Have    
    ------------------- --------
    CPAN                2.28    
    CPAN::Meta          2.150010
    Cwd                 3.80    
    ExtUtils::CBuilder  0.280236
    ExtUtils::Command   7.62    
    ExtUtils::Install   2.20    
    ExtUtils::MakeMaker 7.62    
    ExtUtils::Manifest  1.73    
    ExtUtils::ParseXS   3.42    
    File::Spec          3.80    
    JSON                4.03    
    JSON::PP            4.06    
    Module::Build       0.4231  
    Module::Signature   0.87    
    Parse::CPAN::Meta   2.150010
    Test::Harness       3.43    
    Test::More          1.302183
    YAML                1.30    
    YAML::Syck          n/a     
    version             0.9929  


--

Summary of my perl5 (revision 5 version 33 subversion 8) configuration:
   
  Platform:
    osname=linux
    osvers=5.4.0-1039-oracle
    archname=x86_64-linux
    uname='linux oracle1 5.4.0-1039-oracle #42~18.04.1-ubuntu smp mon mar 1 16:33:55 utc 2021 x86_64 x86_64 x86_64 gnulinux '
    config_args='-de -Dprefix=/home/njh/perl5/perlbrew/perls/perl-5.33.8 -Dusedevel -Aeval:scriptdir=/home/njh/perl5/perlbrew/perls/perl-5.33.8/bin'
    hint=recommended
    useposix=true
    d_sigaction=define
    useithreads=undef
    usemultiplicity=undef
    use64bitint=define
    use64bitall=define
    uselongdouble=undef
    usemymalloc=n
    default_inc_excludes_dot=define
  Compiler:
    cc='cc'
    ccflags ='-fwrapv -fno-strict-aliasing -pipe -fstack-protector-strong -I/usr/local/include -D_LARGEFILE_SOURCE -D_FILE_OFFSET_BITS=64'
    optimize='-O2'
    cppflags='-fwrapv -fno-strict-aliasing -pipe -fstack-protector-strong -I/usr/local/include'
    ccversion=''
    gccversion='7.5.0'
    gccosandvers=''
    intsize=4
    longsize=8
    ptrsize=8
    doublesize=8
    byteorder=12345678
    doublekind=3
    d_longlong=define
    longlongsize=8
    d_longdbl=define
    longdblsize=16
    longdblkind=3
    ivtype='long'
    ivsize=8
    nvtype='double'
    nvsize=8
    Off_t='off_t'
    lseeksize=8
    alignbytes=8
    prototype=define
  Linker and Libraries:
    ld='cc'
    ldflags =' -fstack-protector-strong -L/usr/local/lib'
    libpth=/usr/local/lib /usr/lib/gcc/x86_64-linux-gnu/7/include-fixed /usr/include/x86_64-linux-gnu /usr/lib /lib/x86_64-linux-gnu /lib/../lib /usr/lib/x86_64-linux-gnu /usr/lib/../lib /lib
    libs=-lpthread -lnsl -lgdbm -ldb -ldl -lm -lcrypt -lutil -lc
    perllibs=-lpthread -lnsl -ldl -lm -lcrypt -lutil -lc
    libc=libc-2.27.so
    so=so
    useshrplib=false
    libperl=libperl.a
    gnulibc_version='2.27'
  Dynamic Linking:
    dlsrc=dl_dlopen.xs
    dlext=so
    d_dlsymun=undef
    ccdlflags='-Wl,-E'
    cccdlflags='-fPIC'
    lddlflags='-shared -O2 -L/usr/local/lib -fstack-protector-strong'


Characteristics of this binary (from libperl): 
  Compile-time options:
    HAS_TIMES
    PERLIO_LAYERS
    PERL_COPY_ON_WRITE
    PERL_DONT_CREATE_GVSV
    PERL_MALLOC_WRAP
    PERL_OP_PARENT
    PERL_PRESERVE_IVUV
    PERL_USE_DEVEL
    USE_64_BIT_ALL
    USE_64_BIT_INT
    USE_LARGE_FILES
    USE_LOCALE
    USE_LOCALE_COLLATE
    USE_LOCALE_CTYPE
    USE_LOCALE_NUMERIC
    USE_LOCALE_TIME
    USE_PERLIO
    USE_PERL_ATOF
  Built under linux
  Compiled at Mar 22 2021 00:37:44
  %ENV:
    PERL5LIB=""
    PERL5OPT=""
    PERL5_CPANPLUS_IS_RUNNING="7443"
    PERL5_CPAN_IS_RUNNING="7443"
    PERLBREW_LIB=""
    PERLBREW_MANPATH="/home/njh/perl5/perlbrew/perls/perl-5.33.8/man"
    PERLBREW_PATH="/home/njh/perl5/perlbrew/bin:/home/njh/perl5/perlbrew/perls/perl-5.33.8/bin"
    PERLBREW_PERL="perl-5.33.8"
    PERLBREW_ROOT="/home/njh/perl5/perlbrew"
    PERLBREW_VERSION="0.91"
    PERL_LOCAL_LIB_ROOT=""
    PERL_MM_USE_DEFAULT="1"
    PERL_USE_UNSAFE_INC="1"
  @INC:
    /home/njh/perl5/perlbrew/perls/perl-5.33.8/lib/site_perl/5.33.8/x86_64-linux
    /home/njh/perl5/perlbrew/perls/perl-5.33.8/lib/site_perl/5.33.8
    /home/njh/perl5/perlbrew/perls/perl-5.33.8/lib/5.33.8/x86_64-linux
    /home/njh/perl5/perlbrew/perls/perl-5.33.8/lib/5.33.8
    .