Back
From: metabase:user:30977d10-2aae-11df-837a-5e0a49663a4f
Subject: PASS Flickr-API-1.15 v5.20.2 GNU/Linux
Date: 2015-07-19T04:49:01Z
This distribution has been tested as part of the CPAN Testers
project, supporting the Perl programming language. See
http://wiki.cpantesters.org/ for more information or email
questions to cpan-testers-discuss@perl.org
--
Dear Louis Moore,
This is a computer-generated report for Flickr-API-1.15
on perl 5.20.2, created by CPAN-Reporter-1.2014.
Thank you for uploading your work to CPAN. Congratulations!
All tests were successful.
Sections of this report:
* Tester comments
* Program output
* Prerequisites
* Environment and other context
------------------------------
TESTER COMMENTS
------------------------------
Additional comments from tester:
this report is from an automated smoke testing program
and was not reviewed by a human for accuracy
------------------------------
PROGRAM OUTPUT
------------------------------
Output from '/usr/bin/make test':
PERL_DL_NONLAZY=1 "/home/stro/perl/5.20.2m/bin/perl" "-MExtUtils::Command::MM" "-MTest::Harness" "-e" "undef *Test::Harness::Switches; test_harness(0, 'blib/lib', 'blib/arch')" t/*.t
t/01-test.t .......................... ok
t/02-flickr_api.t .................... ok
t/02-oauth_api.t ..................... ok
t/03-flickr_api.t .................... skipped: These tests require that MAKETEST_FLICKR_CFG points to a valid config, see README.
t/03-oauth_consumer.t ................ skipped: These tests require that MAKETEST_OAUTH_CFG points to a valid config, see README.
t/04-flickr_authuri.t ................ skipped: These tests require that MAKETEST_FLICKR_CFG points to a valid config, see README.
t/04-oauth_requesttoken.t ............ skipped: These tests require that MAKETEST_OAUTH_CFG points to a valid config, see README.
t/05-flickr_authentication.t ......... skipped: These tests require that MAKETEST_FLICKR_CFG points to a valid config, see README.
t/05-oauth_authentication.t .......... skipped: These tests require that MAKETEST_OAUTH_CFG points to a valid config, see README.
t/06-flickr-authenticated-methods.t .. skipped: These tests require that MAKETEST_FLICKR_CFG points to a valid config, see README.
t/06-oauth-authenticated-methods.t ... skipped: These tests require that MAKETEST_OAUTH_CFG points to a valid config, see README.
All tests successful.
Files=11, Tests=59, 6 wallclock secs ( 0.04 usr 0.00 sys + 0.91 cusr 0.02 csys = 0.97 CPU)
Result: PASS
------------------------------
PREREQUISITES
------------------------------
Prerequisite modules loaded:
requires:
Module Need Have
----------------------- ----- --------
Digest::MD5 0 2.53
Getopt::Long 0 2.47
HTTP::Message 1.56 6.08
HTTP::Request 0 6.08
HTTP::Response 0 6.08
LWP::UserAgent 0 6.13
Net::OAuth 0 0.28
perl 5.008 5.020002
Test::More 0 1.001014
Test::Script 0 1.10
URI 1.18 1.68
XML::LibXML::Simple 0 0.95
XML::Parser::Lite::Tree 0.06 0.14
build_requires:
Module Need Have
----------------------- ----- --------
ExtUtils::MakeMaker 0 7.04
Test::Script 0 1.10
configure_requires:
Module Need Have
----------------------- ----- --------
ExtUtils::MakeMaker 0 7.04
------------------------------
ENVIRONMENT AND OTHER CONTEXT
------------------------------
Environment variables:
AUTOMATED_TESTING = 1
LANG = en_US.UTF-8
PATH = /usr/local/bin:/usr/bin:/bin:/usr/local/games:/usr/games
PERL5LIB =
PERL5OPT =
PERL5_CPANPLUS_IS_RUNNING = 31046
PERL5_CPAN_IS_RUNNING = 31046
PERL5_CPAN_IS_RUNNING_IN_RECURSION = 26738,31046
PERL_CR_SMOKER_CURRENT = Flickr-API-1.15
PERL_EXTUTILS_AUTOINSTALL = --defaultdeps
PERL_MM_USE_DEFAULT = 1
SHELL = /bin/bash
TERM = xterm
Perl special variables (and OS-specific diagnostics, for MSWin32):
$^X = /home/stro/perl/5.20.2m/bin/perl
$UID/$EUID = 1000 / 1000
$GID = 1000 24 25 29 30 44 46 108 114 1000
$EGID = 1000 24 25 29 30 44 46 108 114 1000
Perl module toolchain versions installed:
Module Have
------------------- --------
CPAN 2.05
CPAN::Meta 2.150005
Cwd 3.48_01
ExtUtils::CBuilder 0.280223
ExtUtils::Command 1.18
ExtUtils::Install 1.67
ExtUtils::MakeMaker 7.04
ExtUtils::Manifest 1.70
ExtUtils::ParseXS 3.24
File::Spec 3.48_01
JSON 2.90
JSON::PP 2.27203
Module::Build 0.4214
Module::Signature 0.79
Parse::CPAN::Meta 1.4414
Test::Harness 3.35
Test::More 1.001014
YAML 1.15
YAML::Syck 1.29
version 0.9909
--
Summary of my perl5 (revision 5 version 20 subversion 2) configuration:
Platform:
osname=linux, osvers=3.16.0-4-amd64, archname=x86_64-linux-multi
uname='linux vm-debian-001 3.16.0-4-amd64 #1 smp debian 3.16.7-ckt11-1 (2015-05-24) x86_64 gnulinux '
config_args=''
hint=recommended, useposix=true, d_sigaction=define
useithreads=undef, usemultiplicity=define
use64bitint=define, use64bitall=define, uselongdouble=undef
usemymalloc=n, bincompat5005=undef
Compiler:
cc='cc', ccflags ='-fwrapv -fno-strict-aliasing -pipe -fstack-protector -I/usr/local/include -D_LARGEFILE_SOURCE -D_FILE_OFFSET_BITS=64',
optimize='-O2',
cppflags='-fwrapv -fno-strict-aliasing -pipe -fstack-protector -I/usr/local/include'
ccversion='', gccversion='4.9.2', gccosandvers=''
intsize=4, longsize=8, ptrsize=8, doublesize=8, byteorder=12345678
d_longlong=define, longlongsize=8, d_longdbl=define, longdblsize=16
ivtype='long', ivsize=8, nvtype='double', nvsize=8, Off_t='off_t', lseeksize=8
alignbytes=8, prototype=define
Linker and Libraries:
ld='cc', ldflags =' -fstack-protector -L/usr/local/lib'
libpth=/usr/local/lib /usr/lib/gcc/x86_64-linux-gnu/4.9/include-fixed /usr/include/x86_64-linux-gnu /usr/lib /lib/x86_64-linux-gnu /lib/../lib /usr/lib/x86_64-linux-gnu /usr/lib/../lib /lib
libs=-lnsl -ldl -lm -lcrypt -lutil -lc
perllibs=-lnsl -ldl -lm -lcrypt -lutil -lc
libc=libc-2.19.so, so=so, useshrplib=false, libperl=libperl.a
gnulibc_version='2.19'
Dynamic Linking:
dlsrc=dl_dlopen.xs, dlext=so, d_dlsymun=undef, ccdlflags='-Wl,-E'
cccdlflags='-fPIC', lddlflags='-shared -O2 -L/usr/local/lib -fstack-protector'
Characteristics of this binary (from libperl):
Compile-time options: HAS_TIMES MULTIPLICITY PERLIO_LAYERS
PERL_DONT_CREATE_GVSV
PERL_HASH_FUNC_ONE_AT_A_TIME_HARD
PERL_IMPLICIT_CONTEXT PERL_MALLOC_WRAP
PERL_NEW_COPY_ON_WRITE PERL_PRESERVE_IVUV
USE_64_BIT_ALL USE_64_BIT_INT USE_LARGE_FILES
USE_LOCALE USE_LOCALE_COLLATE USE_LOCALE_CTYPE
USE_LOCALE_NUMERIC USE_PERLIO USE_PERL_ATOF
Built under linux
Compiled at Jul 10 2015 16:30:02
%ENV:
PERL5LIB=""
PERL5OPT=""
PERL5_CPANPLUS_IS_RUNNING="31046"
PERL5_CPAN_IS_RUNNING="31046"
PERL5_CPAN_IS_RUNNING_IN_RECURSION="26738,31046"
PERL_CR_SMOKER_CURRENT="Flickr-API-1.15"
PERL_EXTUTILS_AUTOINSTALL="--defaultdeps"
PERL_MM_USE_DEFAULT="1"
@INC:
/home/stro/perl/5.20.2m/lib/site_perl/5.20.2/x86_64-linux-multi
/home/stro/perl/5.20.2m/lib/site_perl/5.20.2
/home/stro/perl/5.20.2m/lib/5.20.2/x86_64-linux-multi
/home/stro/perl/5.20.2m/lib/5.20.2
.