autodie v2.29 Perl 5 v5.20.1 OpenBSD.amd64-openbsd

Status
Pass
From
Nigel Horne
Dist
autodie v2.29
Platform
Perl 5 v5.20.1 OpenBSD.amd64-openbsd
Date
2018-03-16 18:47:28
ID
7a273ea4-294a-11e8-91ce-d3e3deac0b3f
This distribution has been tested as part of the CPAN Testers
project, supporting the Perl programming language.  See
http://wiki.cpantesters.org/ for more information or email
questions to cpan-testers-discuss@perl.org


--
Dear Paul Jamieson Fenwick,

This is a computer-generated report for autodie-2.29
on perl 5.20.1, created by CPAN-Reporter-1.2018.

Thank you for uploading your work to CPAN.  Congratulations!
All tests were successful.

Sections of this report:

    * Tester comments
    * Program output
    * Prerequisites
    * Environment and other context

------------------------------
TESTER COMMENTS
------------------------------

Additional comments from tester:

this report is from an automated smoke testing program
and was not reviewed by a human for accuracy

------------------------------
PROGRAM OUTPUT
------------------------------

Output from '/usr/bin/make test':

PERL_DL_NONLAZY=1 "/home/njh/perl5/perlbrew/perls/perl-5.20.1-clang/bin/perl5.20.1" "-MExtUtils::Command::MM" "-MTest::Harness" "-e" "undef *Test::Harness::Switches; test_harness(0, 'blib/lib', 'blib/arch')" t/*.t
t/00-load.t ...................... ok
t/args.t ......................... ok
t/author-critic.t ................ skipped: these tests are for testing by the author
t/autodie.t ...................... ok
t/backcompat.t ................... ok
t/basic_exceptions.t ............. ok
t/binmode.t ...................... ok
t/blog_hints.t ................... ok
t/caller.t ....................... ok
t/chmod.t ........................ ok
t/chown.t ........................ ok
t/context.t ...................... ok
t/context_lexical.t .............. ok
t/core-trampoline-slurp.t ........ ok
t/crickey.t ...................... ok
t/critic.t ....................... skipped: Author test.  Set $ENV{AUTHOR_TESTING} to true to run.
t/dbmopen.t ...................... ok
t/eval_error.t ................... ok
t/exception_class.t .............. ok
t/exceptions.t ................... ok
t/exec.t ......................... ok
t/Fatal.t ........................ ok
t/filehandles.t .................. ok
t/fileno.t ....................... ok
t/flock.t ........................ ok
t/fork.t ......................... ok
t/format-clobber.t ............... ok
# Sub::Identify is loaded
t/hints.t ........................ ok
t/hints_insist.t ................. ok
t/hints_pod_examples.t ........... ok
t/hints_provider_does.t .......... ok
t/hints_provider_easy_does_it.t .. ok
t/hints_provider_isa.t ........... ok
t/import-into.t .................. ok
t/internal-backcompat.t .......... ok
t/internal.t ..................... ok
t/kill.t ......................... ok
t/kwalitee.t ..................... skipped: Author test.  Set $ENV{RELEASE_TESTING} to true to run.
t/lethal.t ....................... ok
t/lex58.t ........................ skipped: IPC::System::Simple required
t/mkdir.t ........................ ok
t/no_carp.t ...................... ok
t/open.t ......................... ok
t/pod-coverage.t ................. skipped: Author test.  Set $ENV{AUTHOR_TESTING} to true to run.
t/pod.t .......................... skipped: Author test.  Set $ENV{AUTHOR_TESTING} to true to run.
t/read.t ......................... ok
t/recv.t ......................... ok
t/release-pod-coverage.t ......... skipped: these tests are for release candidate testing
t/release-pod-syntax.t ........... skipped: these tests are for release candidate testing
t/repeat.t ....................... ok
t/rt-74246.t ..................... ok
t/scope_leak.t ................... ok
t/skip.t ......................... ok
t/socket.t ....................... skipped: Author test.  Set $ENV{AUTHOR_TESTING} to true to run.
t/string-eval-basic.t ............ ok
t/string-eval-leak.t ............. ok
t/sysopen.t ...................... ok
t/system.t ....................... skipped: IPC::System::Simple not installed
t/truncate.t ..................... ok
t/unlink.t ....................... ok
t/user-context.t ................. ok
t/usersub.t ...................... ok
t/utf8_open.t .................... ok
t/utime.t ........................ ok
t/version.t ...................... skipped: Release test.  Set $ENV{RELEASE_TESTING} to true to run.
t/version_tag.t .................. ok
All tests successful.
Files=66, Tests=499, 37 wallclock secs ( 1.00 usr  0.80 sys + 27.01 cusr  8.30 csys = 37.11 CPU)
Result: PASS

------------------------------
PREREQUISITES
------------------------------

Prerequisite modules loaded:

requires:

    Module              Need     Have    
    ------------------- -------- --------
    B                   0        1.48    
    Carp                0        1.3301  
    constant            0        1.31    
    Exporter            5.57     5.71    
    Fcntl               0        1.11    
    overload            0        1.22    
    parent              0        0.228   
    perl                5.008004 5.020001
    POSIX               0        1.38_03 
    Scalar::Util        0        1.50    
    strict              0        1.08    
    Tie::RefHash        0        1.39    
    warnings            0        1.23    

build_requires:

    Module              Need     Have    
    ------------------- -------- --------
    ExtUtils::MakeMaker 0        7.30    
    File::Copy          0        2.30    
    File::Spec          0        3.62    
    File::Temp          0        0.2304  
    FindBin             0        1.51    
    if                  0        0.0603  
    IO::Handle          0        1.35    
    lib                 0        0.63    
    Socket              0        2.013   
    Test::More          0        1.302133

configure_requires:

    Module              Need     Have    
    ------------------- -------- --------
    ExtUtils::MakeMaker 0        7.30    


------------------------------
ENVIRONMENT AND OTHER CONTEXT
------------------------------

Environment variables:

    AUTOMATED_TESTING = 1
    PATH = /home/njh/perl5/perlbrew/bin:/home/njh/perl5/perlbrew/perls/perl-5.20.1-clang/bin:src/njh/smoker/bin:/usr/bin:/bin:/usr/sbin:/sbin:/usr/X11R6/bin:/usr/local/bin:/usr/local/sbin
    PERL5LIB = /home/njh/.cpan/build/Moo-2.003004-7/blib/arch:/home/njh/.cpan/build/Moo-2.003004-7/blib/lib:/home/njh/.cpan/build/Sub-Quote-2.005000-7/blib/arch:/home/njh/.cpan/build/Sub-Quote-2.005000-7/blib/lib:/home/njh/.cpan/build/Role-Tiny-2.000006-7/blib/arch:/home/njh/.cpan/build/Role-Tiny-2.000006-7/blib/lib:/home/njh/.cpan/build/Class-Method-Modifiers-2.12-7/blib/arch:/home/njh/.cpan/build/Class-Method-Modifiers-2.12-7/blib/lib:/home/njh/.cpan/build/File-Share-0.25-0/blib/arch:/home/njh/.cpan/build/File-Share-0.25-0/blib/lib
    PERL5OPT = 
    PERL5_CPANPLUS_IS_RUNNING = 64958
    PERL5_CPAN_IS_RUNNING = 64958
    PERLBREW_HOME = /home/njh/.perlbrew
    PERLBREW_MANPATH = /home/njh/perl5/perlbrew/perls/perl-5.20.1-clang/man
    PERLBREW_PATH = /home/njh/perl5/perlbrew/bin:/home/njh/perl5/perlbrew/perls/perl-5.20.1-clang/bin
    PERLBREW_PERL = perl-5.20.1-clang
    PERLBREW_ROOT = /home/njh/perl5/perlbrew
    PERLBREW_SHELLRC_VERSION = 0.82
    PERLBREW_VERSION = 0.82
    SHELL = /bin/sh

Perl special variables (and OS-specific diagnostics, for MSWin32):

    $^X = /home/njh/perl5/perlbrew/perls/perl-5.20.1-clang/bin/perl5.20.1
    $UID/$EUID = 1000 / 1000
    $GID = 1000 1000 0
    $EGID = 1000 1000 0

Perl module toolchain versions installed:

    Module              Have    
    ------------------- --------
    CPAN                2.16    
    CPAN::Meta          2.143240
    Cwd                 3.62    
    ExtUtils::CBuilder  0.280217
    ExtUtils::Command   7.30    
    ExtUtils::Install   2.06    
    ExtUtils::MakeMaker 7.30    
    ExtUtils::Manifest  1.70    
    ExtUtils::ParseXS   3.24    
    File::Spec          3.62    
    JSON                2.97001 
    JSON::PP            2.97001 
    Module::Build       0.4224  
    Module::Signature   n/a     
    Parse::CPAN::Meta   1.4414  
    Test::Harness       3.39    
    Test::More          1.302133
    YAML                1.24    
    YAML::Syck          1.30    
    version             0.9909  


--

Summary of my perl5 (revision 5 version 20 subversion 1) configuration:
   
  Platform:
    osname=openbsd, osvers=6.2, archname=OpenBSD.amd64-openbsd
    uname='openbsd netgate1.bandsman.co.uk 6.2 generic.mp#2 amd64 '
    config_args='-de -Dprefix=/home/njh/perl5/perlbrew/perls/perl-5.20.1-clang -Dusedevel -Dcc=clang -Accflags= -Aeval:scriptdir=/home/njh/perl5/perlbrew/perls/perl-5.20.1-clang/bin'
    hint=recommended, useposix=true, d_sigaction=define
    useithreads=undef, usemultiplicity=undef
    use64bitint=define, use64bitall=define, uselongdouble=undef
    usemymalloc=n, bincompat5005=undef
  Compiler:
    cc='clang', ccflags ='-fno-strict-aliasing -pipe -fstack-protector -I/usr/local/include',
    optimize='-O2',
    cppflags='-fno-strict-aliasing -pipe -fstack-protector -I/usr/local/include'
    ccversion='', gccversion='4.2.1 Compatible OpenBSD Clang 4.0.0 (tags/RELEASE_400/final)', gccosandvers=''
    intsize=4, longsize=8, ptrsize=8, doublesize=8, byteorder=12345678
    d_longlong=define, longlongsize=8, d_longdbl=define, longdblsize=16
    ivtype='long', ivsize=8, nvtype='double', nvsize=8, Off_t='off_t', lseeksize=8
    alignbytes=8, prototype=define
  Linker and Libraries:
    ld='clang', ldflags ='-Wl,-E  -fstack-protector -L/usr/local/lib'
    libpth=/usr/lib /usr/local/lib
    libs=-lm -lutil -lc
    perllibs=-lm -lutil -lc
    libc=/usr/lib/libc.so.90.0, so=so, useshrplib=false, libperl=libperl.a
    gnulibc_version=''
  Dynamic Linking:
    dlsrc=dl_dlopen.xs, dlext=so, d_dlsymun=undef, ccdlflags=' '
    cccdlflags='-DPIC -fPIC ', lddlflags='-shared -fPIC  -L/usr/local/lib -fstack-protector'


Characteristics of this binary (from libperl): 
  Compile-time options: HAS_TIMES PERLIO_LAYERS PERL_DONT_CREATE_GVSV
                        PERL_HASH_FUNC_ONE_AT_A_TIME_HARD PERL_MALLOC_WRAP
                        PERL_NEW_COPY_ON_WRITE PERL_PRESERVE_IVUV
                        PERL_USE_DEVEL USE_64_BIT_ALL USE_64_BIT_INT
                        USE_LARGE_FILES USE_LOCALE USE_LOCALE_COLLATE
                        USE_LOCALE_CTYPE USE_LOCALE_NUMERIC USE_PERLIO
                        USE_PERL_ATOF
  Locally applied patches:
	Devel::PatchPerl 1.48
  Built under openbsd
  Compiled at Jan 21 2018 10:42:21
  %ENV:
    PERL5LIB="/home/njh/.cpan/build/Moo-2.003004-7/blib/arch:/home/njh/.cpan/build/Moo-2.003004-7/blib/lib:/home/njh/.cpan/build/Sub-Quote-2.005000-7/blib/arch:/home/njh/.cpan/build/Sub-Quote-2.005000-7/blib/lib:/home/njh/.cpan/build/Role-Tiny-2.000006-7/blib/arch:/home/njh/.cpan/build/Role-Tiny-2.000006-7/blib/lib:/home/njh/.cpan/build/Class-Method-Modifiers-2.12-7/blib/arch:/home/njh/.cpan/build/Class-Method-Modifiers-2.12-7/blib/lib:/home/njh/.cpan/build/File-Share-0.25-0/blib/arch:/home/njh/.cpan/build/File-Share-0.25-0/blib/lib"
    PERL5OPT=""
    PERL5_CPANPLUS_IS_RUNNING="64958"
    PERL5_CPAN_IS_RUNNING="64958"
    PERLBREW_HOME="/home/njh/.perlbrew"
    PERLBREW_MANPATH="/home/njh/perl5/perlbrew/perls/perl-5.20.1-clang/man"
    PERLBREW_PATH="/home/njh/perl5/perlbrew/bin:/home/njh/perl5/perlbrew/perls/perl-5.20.1-clang/bin"
    PERLBREW_PERL="perl-5.20.1-clang"
    PERLBREW_ROOT="/home/njh/perl5/perlbrew"
    PERLBREW_SHELLRC_VERSION="0.82"
    PERLBREW_VERSION="0.82"
  @INC:
    /home/njh/.cpan/build/Moo-2.003004-7/blib/arch
    /home/njh/.cpan/build/Moo-2.003004-7/blib/lib
    /home/njh/.cpan/build/Sub-Quote-2.005000-7/blib/arch
    /home/njh/.cpan/build/Sub-Quote-2.005000-7/blib/lib
    /home/njh/.cpan/build/Role-Tiny-2.000006-7/blib/arch
    /home/njh/.cpan/build/Role-Tiny-2.000006-7/blib/lib
    /home/njh/.cpan/build/Class-Method-Modifiers-2.12-7/blib/arch
    /home/njh/.cpan/build/Class-Method-Modifiers-2.12-7/blib/lib
    /home/njh/.cpan/build/File-Share-0.25-0/blib/arch
    /home/njh/.cpan/build/File-Share-0.25-0/blib/lib
    /home/njh/perl5/perlbrew/perls/perl-5.20.1-clang/lib/site_perl/5.20.1/OpenBSD.amd64-openbsd
    /home/njh/perl5/perlbrew/perls/perl-5.20.1-clang/lib/site_perl/5.20.1
    /home/njh/perl5/perlbrew/perls/perl-5.20.1-clang/lib/5.20.1/OpenBSD.amd64-openbsd
    /home/njh/perl5/perlbrew/perls/perl-5.20.1-clang/lib/5.20.1
    .