Test-Kit v2.16 Perl 5 v5.39.4 i86pc-solaris-thread-multi-64
- Status
- Pass
- From
- Carlos Guevara
- Dist
-
Test-Kit v2.16
- Platform
- Perl 5 v5.39.4 i86pc-solaris-thread-multi-64
- Date
- 2023-09-23 11:51:05
- ID
- 7a3cfdcc-5a07-11ee-9e2f-313b864e9b9a
This distribution has been tested as part of the CPAN Testers
project, supporting the Perl programming language. See
http://wiki.cpantesters.org/ for more information or email
questions to cpan-testers-discuss@perl.org
--
Dear Alex Balhatchet,
This is a computer-generated report for Test-Kit-2.16
on perl 5.39.4, created by CPAN-Reporter-1.2019.
Thank you for uploading your work to CPAN. Congratulations!
All tests were successful.
Sections of this report:
* Tester comments
* Program output
* Prerequisites
* Environment and other context
------------------------------
TESTER COMMENTS
------------------------------
Additional comments from tester:
this report is from an automated smoke testing program
and was not reviewed by a human for accuracy
------------------------------
PROGRAM OUTPUT
------------------------------
Output from '/usr/bin/make test':
PERL_DL_NONLAZY=1 "/export/home/cpan/bin/perl/bin/perl5.39.4" "-MExtUtils::Command::MM" "-MTest::Harness" "-e" "undef *Test::Harness::Switches; test_harness(0, 'blib/lib', 'blib/arch')" t/*.t
Old package separator "'" deprecated at /export/home/cpan/bin/perl/lib/site_perl/5.39.4/Sub/Delete.pm line 47.
t/00-compile.t ........................ ok
Old package separator "'" deprecated at /export/home/cpan/bin/perl/lib/site_perl/5.39.4/Sub/Delete.pm line 47.
t/01-basic.t .......................... ok
Old package separator "'" deprecated at /export/home/cpan/bin/perl/lib/site_perl/5.39.4/Sub/Delete.pm line 47.
t/02-simple.t ......................... ok
Old package separator "'" deprecated at /export/home/cpan/bin/perl/lib/site_perl/5.39.4/Sub/Delete.pm line 47.
t/03-exclude.t ........................ ok
Old package separator "'" deprecated at /export/home/cpan/bin/perl/lib/site_perl/5.39.4/Sub/Delete.pm line 47.
t/04-rename.t ......................... ok
Old package separator "'" deprecated at /export/home/cpan/bin/perl/lib/site_perl/5.39.4/Sub/Delete.pm line 47.
t/05-put-it-all-together.t ............ ok
Old package separator "'" deprecated at /export/home/cpan/bin/perl/lib/site_perl/5.39.4/Sub/Delete.pm line 47.
t/06-sub-name-collide.t ............... ok
Old package separator "'" deprecated at /export/home/cpan/bin/perl/lib/site_perl/5.39.4/Sub/Delete.pm line 47.
t/07-from-module.t .................... ok
Old package separator "'" deprecated at /export/home/cpan/bin/perl/lib/site_perl/5.39.4/Sub/Delete.pm line 47.
t/08-double-use-same-process.t ........ ok
Old package separator "'" deprecated at /export/home/cpan/bin/perl/lib/site_perl/5.39.4/Sub/Delete.pm line 47.
t/10-import-check.t ................... ok
Old package separator "'" deprecated at /export/home/cpan/bin/perl/lib/site_perl/5.39.4/Sub/Delete.pm line 47.
t/11-test-nowarnings.t ................ ok
Old package separator "'" deprecated at /export/home/cpan/bin/perl/lib/site_perl/5.39.4/Sub/Delete.pm line 47.
t/12-data-dumper.t .................... ok
Old package separator "'" deprecated at /export/home/cpan/bin/perl/lib/site_perl/5.39.4/Sub/Delete.pm line 47.
t/13-list-util.t ...................... ok
Old package separator "'" deprecated at /export/home/cpan/bin/perl/lib/site_perl/5.39.4/Sub/Delete.pm line 47.
t/14-todo-var.t ....................... ok
Old package separator "'" deprecated at /export/home/cpan/bin/perl/lib/site_perl/5.39.4/Sub/Delete.pm line 47.
t/15-test-builder-io-layer-utf8.t ..... ok
Old package separator "'" deprecated at /export/home/cpan/bin/perl/lib/site_perl/5.39.4/Sub/Delete.pm line 47.
t/16-test-more-import.t ............... ok
Old package separator "'" deprecated at /export/home/cpan/bin/perl/lib/site_perl/5.39.4/Sub/Delete.pm line 47.
t/17-include-list.t ................... ok
Old package separator "'" deprecated at /export/home/cpan/bin/perl/lib/site_perl/5.39.4/Sub/Delete.pm line 47.
t/18-extra-exports.t .................. ok
Old package separator "'" deprecated at /export/home/cpan/bin/perl/lib/site_perl/5.39.4/Sub/Delete.pm line 47.
t/19-sub-class.t ...................... ok
Old package separator "'" deprecated at /export/home/cpan/bin/perl/lib/site_perl/5.39.4/Sub/Delete.pm line 47.
t/20-test-kit-including-test-kit.t .... ok
Old package separator "'" deprecated at /export/home/cpan/bin/perl/lib/site_perl/5.39.4/Sub/Delete.pm line 47.
t/21-test-kit-with-strict.t ........... ok
Old package separator "'" deprecated at /export/home/cpan/bin/perl/lib/site_perl/5.39.4/Sub/Delete.pm line 47.
t/22-test-kit-with-warnings.t ......... ok
Old package separator "'" deprecated at /export/home/cpan/bin/perl/lib/site_perl/5.39.4/Sub/Delete.pm line 47.
t/23-use-multiple-kits-in-one-test.t .. ok
Old package separator "'" deprecated at /export/home/cpan/bin/perl/lib/site_perl/5.39.4/Sub/Delete.pm line 47.
t/24-universal-regression-test.t ...... ok
t/author-pod-syntax.t ................. skipped: these tests are for testing by the author
t/release-cpan-changes.t .............. skipped: these tests are for release candidate testing
All tests successful.
Files=26, Tests=65, 1 wallclock secs ( 0.07 usr 0.05 sys + 1.18 cusr 0.30 csys = 1.60 CPU)
Result: PASS
------------------------------
PREREQUISITES
------------------------------
Prerequisite modules loaded:
requires:
Module Need Have
------------------- ----- --------
Exporter 0 5.77
Hook::LexWrap 0 0.26
Import::Into 0 1.002005
Module::Runtime 0 0.016
perl 5.010 5.039004
Scalar::Util 0 1.63
Sub::Delete 0 1.00002
Test::Builder 0 1.302195
build_requires:
Module Need Have
------------------- ----- --------
ExtUtils::MakeMaker 0 7.70
Test::Exception 0 0.43
Test::More 0.92 1.302195
Test::NoWarnings 0 1.06
Test::Output 0 1.034
Test::Pod 0 1.52
Test::Warn 0 0.37
configure_requires:
Module Need Have
------------------- ----- --------
ExtUtils::MakeMaker 0 7.70
perl 5.010 5.039004
------------------------------
ENVIRONMENT AND OTHER CONTEXT
------------------------------
Environment variables:
AUTOMATED_TESTING = 1
DATE_MANIP_TEST_DM5 = 1
LANG = en_US.UTF-8
LC_ALL = C
NONINTERACTIVE_TESTING = 1
NO_NETWORK_TESTING = 1
PATH = /export/home/cpan/bin/perl/bin:/usr/bin:/usr/sbin:/sbin:/opt/ooce/bin:/usr/gnu/bin
PERL5LIB =
PERL5OPT =
PERL5_CPANPLUS_IS_RUNNING = 916
PERL5_CPAN_IS_RUNNING = 916
PERL_MM_USE_DEFAULT = 1
PERL_USE_UNSAFE_INC = 1
SHELL = /bin/bash
TERM = screen
Perl special variables (and OS-specific diagnostics, for MSWin32):
$^X = /export/home/cpan/bin/perl/bin/perl5.39.4
$UID/$EUID = 101 / 101
$GID = 1 1
$EGID = 1 1
Perl module toolchain versions installed:
Module Have
------------------- --------
CPAN 2.36
CPAN::Meta 2.150010
Cwd 3.90
ExtUtils::CBuilder 0.280240
ExtUtils::Command 7.70
ExtUtils::Install 2.22
ExtUtils::MakeMaker 7.70
ExtUtils::Manifest 1.75
ExtUtils::ParseXS 3.51
File::Spec 3.90
JSON 4.10
JSON::PP 4.16
Module::Build 0.4234
Module::Signature n/a
Parse::CPAN::Meta 2.150010
Test2 1.302195
Test::Harness 3.47
Test::More 1.302195
YAML n/a
YAML::Syck 1.34
version 0.9930
--
Summary of my perl5 (revision 5 version 39 subversion 4) configuration:
Commit id: 01272778386cb9c406010c7bab5085c26179b157
Platform:
osname=solaris
osvers=2.11
archname=i86pc-solaris-thread-multi-64
uname='sunos cjg-omniosce 5.11 omnios-r151046-1c2c17cce7 i86pc i386 i86pc '
config_args='-des -Dprefix=/export/home/cpan/bin/perl -Dscriptdir=/export/home/cpan/bin/perl/bin -Dusedevel -Duse64bitall -Dcc=gcc -Duseithreads'
hint=recommended
useposix=true
d_sigaction=define
useithreads=define
usemultiplicity=define
use64bitint=define
use64bitall=define
uselongdouble=undef
usemymalloc=n
default_inc_excludes_dot=define
Compiler:
cc='gcc'
ccflags ='-D_REENTRANT -m64 -fwrapv -fno-strict-aliasing -pipe -fstack-protector-strong -D_LARGEFILE_SOURCE -D_FILE_OFFSET_BITS=64 -D_FORTIFY_SOURCE=2'
optimize='-O'
cppflags='-D_REENTRANT -m64 -fwrapv -fno-strict-aliasing -pipe -fstack-protector-strong'
ccversion=''
gccversion='11.3.0'
gccosandvers=''
intsize=4
longsize=8
ptrsize=8
doublesize=8
byteorder=12345678
doublekind=3
d_longlong=define
longlongsize=8
d_longdbl=define
longdblsize=16
longdblkind=3
ivtype='long'
ivsize=8
nvtype='double'
nvsize=8
Off_t='off_t'
lseeksize=8
alignbytes=8
prototype=define
Linker and Libraries:
ld='gcc'
ldflags =' -m64 -fstack-protector-strong -L/usr/gnu/lib '
libpth=/opt/gcc-11/lib /usr/lib /usr/gnu/lib /usr/ccs/lib
libs=-lpthread -lsocket -lnsl -ldl -lm -lc
perllibs=-lpthread -lsocket -lnsl -ldl -lm -lc
libc=/lib/libc.so
so=so
useshrplib=true
libperl=libperl.so
gnulibc_version=''
Dynamic Linking:
dlsrc=dl_dlopen.xs
dlext=so
d_dlsymun=undef
ccdlflags=' -R /export/home/cpan/bin/perl/lib/5.39.4/i86pc-solaris-thread-multi-64/CORE'
cccdlflags='-fPIC'
lddlflags=' -shared -m64 -L/usr/gnu/lib -fstack-protector-strong'
Characteristics of this binary (from libperl):
Compile-time options:
HAS_LONG_DOUBLE
HAS_STRTOLD
HAS_TIMES
MULTIPLICITY
PERLIO_LAYERS
PERL_COPY_ON_WRITE
PERL_DONT_CREATE_GVSV
PERL_HASH_FUNC_SIPHASH13
PERL_HASH_USE_SBOX32
PERL_MALLOC_WRAP
PERL_OP_PARENT
PERL_PRESERVE_IVUV
PERL_USE_DEVEL
PERL_USE_SAFE_PUTENV
USE_64_BIT_ALL
USE_64_BIT_INT
USE_ITHREADS
USE_LARGE_FILES
USE_LOCALE
USE_LOCALE_COLLATE
USE_LOCALE_CTYPE
USE_LOCALE_NUMERIC
USE_LOCALE_TIME
USE_PERLIO
USE_PERL_ATOF
USE_REENTRANT_API
USE_THREAD_SAFE_LOCALE
Built under solaris
Compiled at Sep 23 2023 03:05:43
%ENV:
PERL5LIB=""
PERL5OPT=""
PERL5_CPANPLUS_IS_RUNNING="916"
PERL5_CPAN_IS_RUNNING="916"
PERL_MM_USE_DEFAULT="1"
PERL_USE_UNSAFE_INC="1"
@INC:
/export/home/cpan/bin/perl/lib/site_perl/5.39.4/i86pc-solaris-thread-multi-64
/export/home/cpan/bin/perl/lib/site_perl/5.39.4
/export/home/cpan/bin/perl/lib/5.39.4/i86pc-solaris-thread-multi-64
/export/home/cpan/bin/perl/lib/5.39.4
.