Back
From: metabase:user:320bfe00-2aae-11df-837a-5e0a49663a4f
Subject: PASS HTTP-MobileAttribute-0.23 v5.19.10 GNU/Linux
Date: 2014-02-24T00:20:34Z
This distribution has been tested as part of the CPAN Testers
project, supporting the Perl programming language. See
http://wiki.cpantesters.org/ for more information or email
questions to cpan-testers-discuss@perl.org
--
Dear Tokuhiro Matsuno,
This is a computer-generated report for HTTP-MobileAttribute-0.23
on perl 5.19.10, created by CPAN-Reporter-1.2010.
Thank you for uploading your work to CPAN. Congratulations!
All tests were successful.
Sections of this report:
* Tester comments
* Program output
* Prerequisites
* Environment and other context
------------------------------
TESTER COMMENTS
------------------------------
Additional comments from tester:
this report is from an automated smoke testing program
and was not reviewed by a human for accuracy
------------------------------
PROGRAM OUTPUT
------------------------------
Output from '/usr/bin/make test':
PERL_DL_NONLAZY=1 /tmp/basesmoker-reloperl-ZC9K/bin/perl "-MExtUtils::Command::MM" "-MTest::Harness" "-e" "undef *Test::Harness::Switches; test_harness(0, 'inc', 'blib/lib', 'blib/arch')" t/*.t t/Plugins/*.t t/*/*/*.t
Possible precedence issue with control flow operator at /tmp/loop_over_bdir-18172-51llg3/HTTP-MobileAttribute-0.23-66Dq6O/inc/Test/Builder.pm line 917.
t/00_compile.t .............................. ok
Possible precedence issue with control flow operator at /tmp/loop_over_bdir-18172-51llg3/HTTP-MobileAttribute-0.23-66Dq6O/inc/Test/Builder.pm line 917.
t/01_carrier_detect.t ....................... ok
Possible precedence issue with control flow operator at /tmp/loop_over_bdir-18172-51llg3/HTTP-MobileAttribute-0.23-66Dq6O/inc/Test/Builder.pm line 917.
t/01_request.t .............................. ok
Possible precedence issue with control flow operator at /tmp/loop_over_bdir-18172-51llg3/HTTP-MobileAttribute-0.23-66Dq6O/inc/Test/Builder.pm line 917.
t/02_docomo.t ............................... ok
Possible precedence issue with control flow operator at /tmp/loop_over_bdir-18172-51llg3/HTTP-MobileAttribute-0.23-66Dq6O/inc/Test/Builder.pm line 917.
t/03_j_phone.t .............................. ok
Possible precedence issue with control flow operator at /tmp/loop_over_bdir-18172-51llg3/HTTP-MobileAttribute-0.23-66Dq6O/inc/Test/Builder.pm line 917.
t/04_ezweb.t ................................ ok
Possible precedence issue with control flow operator at /tmp/loop_over_bdir-18172-51llg3/HTTP-MobileAttribute-0.23-66Dq6O/inc/Test/Builder.pm line 917.
t/06_nonmobile.t ............................ ok
Possible precedence issue with control flow operator at /tmp/loop_over_bdir-18172-51llg3/HTTP-MobileAttribute-0.23-66Dq6O/inc/Test/Builder.pm line 917.
t/07_airh.t ................................. ok
Possible precedence issue with control flow operator at /tmp/loop_over_bdir-18172-51llg3/HTTP-MobileAttribute-0.23-66Dq6O/inc/Test/Builder.pm line 917.
t/09_vodafone_3gc.t ......................... ok
Possible precedence issue with control flow operator at /tmp/loop_over_bdir-18172-51llg3/HTTP-MobileAttribute-0.23-66Dq6O/inc/Test/Builder.pm line 917.
t/10_softbank.t ............................. ok
Possible precedence issue with control flow operator at /tmp/loop_over_bdir-18172-51llg3/HTTP-MobileAttribute-0.23-66Dq6O/inc/Test/Builder.pm line 917.
t/11_softbank_base.t ........................ ok
Possible precedence issue with control flow operator at /tmp/loop_over_bdir-18172-51llg3/HTTP-MobileAttribute-0.23-66Dq6O/inc/Test/Builder.pm line 917.
t/12_no_match.t ............................. ok
Possible precedence issue with control flow operator at /tmp/loop_over_bdir-18172-51llg3/HTTP-MobileAttribute-0.23-66Dq6O/inc/Test/Builder.pm line 917.
t/Plugins/CIDR-base.t ....................... skipped: Net::CIDR::MobileJP is not installed.
Possible precedence issue with control flow operator at /tmp/loop_over_bdir-18172-51llg3/HTTP-MobileAttribute-0.23-66Dq6O/inc/Test/Builder.pm line 917.
t/Plugins/CIDR-setter.t ..................... skipped: Net::CIDR::MobileJP is not installed.
Possible precedence issue with control flow operator at /tmp/loop_over_bdir-18172-51llg3/HTTP-MobileAttribute-0.23-66Dq6O/inc/Test/Builder.pm line 917.
t/Plugins/CIDR-yaml.t ....................... skipped: Net::CIDR::MobileJP is not installed.
Possible precedence issue with control flow operator at /tmp/loop_over_bdir-18172-51llg3/HTTP-MobileAttribute-0.23-66Dq6O/inc/Test/Builder.pm line 917.
t/Plugins/Display.t ......................... ok
Possible precedence issue with control flow operator at /tmp/loop_over_bdir-18172-51llg3/HTTP-MobileAttribute-0.23-66Dq6O/inc/Test/Builder.pm line 917.
t/Plugins/DoCoMo/Browser.t .................. ok
Possible precedence issue with control flow operator at /tmp/loop_over_bdir-18172-51llg3/HTTP-MobileAttribute-0.23-66Dq6O/inc/Test/Builder.pm line 917.
t/Plugins/Encoding.t ........................ ok
Possible precedence issue with control flow operator at /tmp/loop_over_bdir-18172-51llg3/HTTP-MobileAttribute-0.23-66Dq6O/inc/Test/Builder.pm line 917.
t/Plugins/GPS-gps_compliant.t ............... ok
Possible precedence issue with control flow operator at /tmp/loop_over_bdir-18172-51llg3/HTTP-MobileAttribute-0.23-66Dq6O/inc/Test/Builder.pm line 917.
THIS METHOD IS OBSOLETE. DO NOT USE THIS. at /tmp/loop_over_bdir-18172-51llg3/HTTP-MobileAttribute-0.23-66Dq6O/blib/lib/HTTP/MobileAttribute/Plugin/GPS.pm line 13, <DATA> line 1.
THIS METHOD IS OBSOLETE. DO NOT USE THIS. at /tmp/loop_over_bdir-18172-51llg3/HTTP-MobileAttribute-0.23-66Dq6O/blib/lib/HTTP/MobileAttribute/Plugin/GPS.pm line 13, <DATA> line 1.
t/Plugins/GPS-is_gps.t ...................... ok
Possible precedence issue with control flow operator at /tmp/loop_over_bdir-18172-51llg3/HTTP-MobileAttribute-0.23-66Dq6O/inc/Test/Builder.pm line 917.
t/Plugins/Locator/00.load.t ................. ok
Possible precedence issue with control flow operator at /tmp/loop_over_bdir-18172-51llg3/HTTP-MobileAttribute-0.23-66Dq6O/inc/Test/Builder.pm line 917.
Argument "35.21.03.342" isn't numeric in numeric lt (<) at /home/sand/src/perl/repoperls/installed-perls/perl/v5.19.9-28-gdca36a0/9980/lib/site_perl/5.19.10/Geo/Coordinates/Converter/Format/Milliseconds.pm line 13.
Argument "35.21.03.342" isn't numeric in numeric lt (<) at /home/sand/src/perl/repoperls/installed-perls/perl/v5.19.9-28-gdca36a0/9980/lib/site_perl/5.19.10/Geo/Coordinates/Converter/Format/Milliseconds.pm line 13.
Argument "35.21.03.342" isn't numeric in numeric lt (<) at /home/sand/src/perl/repoperls/installed-perls/perl/v5.19.9-28-gdca36a0/9980/lib/site_perl/5.19.10/Geo/Coordinates/Converter/Format/Milliseconds.pm line 13.
Argument "35.21.03.342" isn't numeric in numeric lt (<) at /home/sand/src/perl/repoperls/installed-perls/perl/v5.19.9-28-gdca36a0/9980/lib/site_perl/5.19.10/Geo/Coordinates/Converter/Format/Milliseconds.pm line 13.
Argument "+35.39.43.538" isn't numeric in numeric lt (<) at /home/sand/src/perl/repoperls/installed-perls/perl/v5.19.9-28-gdca36a0/9980/lib/site_perl/5.19.10/Geo/Coordinates/Converter/Format/Milliseconds.pm line 13.
Argument "+35.39.43.538" isn't numeric in numeric lt (<) at /home/sand/src/perl/repoperls/installed-perls/perl/v5.19.9-28-gdca36a0/9980/lib/site_perl/5.19.10/Geo/Coordinates/Converter/Format/Milliseconds.pm line 13.
Argument "+35.39.43.538" isn't numeric in numeric lt (<) at /home/sand/src/perl/repoperls/installed-perls/perl/v5.19.9-28-gdca36a0/9980/lib/site_perl/5.19.10/Geo/Coordinates/Converter/Format/Milliseconds.pm line 13.
Argument "+35.39.43.538" isn't numeric in numeric lt (<) at /home/sand/src/perl/repoperls/installed-perls/perl/v5.19.9-28-gdca36a0/9980/lib/site_perl/5.19.10/Geo/Coordinates/Converter/Format/Milliseconds.pm line 13.
Argument "+35.39.43.538" isn't numeric in numeric lt (<) at /home/sand/src/perl/repoperls/installed-perls/perl/v5.19.9-28-gdca36a0/9980/lib/site_perl/5.19.10/Geo/Coordinates/Converter/Format/Milliseconds.pm line 13.
Argument "+35.39.43.538" isn't numeric in numeric lt (<) at /home/sand/src/perl/repoperls/installed-perls/perl/v5.19.9-28-gdca36a0/9980/lib/site_perl/5.19.10/Geo/Coordinates/Converter/Format/Milliseconds.pm line 13.
Argument "+35.39.43.538" isn't numeric in numeric lt (<) at /home/sand/src/perl/repoperls/installed-perls/perl/v5.19.9-28-gdca36a0/9980/lib/site_perl/5.19.10/Geo/Coordinates/Converter/Format/Milliseconds.pm line 13.
Argument "+35.39.43.538" isn't numeric in numeric lt (<) at /home/sand/src/perl/repoperls/installed-perls/perl/v5.19.9-28-gdca36a0/9980/lib/site_perl/5.19.10/Geo/Coordinates/Converter/Format/Milliseconds.pm line 13.
Argument "35.21.03.342" isn't numeric in numeric lt (<) at /home/sand/src/perl/repoperls/installed-perls/perl/v5.19.9-28-gdca36a0/9980/lib/site_perl/5.19.10/Geo/Coordinates/Converter/Format/Milliseconds.pm line 13.
Argument "35.21.03.342" isn't numeric in numeric lt (<) at /home/sand/src/perl/repoperls/installed-perls/perl/v5.19.9-28-gdca36a0/9980/lib/site_perl/5.19.10/Geo/Coordinates/Converter/Format/Milliseconds.pm line 13.
Argument "35.21.03.342" isn't numeric in numeric lt (<) at /home/sand/src/perl/repoperls/installed-perls/perl/v5.19.9-28-gdca36a0/9980/lib/site_perl/5.19.10/Geo/Coordinates/Converter/Format/Milliseconds.pm line 13.
Argument "35.21.03.342" isn't numeric in numeric lt (<) at /home/sand/src/perl/repoperls/installed-perls/perl/v5.19.9-28-gdca36a0/9980/lib/site_perl/5.19.10/Geo/Coordinates/Converter/Format/Milliseconds.pm line 13.
Argument "35.20.51.00" isn't numeric in numeric lt (<) at /home/sand/src/perl/repoperls/installed-perls/perl/v5.19.9-28-gdca36a0/9980/lib/site_perl/5.19.10/Geo/Coordinates/Converter/Format/Milliseconds.pm line 13.
Argument "35.20.51.00" isn't numeric in numeric lt (<) at /home/sand/src/perl/repoperls/installed-perls/perl/v5.19.9-28-gdca36a0/9980/lib/site_perl/5.19.10/Geo/Coordinates/Converter/Format/Milliseconds.pm line 13.
Argument "35.20.51.00" isn't numeric in numeric lt (<) at /home/sand/src/perl/repoperls/installed-perls/perl/v5.19.9-28-gdca36a0/9980/lib/site_perl/5.19.10/Geo/Coordinates/Converter/Format/Milliseconds.pm line 13.
Argument "35.20.51.00" isn't numeric in numeric lt (<) at /home/sand/src/perl/repoperls/installed-perls/perl/v5.19.9-28-gdca36a0/9980/lib/site_perl/5.19.10/Geo/Coordinates/Converter/Format/Milliseconds.pm line 13.
Argument "35.20.51.00" isn't numeric in numeric lt (<) at /home/sand/src/perl/repoperls/installed-perls/perl/v5.19.9-28-gdca36a0/9980/lib/site_perl/5.19.10/Geo/Coordinates/Converter/Format/Milliseconds.pm line 13.
Argument "35.20.51.00" isn't numeric in numeric lt (<) at /home/sand/src/perl/repoperls/installed-perls/perl/v5.19.9-28-gdca36a0/9980/lib/site_perl/5.19.10/Geo/Coordinates/Converter/Format/Milliseconds.pm line 13.
Argument "35.20.51.00" isn't numeric in numeric lt (<) at /home/sand/src/perl/repoperls/installed-perls/perl/v5.19.9-28-gdca36a0/9980/lib/site_perl/5.19.10/Geo/Coordinates/Converter/Format/Milliseconds.pm line 13.
Argument "35.20.51.00" isn't numeric in numeric lt (<) at /home/sand/src/perl/repoperls/installed-perls/perl/v5.19.9-28-gdca36a0/9980/lib/site_perl/5.19.10/Geo/Coordinates/Converter/Format/Milliseconds.pm line 13.
Argument "35.20.51.00" isn't numeric in numeric lt (<) at /home/sand/src/perl/repoperls/installed-perls/perl/v5.19.9-28-gdca36a0/9980/lib/site_perl/5.19.10/Geo/Coordinates/Converter/Format/Milliseconds.pm line 13.
Argument "35.20.51.00" isn't numeric in numeric lt (<) at /home/sand/src/perl/repoperls/installed-perls/perl/v5.19.9-28-gdca36a0/9980/lib/site_perl/5.19.10/Geo/Coordinates/Converter/Format/Milliseconds.pm line 13.
Argument "35.20.51.664" isn't numeric in numeric lt (<) at /home/sand/src/perl/repoperls/installed-perls/perl/v5.19.9-28-gdca36a0/9980/lib/site_perl/5.19.10/Geo/Coordinates/Converter/Format/Milliseconds.pm line 13.
Argument "35.20.51.664" isn't numeric in numeric lt (<) at /home/sand/src/perl/repoperls/installed-perls/perl/v5.19.9-28-gdca36a0/9980/lib/site_perl/5.19.10/Geo/Coordinates/Converter/Format/Milliseconds.pm line 13.
Argument "35.20.51.664" isn't numeric in numeric lt (<) at /home/sand/src/perl/repoperls/installed-perls/perl/v5.19.9-28-gdca36a0/9980/lib/site_perl/5.19.10/Geo/Coordinates/Converter/Format/Milliseconds.pm line 13.
Argument "35.20.51.664" isn't numeric in numeric lt (<) at /home/sand/src/perl/repoperls/installed-perls/perl/v5.19.9-28-gdca36a0/9980/lib/site_perl/5.19.10/Geo/Coordinates/Converter/Format/Milliseconds.pm line 13.
t/Plugins/Locator/01.get_location.t ......... ok
Possible precedence issue with control flow operator at /tmp/loop_over_bdir-18172-51llg3/HTTP-MobileAttribute-0.23-66Dq6O/inc/Test/Builder.pm line 917.
t/Plugins/Locator/02.gps_comliant.t ......... ok
Possible precedence issue with control flow operator at /tmp/loop_over_bdir-18172-51llg3/HTTP-MobileAttribute-0.23-66Dq6O/inc/Test/Builder.pm line 917.
t/Plugins/Locator/03.non_mobile.t ........... ok
Possible precedence issue with control flow operator at /tmp/loop_over_bdir-18172-51llg3/HTTP-MobileAttribute-0.23-66Dq6O/inc/Test/Builder.pm line 917.
t/Plugins/Locator/04.apache_params.t ........ ok
Possible precedence issue with control flow operator at /tmp/loop_over_bdir-18172-51llg3/HTTP-MobileAttribute-0.23-66Dq6O/inc/Test/Builder.pm line 917.
t/Plugins/Locator/05.cgi_params.t ........... ok
Possible precedence issue with control flow operator at /tmp/loop_over_bdir-18172-51llg3/HTTP-MobileAttribute-0.23-66Dq6O/inc/Test/Builder.pm line 917.
t/Plugins/Locator/06.hashref_params.t ....... ok
Possible precedence issue with control flow operator at /tmp/loop_over_bdir-18172-51llg3/HTTP-MobileAttribute-0.23-66Dq6O/inc/Test/Builder.pm line 917.
t/Plugins/Locator/07.gps_parameter.t ........ ok
Possible precedence issue with control flow operator at /tmp/loop_over_bdir-18172-51llg3/HTTP-MobileAttribute-0.23-66Dq6O/inc/Test/Builder.pm line 917.
t/Plugins/Locator/08.regression-params.t .... ok
Possible precedence issue with control flow operator at /tmp/loop_over_bdir-18172-51llg3/HTTP-MobileAttribute-0.23-66Dq6O/inc/Test/Builder.pm line 917.
t/Plugins/Locator/09.get_carrier_locator.t .. ok
Possible precedence issue with control flow operator at /tmp/loop_over_bdir-18172-51llg3/HTTP-MobileAttribute-0.23-66Dq6O/inc/Test/Builder.pm line 917.
t/Plugins/UserID-base.t ..................... ok
Possible precedence issue with control flow operator at /tmp/loop_over_bdir-18172-51llg3/HTTP-MobileAttribute-0.23-66Dq6O/inc/Test/Builder.pm line 917.
t/Plugins/UserID-fallback-card.t ............ ok
Possible precedence issue with control flow operator at /tmp/loop_over_bdir-18172-51llg3/HTTP-MobileAttribute-0.23-66Dq6O/inc/Test/Builder.pm line 917.
t/Plugins/UserID-fallback.t ................. ok
Possible precedence issue with control flow operator at /tmp/loop_over_bdir-18172-51llg3/HTTP-MobileAttribute-0.23-66Dq6O/inc/Test/Builder.pm line 917.
t/Plugins/UserID-supports_user_id.t ......... ok
All tests successful.
Files=34, Tests=2904, 2 wallclock secs ( 0.27 usr 0.03 sys + 2.44 cusr 0.21 csys = 2.95 CPU)
Result: PASS
------------------------------
PREREQUISITES
------------------------------
Prerequisite modules loaded:
requires:
Module Need Have
------------------- -------- --------
Class::Component 0.17 0.17
Filter::Util::Call 0 1.49
perl 5.008001 5.019010
UNIVERSAL::require 0.13 0.16
build_requires:
Module Need Have
------------------- -------- --------
ExtUtils::MakeMaker 6.42 6.90
YAML 0 0.90
configure_requires:
Module Need Have
------------------- -------- --------
ExtUtils::MakeMaker 6.42 6.90
------------------------------
ENVIRONMENT AND OTHER CONTEXT
------------------------------
Environment variables:
AUTOMATED_TESTING = 1
LANG = en_US.UTF-8
LANGUAGE = en_US:en
PATH = /usr/lib/ccache:/home/sand/bin:/usr/local/bin:/usr/bin:/bin:/usr/bin/X11:/usr/games:/usr/local/perl/bin:/usr/X11/bin:/sbin:/usr/sbin
PERL5LIB = /tmp/loop_over_bdir-18172-51llg3/FusionInventory-Agent-2.3.5-AxiF2k/blib/arch:/tmp/loop_over_bdir-18172-51llg3/FusionInventory-Agent-2.3.5-AxiF2k/blib/lib
PERL5OPT =
PERL5_CPANPLUS_IS_RUNNING = 9544
PERL5_CPAN_IS_RUNNING = 9544
PERL_MM_USE_DEFAULT = 1
SHELL = /usr/bin/zsh
TERM = screen
Perl special variables (and OS-specific diagnostics, for MSWin32):
$^X = /tmp/basesmoker-reloperl-ZC9K/bin/perl
$UID/$EUID = 1005 / 1005
$GID = 1005 1005
$EGID = 1005 1005
Perl module toolchain versions installed:
Module Have
------------------- --------
CPAN 2.00
CPAN::Meta 2.133380
Cwd 3.47
ExtUtils::CBuilder 0.280216
ExtUtils::Command 1.18
ExtUtils::Install 1.62
ExtUtils::MakeMaker 6.90
ExtUtils::Manifest 1.63
ExtUtils::ParseXS 3.23
File::Spec 3.47
JSON 2.90
JSON::PP 2.27203
Module::Build 0.4205
Module::Signature 0.73
Parse::CPAN::Meta 1.4413
Test::Harness 3.30
Test::More 1.001002
YAML 0.90
YAML::Syck 1.27
version 0.9908
--
Summary of my perl5 (revision 5 version 19 subversion 10) configuration:
Commit id: dca36a0cc0663875200afd26d6396a4bd3f4736e
Platform:
osname=linux, osvers=3.10-3-amd64, archname=x86_64-linux-thread-multi
uname='linux k83 3.10-3-amd64 #1 smp debian 3.10.11-1 (2013-09-10) x86_64 gnulinux '
config_args='-Dprefix=/home/sand/src/perl/repoperls/installed-perls/perl/v5.19.9-28-gdca36a0/9980 -Dmyhostname=k83 -Dinstallusrbinperl=n -Uversiononly -Dusedevel -des -Ui_db -Duseithreads -Uuselongdouble -DDEBUGGING=-g'
hint=recommended, useposix=true, d_sigaction=define
useithreads=define, usemultiplicity=define
use64bitint=define, use64bitall=define, uselongdouble=undef
usemymalloc=n, bincompat5005=undef
Compiler:
cc='cc', ccflags ='-D_REENTRANT -D_GNU_SOURCE -fno-strict-aliasing -pipe -fstack-protector -I/usr/local/include -D_LARGEFILE_SOURCE -D_FILE_OFFSET_BITS=64',
optimize='-O2 -g',
cppflags='-D_REENTRANT -D_GNU_SOURCE -fno-strict-aliasing -pipe -fstack-protector -I/usr/local/include'
ccversion='', gccversion='4.8.2', gccosandvers=''
intsize=4, longsize=8, ptrsize=8, doublesize=8, byteorder=12345678
d_longlong=define, longlongsize=8, d_longdbl=define, longdblsize=16
ivtype='long', ivsize=8, nvtype='double', nvsize=8, Off_t='off_t', lseeksize=8
alignbytes=8, prototype=define
Linker and Libraries:
ld='cc', ldflags =' -fstack-protector -L/usr/local/lib'
libpth=/usr/local/lib /usr/lib/gcc/x86_64-linux-gnu/4.8/include-fixed /usr/include/x86_64-linux-gnu /usr/lib /lib/x86_64-linux-gnu /lib/../lib /usr/lib/x86_64-linux-gnu /usr/lib/../lib /lib
libs=-lnsl -lgdbm -ldb -ldl -lm -lcrypt -lutil -lpthread -lc -lgdbm_compat
perllibs=-lnsl -ldl -lm -lcrypt -lutil -lpthread -lc
libc=libc-2.17.so, so=so, useshrplib=false, libperl=libperl.a
gnulibc_version='2.17'
Dynamic Linking:
dlsrc=dl_dlopen.xs, dlext=so, d_dlsymun=undef, ccdlflags='-Wl,-E'
cccdlflags='-fPIC', lddlflags='-shared -O2 -g -L/usr/local/lib -fstack-protector'
Characteristics of this binary (from libperl):
Compile-time options: HAS_TIMES MULTIPLICITY PERLIO_LAYERS
PERL_DONT_CREATE_GVSV
PERL_HASH_FUNC_ONE_AT_A_TIME_HARD
PERL_IMPLICIT_CONTEXT PERL_MALLOC_WRAP
PERL_NEW_COPY_ON_WRITE PERL_PRESERVE_IVUV
PERL_USE_DEVEL USE_64_BIT_ALL USE_64_BIT_INT
USE_ITHREADS USE_LARGE_FILES USE_LOCALE
USE_LOCALE_COLLATE USE_LOCALE_CTYPE
USE_LOCALE_NUMERIC USE_PERLIO USE_PERL_ATOF
USE_REENTRANT_API
Built under linux
Compiled at Feb 22 2014 15:40:23
%ENV:
PERL5LIB="/tmp/loop_over_bdir-18172-51llg3/FusionInventory-Agent-2.3.5-AxiF2k/blib/arch:/tmp/loop_over_bdir-18172-51llg3/FusionInventory-Agent-2.3.5-AxiF2k/blib/lib"
PERL5OPT=""
PERL5_CPANPLUS_IS_RUNNING="9544"
PERL5_CPAN_IS_RUNNING="9544"
PERL_MM_USE_DEFAULT="1"
@INC:
/tmp/loop_over_bdir-18172-51llg3/FusionInventory-Agent-2.3.5-AxiF2k/blib/arch
/tmp/loop_over_bdir-18172-51llg3/FusionInventory-Agent-2.3.5-AxiF2k/blib/lib
/home/sand/src/perl/repoperls/installed-perls/perl/v5.19.9-28-gdca36a0/9980/lib/site_perl/5.19.10/x86_64-linux-thread-multi
/home/sand/src/perl/repoperls/installed-perls/perl/v5.19.9-28-gdca36a0/9980/lib/site_perl/5.19.10
/home/sand/src/perl/repoperls/installed-perls/perl/v5.19.9-28-gdca36a0/9980/lib/5.19.10/x86_64-linux-thread-multi
/home/sand/src/perl/repoperls/installed-perls/perl/v5.19.9-28-gdca36a0/9980/lib/5.19.10
.