TaskPipe v0.09 Perl 5 v5.24.4 x86_64-linux-thread-multi

Status
Pass
From
Serguei Trouchelle (STRO)
Dist
TaskPipe v0.09
Platform
Perl 5 v5.24.4 x86_64-linux-thread-multi
Date
2018-12-08 16:22:38
ID
7a7acc58-fb05-11e8-b68b-92c722281c79
This distribution has been tested as part of the CPAN Testers
project, supporting the Perl programming language.  See
http://wiki.cpantesters.org/ for more information or email
questions to cpan-testers-discuss@perl.org


--
Dear Tom Gracey,

This is a computer-generated report for TaskPipe-0.09
on perl 5.24.4, created by CPAN-Reporter-1.2018.

Thank you for uploading your work to CPAN.  Congratulations!
All tests were successful.

Sections of this report:

    * Tester comments
    * Program output
    * Prerequisites
    * Environment and other context

------------------------------
TESTER COMMENTS
------------------------------

Additional comments from tester:

this report is from an automated smoke testing program
and was not reviewed by a human for accuracy

------------------------------
PROGRAM OUTPUT
------------------------------

Output from '/usr/bin/make test':

PERL_DL_NONLAZY=1 "/home/stro/perl/5.24.4t/bin/perl" "-MExtUtils::Command::MM" "-MTest::Harness" "-e" "undef *Test::Harness::Switches; test_harness(0, 'blib/lib', 'blib/arch')" t/*.t
t/00_base_modules.t .......... ok
t/01_resume.t ................ skipped: DB info for threaded tests was not provided
t/02_threads.t ............... skipped: DB info for threaded tests was not provided
Running resume mechanism tests. Please be patient - this will take some time
t/03_single_thread_resume.t .. ok
Running plan tests. Please be patient - this will take some time
t/04_plan.t .................. ok
All tests successful.
Files=5, Tests=277, 674 wallclock secs ( 0.11 usr  0.01 sys + 210.08 cusr  4.69 csys = 214.89 CPU)
Result: PASS

------------------------------
PREREQUISITES
------------------------------

Prerequisite modules loaded:

requires:

    Module                                      Need Have    
    ------------------------------------------- ---- --------
    Array::Utils                                0    0.5     
    Carp                                        0    1.50    
    Clone                                       0    0.41    
    Cwd                                         0    3.75    
    Data::Dumper                                0    2.173   
    DateTime                                    0    1.50    
    DateTime::Format::MySQL                     0    0.06    
    DateTime::Format::SQLite                    0    0.11    
    DBIx::Class                                 0    0.082841
    DBIx::Class::Schema::Loader                 0    0.07049 
    DBIx::Error                                 0    1.0.1   
    Digest::MD5                                 0    2.54    
    Fatal                                       0    2.29    
    File::Basename                              0    2.85    
    File::Inplace                               0    0.20    
    File::Path                                  0    2.16    
    File::Path::Expand                          0    1.02    
    File::Save::Home                            0    0.11    
    File::Slurp                                 0    9999.25 
    File::Spec                                  0    3.75    
    Hash::Merge                                 0    0.300   
    IO::Socket::INET                            0    1.35    
    Log::Log4perl                               0    1.49    
    Log::Log4perl::Layout::ColoredPatternLayout 0.01 0.01    
    LWP::UserAgent                              0    6.36    
    Module::Runtime                             0    0.016   
    Moose                                       0    2.2011  
    Moose::Util::TypeConstraints                0    2.2011  
    MooseX::ClassAttribute                      0    0.29    
    MooseX::ConfigCascade                       0.02 0.02    
    Net::EmptyPort                              0    0       
    Path::Tiny                                  0    0.108   
    Pod::POM                                    0    2.01    
    Pod::Term                                   0.02 0.02    
    POSIX                                       0    1.65_01 
    Proc::Background                            0    1.10    
    Proc::Exists                                0    1.01    
    Proc::ProcessTable                          0    0.55    
    Selenium::Remote::Driver                    0    1.30    
    SQL::Translator                             0    0.11024 
    String::CamelCase                           0    0.04    
    Template::Nest                              0.03 0.04    
    Term::ANSIColor                             0    4.04    
    Text::Table::TinyColor                      0    0.002   
    Time::HiRes                                 0    1.9741  
    Try::Tiny                                   0    0.30    
    TryCatch                                    0    1.003002
    URI::Escape                                 0    3.31    
    Web::Scraper                                0    0.38    
  ! WWW::Mechanize::PhantomJS                   0.18 n/a     
    YAML::XS                                    0    0.75    

build_requires:

    Module                                      Need Have    
    ------------------------------------------- ---- --------
    Data::Dumper                                0    2.173   
    ExtUtils::MakeMaker                         0    7.34    
    File::Basename                              0    2.85    
    File::Spec                                  0    3.75    
    Moose                                       0    2.2011  
    MooseX::ConfigCascade                       0    0.02    
    Proc::ProcessTable                          0    0.55    
    Test::More                                  0    1.302140
    Time::HiRes                                 0    1.9741  
    Try::Tiny                                   0    0.30    

configure_requires:

    Module                                      Need Have    
    ------------------------------------------- ---- --------
    ExtUtils::MakeMaker                         0    7.34    


------------------------------
ENVIRONMENT AND OTHER CONTEXT
------------------------------

Environment variables:

    AUTOMATED_TESTING = 1
    LANG = en_US.UTF-8
    PATH = /usr/local/bin:/usr/bin:/bin:/usr/local/games:/usr/games
    PERL5LIB = 
    PERL5OPT = 
    PERL5_CPANPLUS_IS_RUNNING = 23301
    PERL5_CPAN_IS_RUNNING = 23301
    PERL5_CPAN_IS_RUNNING_IN_RECURSION = 30859,23301
    PERL_CR_SMOKER_CURRENT = TaskPipe-0.09
    PERL_EXTUTILS_AUTOINSTALL = --defaultdeps
    PERL_MM_USE_DEFAULT = 1
    SHELL = /bin/bash
    TERM = xterm

Perl special variables (and OS-specific diagnostics, for MSWin32):

    $^X = /home/stro/perl/5.24.4t/bin/perl
    $UID/$EUID = 1000 / 1000
    $GID = 1000 24 25 29 30 44 46 108 114 1000
    $EGID = 1000 24 25 29 30 44 46 108 114 1000

Perl module toolchain versions installed:

    Module              Have    
    ------------------- --------
    CPAN                2.16    
    CPAN::Meta          2.150010
    Cwd                 3.75    
    ExtUtils::CBuilder  0.280230
    ExtUtils::Command   7.34    
    ExtUtils::Install   2.06    
    ExtUtils::MakeMaker 7.34    
    ExtUtils::Manifest  1.70    
    ExtUtils::ParseXS   3.31    
    File::Spec          3.75    
    JSON                2.97001 
    JSON::PP            2.97001 
    Module::Build       0.4224  
    Module::Signature   0.83    
    Parse::CPAN::Meta   2.150010
    Test::Harness       3.42    
    Test::More          1.302140
    YAML                1.26    
    YAML::Syck          1.31    
    version             0.9916  


--

Summary of my perl5 (revision 5 version 24 subversion 4) configuration:
   
  Platform:
    osname=linux, osvers=3.16.0-4-amd64, archname=x86_64-linux-thread-multi
    uname='linux vm-debian-001 3.16.0-4-amd64 #1 smp debian 3.16.7-ckt11-1 (2015-05-24) x86_64 gnulinux '
    config_args=''
    hint=recommended, useposix=true, d_sigaction=define
    useithreads=define, usemultiplicity=define
    use64bitint=define, use64bitall=define, uselongdouble=undef
    usemymalloc=n, bincompat5005=undef
  Compiler:
    cc='cc', ccflags ='-D_REENTRANT -D_GNU_SOURCE -fwrapv -fno-strict-aliasing -pipe -fstack-protector-strong -I/usr/local/include -D_LARGEFILE_SOURCE -D_FILE_OFFSET_BITS=64 -D_FORTIFY_SOURCE=2',
    optimize='-O2',
    cppflags='-D_REENTRANT -D_GNU_SOURCE -fwrapv -fno-strict-aliasing -pipe -fstack-protector-strong -I/usr/local/include'
    ccversion='', gccversion='4.9.2', gccosandvers=''
    intsize=4, longsize=8, ptrsize=8, doublesize=8, byteorder=12345678, doublekind=3
    d_longlong=define, longlongsize=8, d_longdbl=define, longdblsize=16, longdblkind=3
    ivtype='long', ivsize=8, nvtype='double', nvsize=8, Off_t='off_t', lseeksize=8
    alignbytes=8, prototype=define
  Linker and Libraries:
    ld='cc', ldflags =' -fstack-protector-strong -L/usr/local/lib'
    libpth=/usr/local/lib /usr/lib/gcc/x86_64-linux-gnu/4.9/include-fixed /usr/include/x86_64-linux-gnu /usr/lib /lib/x86_64-linux-gnu /lib/../lib /usr/lib/x86_64-linux-gnu /usr/lib/../lib /lib
    libs=-lpthread -lnsl -ldl -lm -lcrypt -lutil -lc
    perllibs=-lpthread -lnsl -ldl -lm -lcrypt -lutil -lc
    libc=libc-2.19.so, so=so, useshrplib=false, libperl=libperl.a
    gnulibc_version='2.19'
  Dynamic Linking:
    dlsrc=dl_dlopen.xs, dlext=so, d_dlsymun=undef, ccdlflags='-Wl,-E'
    cccdlflags='-fPIC', lddlflags='-shared -O2 -L/usr/local/lib -fstack-protector-strong'


Characteristics of this binary (from libperl): 
  Compile-time options: HAS_TIMES MULTIPLICITY PERLIO_LAYERS
                        PERL_COPY_ON_WRITE PERL_DONT_CREATE_GVSV
                        PERL_HASH_FUNC_ONE_AT_A_TIME_HARD
                        PERL_IMPLICIT_CONTEXT PERL_MALLOC_WRAP
                        PERL_PRESERVE_IVUV USE_64_BIT_ALL USE_64_BIT_INT
                        USE_ITHREADS USE_LARGE_FILES USE_LOCALE
                        USE_LOCALE_COLLATE USE_LOCALE_CTYPE
                        USE_LOCALE_NUMERIC USE_LOCALE_TIME USE_PERLIO
                        USE_PERL_ATOF USE_REENTRANT_API
  Built under linux
  Compiled at Apr 18 2018 02:30:32
  %ENV:
    PERL5LIB=""
    PERL5OPT=""
    PERL5_CPANPLUS_IS_RUNNING="23301"
    PERL5_CPAN_IS_RUNNING="23301"
    PERL5_CPAN_IS_RUNNING_IN_RECURSION="30859,23301"
    PERL_CR_SMOKER_CURRENT="TaskPipe-0.09"
    PERL_EXTUTILS_AUTOINSTALL="--defaultdeps"
    PERL_MM_USE_DEFAULT="1"
  @INC:
    /home/stro/perl/5.24.4t/lib/site_perl/5.24.4/x86_64-linux-thread-multi
    /home/stro/perl/5.24.4t/lib/site_perl/5.24.4
    /home/stro/perl/5.24.4t/lib/5.24.4/x86_64-linux-thread-multi
    /home/stro/perl/5.24.4t/lib/5.24.4
    .